{"text_format":"1","workbook":"xlsx","n_sheets":8,"sheets":["Instruções","Retorno dividendos 2016-2021","Retorno dividendos por segmento","Renda de R$ 1.000 por mês","Monte uma carteira de FIIs","Confira os resultados","Sheet1","Lista"],"not_rendered":{"charts":1,"images":0,"macros":1,"external_links":0,"defined_names":11,"comments":0,"pivot_tables":0},"unopened":[],"bounds":{"document_bytes":16777216,"sheet_cells":100000,"rows_first":2000,"rows_last":500,"rows_between":2000,"halvings":0,"cell_chars":16384,"cell_head_chars":4096},"cells_cut":0,"cells_raw":0,"read":"whole","date_system":"1900"}

{"sheet":"Instruções","index":0,"n_rows":0,"n_cols":0,"rows_kept":0,"cut":false,"hidden":false,"merged":[]}

{"sheet":"Retorno dividendos 2016-2021","index":1,"n_rows":97,"n_cols":9,"rows_kept":97,"cut":false,"hidden":false,"merged":[]}
["Código do fundo","Nome do fundo","Segmento","Retorno com dividendos\nJun 16 - Jun 17 (% ao ano)","Retorno com dividendos\nJun 17 - Jun 18  (% ao ano)","Retorno com dividendos\nJun 18 - Jun 19  (% ao ano)","Retorno com dividendos\nJun 19 - Jun 20  (% ao ano)","Retorno com dividendos\nJun 20 - Jun 21  (% ao ano)","Taxa Média\nJun 16 - Jun 21  (% ao ano)"]
["ABCP11","GRAND PLAZA SHOPPING FII ","Shoppings",5.6060606059999997E-2,6.9236111109999998E-2,5.0233966419999998E-2,5.3013962990000003E-2,4.7046902139999999E-2,{"$f":"IFERROR(AVERAGE(D2:H2),0)","v":5.5118309743999991E-2}]
["ALZR11","ALIANZA TRUST RENDA IMOBILIÁRIA FII ","Híbrido","-","-",7.5101816949999997E-2,4.7416945180000003E-2,5.3170138409999998E-2,5.8562966846666668E-2]
["BARI11","BARIGUI RENDIMENTOS IMOBILIÁRIOS I FII ","Recebíveis","-","-","-","-",0.1357894737,0.1357894737]
["BBFI11B","BB PROGRESSIVO FII ","Lajes Corporativas",0.1015258123,0.13324499710000001,9.9584406530000003E-2,0.11382720759999999,0.1197869924,0.11359388318599999]
["BBPO11","BB PROGRESSIVO II FII ","Agências",8.5845440689999997E-2,9.5922262580000001E-2,8.3633841099999995E-2,7.7004052439999998E-2,0.1124062566,9.0962370681999999E-2]
["BCFF11","BTG PACTUAL FUNDO DE FUNDOS FII ","Fundo de Fundos",9.2976246360000001E-2,7.7937553490000006E-2,7.0925159409999994E-2,6.5281958400000006E-2,7.6492340680000007E-2,7.6722651667999991E-2]
["BCIA11","BRADESCO CARTEIRA IMOBILIÁRIA ATIVA FII ","Fundo de Fundos",9.4003737680000005E-2,7.7767441859999994E-2,7.2699207340000002E-2,7.9078292750000001E-2,8.3371514709999997E-2,8.1384038867999997E-2]
["BCRI11","BANESTES RECEBÍVEIS IMOBILIÁRIOS FII ","Recebíveis",0.1100588086,7.889432767E-2,8.3416887450000005E-2,8.4095322589999993E-2,0.10977539629999999,9.3248148521999988E-2]
["BPFF11","BRASIL PLURAL ABSOLUTO FUNDO DE FUNDOS FII ","Fundo de Fundos",8.8529886909999994E-2,9.0593505039999994E-2,7.9376776499999996E-2,9.2505506409999994E-2,8.4699095320000001E-2,8.7140954036000001E-2]
["BRCO11","BRESCO LOGÍSTICA FII ","Logística","-","-","-","-",6.5342302389999996E-2,6.5342302389999996E-2]
["BRCR11","BTG PACTUAL CORPORATE OFFICE FUND FII ","Lajes Corporativas",9.1415985620000001E-2,5.2367902860000003E-2,0.1634588136,6.2969032189999996E-2,6.9408448979999995E-2,8.7924036650000009E-2]
["BTCR11","BTG PACTUAL CRÉDITO IMOBILIÁRIO FII ","Recebíveis","-","-","-",7.2415212650000005E-2,6.7266646420000006E-2,6.9840929535000013E-2]
["BTLG11","BTG PACTUAL LOGÍSTICA FII ","Logística",8.2497809970000002E-2,5.8858877490000003E-2,4.1394588920000003E-2,5.3198255620000003E-2,6.4880085470000001E-2,6.0165923494000004E-2]
["BZLI11","BRAZIL REALTY FII ","Híbrido","-","-",0,0,0,0]
["CPFF11","CAPITÂNIA REIT FOF FII ","Fundo de Fundos","-","-","-","-",8.6277831560000004E-2,8.6277831560000004E-2]
["CPTS11","CAPITÂNIA SECURITIES II FII ","Recebíveis",0.1293393783,9.1137207669999998E-2,8.8886776309999999E-2,7.5921868919999996E-2,0.1077050088,9.8598048000000008E-2]
["CVBI11","VBI CRI FII ","Recebíveis","-","-","-","-",0.1208712315,0.1208712315]
["DEVA11","DEVANT RECEBÍVEIS IMOBILIÁRIOS FII ","Recebíveis","-","-","-","-",0.1169,0.1169]
["FIGS11","GENERAL SHOPPING ATIVO E RENDA FII ","Shoppings",0.12903225809999999,0.14492753620000001,0.13305738719999999,5.4476635660000002E-2,3.292247811E-2,9.8883259054E-2]
["FIIB11","INDUSTRIAL DO BRASIL FII ","Logística",8.3331788209999993E-2,7.3711208E-2,6.8207343409999996E-2,6.1422764230000003E-2,6.6080209129999998E-2,7.0550662595999999E-2]
["FLMA11","CONTINENTAL SQUARE FARIA LIMA FII ","Híbrido",6.8447488579999993E-2,6.0652173910000003E-2,4.5467032970000001E-2,4.6846846849999998E-2,3.5760916869999999E-2,5.1434891835999995E-2]
["GGRC11","GGR COVEPI RENDA FII ","Logística","-",7.3765870119999993E-2,6.9175368220000005E-2,6.3713547430000003E-2,7.1902762199999998E-2,6.9639386992499996E-2]
["GTWR11","GREEN TOWERS FII ","Lajes Corporativas","-","-","-",6.7937931610000002E-2,8.1164761899999993E-2,7.4551346754999998E-2]
["HABT11","HABITAT RECEBÍVEIS PULVERIZADOS FII ","Recebíveis","-","-","-","-",0.12640449440000001,0.12640449440000001]
["HCTR11","HECTARE CE FII ","Recebíveis","-","-","-","-",0.16138536279999999,0.16138536279999999]
["HFOF11","HEDGE TOP FOFII 3 FII ","Fundo de Fundos","-","-",8.550605251E-2,8.3367677210000005E-2,7.6613415399999996E-2,8.1829048373333338E-2]
["HGBS11","HEDGE BRASIL SHOPPING FII ","Shoppings",7.4653098979999999E-2,6.9178082190000004E-2,6.0287028649999998E-2,6.8839499989999997E-2,2.7619094930000001E-2,6.0115360947999998E-2]
["HGCR11","CSHG RECEBÍVEIS IMOBILIÁRIOS FII ","Recebíveis",0.10707648190000001,8.3413052969999998E-2,7.6621349859999993E-2,7.1085328880000007E-2,6.8575965399999994E-2,8.1354435801999997E-2]
["HGFF11","CSHG IMOBILIÁRIO FOF FII ","Fundo de Fundos","-","-","-","-",8.4867812619999997E-2,8.4867812619999997E-2]
["HGLG11","CSHG LOGÍSTICA FII ","Logística",8.3855421690000001E-2,8.2169616469999998E-2,5.8435390179999998E-2,4.8804885749999999E-2,6.6432263899999996E-2,6.7939515598000003E-2]
["HGPO11","CSHG PRIME OFFICES FII ","Lajes Corporativas",6.8603773579999999E-2,0.06,4.9210526320000003E-2,5.0825242719999997E-2,5.3821435030000003E-2,5.6492195529999997E-2]
["HGRE11","CSHG REAL ESTATE FII ","Lajes Corporativas",8.2547169810000001E-2,8.7582781459999995E-2,5.570093458E-2,5.7993143259999998E-2,6.1359045680000002E-2,6.9036614957999995E-2]
["HGRU11","CSHG RENDA URBANA FII ","Híbrido","-","-","-",6.2347695080000001E-2,6.9907720209999996E-2,{"$f":"IFERROR(AVERAGE(D34:H34),0)","v":6.6127707645000006E-2}]
["HSLG11","HSI LOGÍSTICA FII ","Logística","-","-","-","-",3.8300000000000001E-2,3.8300000000000001E-2]
["HSML11","HSI MALLS FII ","Shoppings","-","-","-","-",4.5525727070000001E-2,4.5525727070000001E-2]
["HTMX11","HOTEL MAXINVEST FII ","Hotel",5.4271705650000002E-2,6.1339619839999998E-2,5.5681057970000003E-2,4.9512338509999997E-2,0,4.4160944394E-2]
["IRDM11","IRIDIUM RECEBÍVEIS FII ","Recebíveis","-","-",8.1966834299999999E-2,8.0764493739999998E-2,0.1053493747,8.936023424666667E-2]
["JSRE11","JS REAL ESTATE MULTIGESTÃO FII ","Lajes Corporativas",0.1033386328,7.4476414170000005E-2,5.9915687510000003E-2,5.9600912989999998E-2,7.0167597770000006E-2,7.3499849047999999E-2]
["KFOF11","KINEA FUNDO DE FUNDOS IMOBILIÁRIOS FII ","Fundo de Fundos","-","-","-",5.7078651690000003E-2,7.4947710900000006E-2,6.6013181295000001E-2]
["KNCR11","KINEA RENDIMENTOS IMOBILIÁRIOS FII ","Recebíveis",0.11834264429999999,7.2056074770000006E-2,6.7332382309999994E-2,6.2337662340000002E-2,4.011111111E-2,7.2035974965999991E-2]
["KNHY11","KINEA HIGH YIELD CRI FII ","Recebíveis","-","-","-",7.1272727270000003E-2,0.10107526880000001,8.6173998035000005E-2]
["KNIP11","KINEA ÍNDICES DE PREÇOS FII ","Recebíveis","-",7.3779689549999999E-2,7.2427983540000004E-2,7.200361827E-2,0.1067852129,8.1249126064999996E-2]
["KNRI11","KINEA RENDA IMOBILIÁRIA FII ","Híbrido",7.394507703E-2,7.3829742439999999E-2,6.0818258450000003E-2,5.0964839589999998E-2,5.7715893509999998E-2,6.3454762203999995E-2]
["KNSC11","KINEA SECURITIES FII ","Recebíveis","-","-","-","-",3.8300000000000001E-2,3.8300000000000001E-2]
["LVBI11","VBI LOGISTICO FII ","Logística","-","-","-",5.8956415349999999E-2,6.0638245889999998E-2,5.9797330619999998E-2]
["MALL11","MALLS BRASIL PLURAL FII ","Shoppings","-","-",7.3080660840000006E-2,6.2097864859999997E-2,5.387840671E-2,6.3018977470000001E-2]
["MCCI11","MAUÁ CAPITAL RECEBÍVEIS IMOBILIÁRIOS FII ","Recebíveis","-","-","-","-",7.7247832239999994E-2,7.7247832239999994E-2]
["MFII11","MÉRITO DESENVOLVIMENTO IMOBILIÁRIO I FII ","Desenvolvimento",0.1169249537,0.1202251203,8.2706543150000006E-2,9.9760383389999999E-2,0.1073400275,0.10539140560800001]
["MGFF11","MOGNO FOF FII ","Fundo de Fundos","-","-",7.4304068289999997E-2,8.1381722399999995E-2,8.6783845179999999E-2,8.0823211956666655E-2]
["MXRF11","MAXI RENDA FII ","Recebíveis",0.1058116232,7.8350515460000006E-2,7.237988024E-2,8.8090194580000003E-2,8.4061344639999994E-2,8.5738711624E-2]
["OUJP11","OURINVEST JPP FII ","Híbrido","-",9.5500928989999997E-2,8.8948330719999996E-2,7.1922517150000004E-2,7.8948596339999996E-2,8.3830093300000005E-2]
["OULG11","OURINVEST LOGÍSTICA FII ","Logística","-","-","-",8.5396317530000002E-2,9.9879210809999994E-2,9.2637764169999998E-2]
["PATC11","PÁTRIA EDIFÍCIOS CORPORATIVOS FII ","Lajes Corporativas","-","-","-",4.1284788400000001E-2,4.4039530569999999E-2,4.2662159485000004E-2]
["PATL11","PÁTRIA LOGÍSTICA FII ","Logística","-","-","-","-",6.6900000000000001E-2,6.6900000000000001E-2]
["PLCR11","PLURAL RECEBÍVEIS IMOBILIÁRIOS FII ","Recebíveis","-","-","-","-",8.1518824409999996E-2,8.1518824409999996E-2]
["PORD11","POLO RECEBÍVEIS IMOBILIÁRIOS II FII ","Recebíveis",0.14054054050000001,8.9731003340000004E-2,0.10808210679999999,0.11658370699999999,9.9063841860000001E-2,0.11080023990000001]
["PVBI11","VBI PRIME PROPERTIES FII ","Lajes Corporativas","-","-","-","-",5.2499999999999998E-2,0]
["QAGR11","QUASAR AGRO FII ","Logística","-","-","-","-",5.1057403750000001E-2,{"$f":"IFERROR(AVERAGE(D59:H59),0)","v":5.1057403750000001E-2}]
["RBED11","RIO BRAVO RENDA EDUCACIONAL FII ","Educacional",9.4674151149999997E-2,9.4098984770000005E-2,8.0437158470000006E-2,6.613054954E-2,8.5878771539999996E-2,8.4243923094000001E-2]
["RBFF11","RIO BRAVO FUNDO DE FUNDOS FII ","Fundo de Fundos",8.8973219780000001E-2,8.2760345040000002E-2,7.1376811590000006E-2,0.107869044,9.326969047E-2,8.8849822176000001E-2]
["RBRD11","RB CAPITAL RENDA II FII ","Híbrido",9.9562650599999997E-2,0.1044557117,8.8924144770000005E-2,9.3378552330000003E-2,0.31620495869999998,0.14050520361999999]
["RBRF11","RBR ALPHA MULTIESTRATÉGIA REAL ESTATE FII ","Fundo de Fundos","-","-",8.7246341869999994E-2,8.115856833E-2,9.3652413549999994E-2,8.7352441249999982E-2]
["RBRP11","RBR PROPERTIES FII ","Lajes Corporativas","-","-","-",5.2947049320000002E-2,7.3580111209999993E-2,6.3263580264999994E-2]
["RBRR11","RBR RENDIMENTO HIGH GRADE FII ","Recebíveis","-","-",7.0367070039999993E-2,6.859505279E-2,7.1992871269999995E-2,7.0318331366666653E-2]
["RBVA11","RIO BRAVO RENDA VAREJO FII ","Agências",7.7602078690000006E-2,8.7075471700000004E-2,6.8526402269999995E-2,7.7589059299999999E-2,9.2954979559999998E-2,8.0749598303999998E-2]
["RCRB11","RIO BRAVO RENDA CORPORATIVA FII ","Lajes Corporativas",8.4475138120000001E-2,7.6716764770000001E-2,4.0526315790000003E-2,5.1920739039999997E-2,7.0863309350000001E-2,6.4900453413999998E-2]
["RECR11","REC RECEBÍVEIS IMOBILIÁRIOS FII ","Recebíveis","-","-",0.11434015390000001,9.0004702739999998E-2,0.1266364374,0.11032709801333333]
["RECT11","REC RENDA IMOBILIÁRIA FII ","Híbrido","-","-","-",9.6143156830000007E-2,0.1089382216,0.10254068921500001]
["RFOF11","RB CAPITAL I FUNDO DE FUNDOS FII ","Fundo de Fundos","-","-","-","-",7.9844679040000005E-2,7.9844679040000005E-2]
["RNGO11","RIO NEGRO FII ","Lajes Corporativas",8.4740078260000004E-2,8.0520130029999998E-2,7.2808876699999997E-2,7.2033362820000002E-2,8.2821093499999998E-2,7.8584708261999994E-2]
["RVBI11","VBI REITS FOF FII ","Fundo de Fundos","-","-","-","-",8.8059701490000003E-2,8.8059701490000003E-2]
["RZTR11","RIZA TERRAX FII ","Rural","-","-","-","-",6.4100000000000004E-2,6.4100000000000004E-2]
["SADI11","SANTANDER PAPÉIS IMOBILIÁRIOS CDI FII ","Recebíveis","-","-","-","-",2.8635294120000002E-2,2.8635294120000002E-2]
["SARE11","SANTANDER RENDA DE ALUGUÉIS FII ","Híbrido","-","-","-","-",4.8808473909999997E-2,4.8808473909999997E-2]
["SDIL11","SDI RIO BRAVO RENDA LOGÍSTICA FII ","Logística",7.5977653630000003E-2,8.7469879520000002E-2,6.5307648230000001E-2,6.0498103599999999E-2,7.420752169E-2,7.2692161333999999E-2]
["SPTW11","SP DOWNTOWN FII ","Lajes Corporativas",0.10574074059999999,8.954293629E-2,7.9745541289999999E-2,0.1063012295,0.19626301530000001,0.11551869259599998]
["TEPP11","TELLUS PROPERTIES FII ","Lajes Corporativas","-","-","-","-",7.4107142860000003E-2,7.4107142860000003E-2]
["TGAR11","TG ATIVO REAL FII ","Híbrido","-","-",7.5880472579999997E-2,8.2417264779999999E-2,0.105432163,8.7909966786666668E-2]
["TORD11","TORDESILHAS EI FII ","Híbrido","-","-","-","-",0.1213774509,0.1213774509]
["TRXF11","TRX REAL ESTATE FII ","Híbrido","-","-","-","-",7.4681590519999994E-2,7.4681590519999994E-2]
["URPR11","URCA PRIME RENDA FII ","Recebíveis","-","-","-","-",0.1905,0.1905]
["VCJR11","VECTIS JUROS REAL FII ","Recebíveis","-","-","-","-",9.2388451440000005E-2,9.2388451440000005E-2]
["VGIP11","VALORA CRI ÍNDICE DE PREÇO FII ","Recebíveis","-","-","-","-",0.11481052310000001,0.11481052310000001]
["VGIR11","VALORA RE III FII ","Recebíveis","-","-","-",8.6174625690000006E-2,6.1338061370000002E-2,7.3756343530000004E-2]
["VILG11","VINCI LOGÍSTICA FII ","Logística","-","-","-",5.9227800470000001E-2,6.015114806E-2,5.9689474265E-2]
["VINO11","VINCI OFFICES FII ","Lajes Corporativas","-","-","-","-",8.1428811429999998E-2,8.1428811429999998E-2]
["VISC11","VINCI SHOPPING CENTERS FII ","Shoppings","-","-",6.6582515189999997E-2,6.8075052799999994E-2,3.7616822430000002E-2,5.7424796806666671E-2]
["VRTA11","FATOR VERITA FII ","Recebíveis",0.12494894970000001,8.2958801499999998E-2,8.0113100849999994E-2,8.0164066630000003E-2,8.8412408760000005E-2,9.1319465488000004E-2]
["VTLT11","VOTORANTIM LOGÍSTICA FII ","Logística","-","-",8.1482072269999997E-2,8.089469027E-2,7.8460718779999994E-2,8.0279160439999997E-2]
["XPCI11","XP CRÉDITO IMOBILIÁRIO FII ","Recebíveis","-","-","-","-",8.7064676620000003E-2,8.7064676620000003E-2]
["XPCM11","XP CORPORATE MACAÉ FII ","Lajes Corporativas",0.10575620769999999,0.10236822,9.6195121950000004E-2,0.1581858407,0.21336515510000001,0.13517410908999999]
["XPIN11","XP INDUSTRIAL FII ","Logística","-","-","-",5.947849509E-2,7.4049548019999994E-2,6.6764021554999997E-2]
["XPLG11","XP LOG FII ","Logística","-","-",6.6920557259999999E-2,5.4590877240000002E-2,6.6211304169999999E-2,6.2574246223333338E-2]
["XPML11","XP MALLS FII ","Shoppings","-","-",5.9272658479999997E-2,4.5842425380000003E-2,3.7629426620000003E-2,4.7581503493333337E-2]
["XPPR11","XP PROPERTIES FII ","Híbrido","-","-","-","-",0.1110455503,0.1110455503]
["XPSF11","XP SELECTION FUNDO DE FUNDOS FII ","Fundo de Fundos","-","-","-","-",9.5484993200000007E-2,9.5484993200000007E-2]

{"sheet":"Retorno dividendos por segmento","index":2,"n_rows":12,"n_cols":8,"rows_kept":12,"cut":false,"hidden":false,"merged":[]}
["Segmento dos FIIs","Retorno com dividendos\nJun 16 - Jun 17 (% ao ano)","Retorno com dividendos\nJun 17 - Jun 18  (% ao ano)","Retorno com dividendos\nJun 18 - Jun 19  (% ao ano)","Retorno com dividendos\nJun 19 - Jun 20  (% ao ano)","Retorno com dividendos\nJun 20 - Jun 21  (% ao ano)","Taxa Média\nJun 16 - Jun 21  (% ao ano)","Quantidade de fundos"]
["Shoppings",{"$f":"IFERROR(AVERAGEIF('Retorno dividendos 2016-2021'!$C:$C,'Retorno dividendos por segmento'!$A2,'Retorno dividendos 2016-2021'!D:D),\"-\")","v":8.6581987713333322E-2},{"$f":"IFERROR(AVERAGEIF('Retorno dividendos 2016-2021'!$C:$C,'Retorno dividendos por segmento'!$A2,'Retorno dividendos 2016-2021'!E:E),\"-\")","v":9.4447243166666681E-2},{"$f":"IFERROR(AVERAGEIF('Retorno dividendos 2016-2021'!$C:$C,'Retorno dividendos por segmento'!$A2,'Retorno dividendos 2016-2021'!F:F),\"-\")","v":7.3752369463333328E-2},{"$f":"IFERROR(AVERAGEIF('Retorno dividendos 2016-2021'!$C:$C,'Retorno dividendos por segmento'!$A2,'Retorno dividendos 2016-2021'!G:G),\"-\")","v":5.8724240279999999E-2},{"$f":"IFERROR(AVERAGEIF('Retorno dividendos 2016-2021'!$C:$C,'Retorno dividendos por segmento'!$A2,'Retorno dividendos 2016-2021'!H:H),\"-\")","v":4.0319836858571427E-2},{"$f":"AVERAGE(B2:F2)","v":7.0765135496380943E-2},{"$f":"COUNTIF('Retorno dividendos 2016-2021'!C:C,'Retorno dividendos por segmento'!A2)","v":7}]
["Híbrido",{"$f":"IFERROR(AVERAGEIF('Retorno dividendos 2016-2021'!$C:$C,'Retorno dividendos por segmento'!$A3,'Retorno dividendos 2016-2021'!D:D),\"-\")","v":8.0651738736666659E-2},{"$f":"IFERROR(AVERAGEIF('Retorno dividendos 2016-2021'!$C:$C,'Retorno dividendos por segmento'!$A3,'Retorno dividendos 2016-2021'!E:E),\"-\")","v":8.3609639260000007E-2},{"$f":"IFERROR(AVERAGEIF('Retorno dividendos 2016-2021'!$C:$C,'Retorno dividendos por segmento'!$A3,'Retorno dividendos 2016-2021'!F:F),\"-\")","v":6.2162865205714284E-2},{"$f":"IFERROR(AVERAGEIF('Retorno dividendos 2016-2021'!$C:$C,'Retorno dividendos por segmento'!$A3,'Retorno dividendos 2016-2021'!G:G),\"-\")","v":6.1270868643333344E-2},{"$f":"IFERROR(AVERAGEIF('Retorno dividendos 2016-2021'!$C:$C,'Retorno dividendos por segmento'!$A3,'Retorno dividendos 2016-2021'!H:H),\"-\")","v":9.0922436482307703E-2},7.5723509665604399E-2,{"$f":"COUNTIF('Retorno dividendos 2016-2021'!C:C,'Retorno dividendos por segmento'!A3)","v":13}]
["Recebíveis",{"$f":"IFERROR(AVERAGEIF('Retorno dividendos 2016-2021'!$C:$C,'Retorno dividendos por segmento'!$A4,'Retorno dividendos 2016-2021'!D:D),\"-\")","v":0.1194454895},{"$f":"IFERROR(AVERAGEIF('Retorno dividendos 2016-2021'!$C:$C,'Retorno dividendos por segmento'!$A4,'Retorno dividendos 2016-2021'!E:E),\"-\")","v":8.1290084116250008E-2},{"$f":"IFERROR(AVERAGEIF('Retorno dividendos 2016-2021'!$C:$C,'Retorno dividendos por segmento'!$A4,'Retorno dividendos 2016-2021'!F:F),\"-\")","v":8.3266775054545439E-2},{"$f":"IFERROR(AVERAGEIF('Retorno dividendos 2016-2021'!$C:$C,'Retorno dividendos por segmento'!$A4,'Retorno dividendos 2016-2021'!G:G),\"-\")","v":7.9964898863571429E-2},{"$f":"IFERROR(AVERAGEIF('Retorno dividendos 2016-2021'!$C:$C,'Retorno dividendos por segmento'!$A4,'Retorno dividendos 2016-2021'!H:H),\"-\")","v":9.6665374594814835E-2},9.212652442583634E-2,{"$f":"COUNTIF('Retorno dividendos 2016-2021'!C:C,'Retorno dividendos por segmento'!A4)","v":27}]
["Fundo de Fundos",{"$f":"IFERROR(AVERAGEIF('Retorno dividendos 2016-2021'!$C:$C,'Retorno dividendos por segmento'!$A5,'Retorno dividendos 2016-2021'!D:D),\"-\")","v":9.1120772682500004E-2},{"$f":"IFERROR(AVERAGEIF('Retorno dividendos 2016-2021'!$C:$C,'Retorno dividendos por segmento'!$A5,'Retorno dividendos 2016-2021'!E:E),\"-\")","v":8.2264711357499992E-2},{"$f":"IFERROR(AVERAGEIF('Retorno dividendos 2016-2021'!$C:$C,'Retorno dividendos por segmento'!$A5,'Retorno dividendos 2016-2021'!F:F),\"-\")","v":7.7347773930000002E-2},{"$f":"IFERROR(AVERAGEIF('Retorno dividendos 2016-2021'!$C:$C,'Retorno dividendos por segmento'!$A5,'Retorno dividendos 2016-2021'!G:G),\"-\")","v":8.0965177648749997E-2},{"$f":"IFERROR(AVERAGEIF('Retorno dividendos 2016-2021'!$C:$C,'Retorno dividendos por segmento'!$A5,'Retorno dividendos 2016-2021'!H:H),\"-\")","v":8.4951157239999991E-2},8.3329918571750011E-2,{"$f":"COUNTIF('Retorno dividendos 2016-2021'!C:C,'Retorno dividendos por segmento'!A5)","v":13}]
["Lajes Corporativas",{"$f":"IFERROR(AVERAGEIF('Retorno dividendos 2016-2021'!$C:$C,'Retorno dividendos por segmento'!$A6,'Retorno dividendos 2016-2021'!D:D),\"-\")","v":9.2015948754444452E-2},{"$f":"IFERROR(AVERAGEIF('Retorno dividendos 2016-2021'!$C:$C,'Retorno dividendos por segmento'!$A6,'Retorno dividendos 2016-2021'!E:E),\"-\")","v":8.4091127408888883E-2},{"$f":"IFERROR(AVERAGEIF('Retorno dividendos 2016-2021'!$C:$C,'Retorno dividendos por segmento'!$A6,'Retorno dividendos 2016-2021'!F:F),\"-\")","v":7.9682913807777783E-2},{"$f":"IFERROR(AVERAGEIF('Retorno dividendos 2016-2021'!$C:$C,'Retorno dividendos por segmento'!$A6,'Retorno dividendos 2016-2021'!G:G),\"-\")","v":7.4652206679166666E-2},{"$f":"IFERROR(AVERAGEIF('Retorno dividendos 2016-2021'!$C:$C,'Retorno dividendos por segmento'!$A6,'Retorno dividendos 2016-2021'!H:H),\"-\")","v":8.9645096738666649E-2},8.4017458677788898E-2,{"$f":"COUNTIF('Retorno dividendos 2016-2021'!C:C,'Retorno dividendos por segmento'!A6)","v":15}]
["Logística",{"$f":"IFERROR(AVERAGEIF('Retorno dividendos 2016-2021'!$C:$C,'Retorno dividendos por segmento'!$A7,'Retorno dividendos 2016-2021'!D:D),\"-\")","v":8.1415668375E-2},{"$f":"IFERROR(AVERAGEIF('Retorno dividendos 2016-2021'!$C:$C,'Retorno dividendos por segmento'!$A7,'Retorno dividendos 2016-2021'!E:E),\"-\")","v":7.5195090320000005E-2},{"$f":"IFERROR(AVERAGEIF('Retorno dividendos 2016-2021'!$C:$C,'Retorno dividendos por segmento'!$A7,'Retorno dividendos 2016-2021'!F:F),\"-\")","v":6.4417566927142858E-2},{"$f":"IFERROR(AVERAGEIF('Retorno dividendos 2016-2021'!$C:$C,'Retorno dividendos por segmento'!$A7,'Retorno dividendos 2016-2021'!G:G),\"-\")","v":6.2380195689090916E-2},{"$f":"IFERROR(AVERAGEIF('Retorno dividendos 2016-2021'!$C:$C,'Retorno dividendos por segmento'!$A7,'Retorno dividendos 2016-2021'!H:H),\"-\")","v":6.6966181617333323E-2},7.0074940585713424E-2,{"$f":"COUNTIF('Retorno dividendos 2016-2021'!C:C,'Retorno dividendos por segmento'!A7)","v":15}]
["Hotel",{"$f":"IFERROR(AVERAGEIF('Retorno dividendos 2016-2021'!$C:$C,'Retorno dividendos por segmento'!$A8,'Retorno dividendos 2016-2021'!D:D),\"-\")","v":5.4271705650000002E-2},{"$f":"IFERROR(AVERAGEIF('Retorno dividendos 2016-2021'!$C:$C,'Retorno dividendos por segmento'!$A8,'Retorno dividendos 2016-2021'!E:E),\"-\")","v":6.1339619839999998E-2},{"$f":"IFERROR(AVERAGEIF('Retorno dividendos 2016-2021'!$C:$C,'Retorno dividendos por segmento'!$A8,'Retorno dividendos 2016-2021'!F:F),\"-\")","v":5.5681057970000003E-2},{"$f":"IFERROR(AVERAGEIF('Retorno dividendos 2016-2021'!$C:$C,'Retorno dividendos por segmento'!$A8,'Retorno dividendos 2016-2021'!G:G),\"-\")","v":4.9512338509999997E-2},{"$f":"IFERROR(AVERAGEIF('Retorno dividendos 2016-2021'!$C:$C,'Retorno dividendos por segmento'!$A8,'Retorno dividendos 2016-2021'!H:H),\"-\")","v":0},4.4160944394E-2,{"$f":"COUNTIF('Retorno dividendos 2016-2021'!C:C,'Retorno dividendos por segmento'!A8)","v":1}]
["Educacional",{"$f":"IFERROR(AVERAGEIF('Retorno dividendos 2016-2021'!$C:$C,'Retorno dividendos por segmento'!$A9,'Retorno dividendos 2016-2021'!D:D),\"-\")","v":9.4674151149999997E-2},{"$f":"IFERROR(AVERAGEIF('Retorno dividendos 2016-2021'!$C:$C,'Retorno dividendos por segmento'!$A9,'Retorno dividendos 2016-2021'!E:E),\"-\")","v":9.4098984770000005E-2},{"$f":"IFERROR(AVERAGEIF('Retorno dividendos 2016-2021'!$C:$C,'Retorno dividendos por segmento'!$A9,'Retorno dividendos 2016-2021'!F:F),\"-\")","v":8.0437158470000006E-2},{"$f":"IFERROR(AVERAGEIF('Retorno dividendos 2016-2021'!$C:$C,'Retorno dividendos por segmento'!$A9,'Retorno dividendos 2016-2021'!G:G),\"-\")","v":6.613054954E-2},{"$f":"IFERROR(AVERAGEIF('Retorno dividendos 2016-2021'!$C:$C,'Retorno dividendos por segmento'!$A9,'Retorno dividendos 2016-2021'!H:H),\"-\")","v":8.5878771539999996E-2},8.4243923094000001E-2,{"$f":"COUNTIF('Retorno dividendos 2016-2021'!C:C,'Retorno dividendos por segmento'!A9)","v":1}]
["Agências",{"$f":"IFERROR(AVERAGEIF('Retorno dividendos 2016-2021'!$C:$C,'Retorno dividendos por segmento'!$A10,'Retorno dividendos 2016-2021'!D:D),\"-\")","v":8.1723759690000009E-2},{"$f":"IFERROR(AVERAGEIF('Retorno dividendos 2016-2021'!$C:$C,'Retorno dividendos por segmento'!$A10,'Retorno dividendos 2016-2021'!E:E),\"-\")","v":9.1498867139999995E-2},{"$f":"IFERROR(AVERAGEIF('Retorno dividendos 2016-2021'!$C:$C,'Retorno dividendos por segmento'!$A10,'Retorno dividendos 2016-2021'!F:F),\"-\")","v":7.6080121685000002E-2},{"$f":"IFERROR(AVERAGEIF('Retorno dividendos 2016-2021'!$C:$C,'Retorno dividendos por segmento'!$A10,'Retorno dividendos 2016-2021'!G:G),\"-\")","v":7.7296555870000005E-2},{"$f":"IFERROR(AVERAGEIF('Retorno dividendos 2016-2021'!$C:$C,'Retorno dividendos por segmento'!$A10,'Retorno dividendos 2016-2021'!H:H),\"-\")","v":0.10268061808000001},8.5855984492999998E-2,{"$f":"COUNTIF('Retorno dividendos 2016-2021'!C:C,'Retorno dividendos por segmento'!A10)","v":2}]
["Rural",{"$f":"IFERROR(AVERAGEIF('Retorno dividendos 2016-2021'!$C:$C,'Retorno dividendos por segmento'!$A11,'Retorno dividendos 2016-2021'!D:D),\"-\")","v":"-"},{"$f":"IFERROR(AVERAGEIF('Retorno dividendos 2016-2021'!$C:$C,'Retorno dividendos por segmento'!$A11,'Retorno dividendos 2016-2021'!E:E),\"-\")","v":"-"},{"$f":"IFERROR(AVERAGEIF('Retorno dividendos 2016-2021'!$C:$C,'Retorno dividendos por segmento'!$A11,'Retorno dividendos 2016-2021'!F:F),\"-\")","v":"-"},{"$f":"IFERROR(AVERAGEIF('Retorno dividendos 2016-2021'!$C:$C,'Retorno dividendos por segmento'!$A11,'Retorno dividendos 2016-2021'!G:G),\"-\")","v":"-"},{"$f":"IFERROR(AVERAGEIF('Retorno dividendos 2016-2021'!$C:$C,'Retorno dividendos por segmento'!$A11,'Retorno dividendos 2016-2021'!H:H),\"-\")","v":6.4100000000000004E-2},6.4100000000000004E-2,{"$f":"COUNTIF('Retorno dividendos 2016-2021'!C:C,'Retorno dividendos por segmento'!A11)","v":1}]
["Desenvolvimento",{"$f":"IFERROR(AVERAGEIF('Retorno dividendos 2016-2021'!$C:$C,'Retorno dividendos por segmento'!$A12,'Retorno dividendos 2016-2021'!D:D),\"-\")","v":0.1169249537},{"$f":"IFERROR(AVERAGEIF('Retorno dividendos 2016-2021'!$C:$C,'Retorno dividendos por segmento'!$A12,'Retorno dividendos 2016-2021'!E:E),\"-\")","v":0.1202251203},{"$f":"IFERROR(AVERAGEIF('Retorno dividendos 2016-2021'!$C:$C,'Retorno dividendos por segmento'!$A12,'Retorno dividendos 2016-2021'!F:F),\"-\")","v":8.2706543150000006E-2},{"$f":"IFERROR(AVERAGEIF('Retorno dividendos 2016-2021'!$C:$C,'Retorno dividendos por segmento'!$A12,'Retorno dividendos 2016-2021'!G:G),\"-\")","v":9.9760383389999999E-2},{"$f":"IFERROR(AVERAGEIF('Retorno dividendos 2016-2021'!$C:$C,'Retorno dividendos por segmento'!$A12,'Retorno dividendos 2016-2021'!H:H),\"-\")","v":0.1073400275},0.10539140560800001,{"$f":"COUNTIF('Retorno dividendos 2016-2021'!C:C,'Retorno dividendos por segmento'!A12)","v":1}]

{"sheet":"Renda de R$ 1.000 por mês","index":3,"n_rows":97,"n_cols":7,"rows_kept":97,"cut":false,"hidden":false,"merged":[]}
["Código do fundo","Nome do fundo","Segmento","Retorno com dividendos\nJun 20 - Jun 21 (% ao ano)","Investimento necessário para obter renda mensal de R$ 1.000 (Jun 20 - Jun 21)","Retorno com dividendos\nJun 16 - Jun 21 (% ao ano)","Investimento necessário para obter renda mensal de R$ 1.000 (Jun 16 - Jun 21)"]
["ABCP11","GRAND PLAZA SHOPPING FII ","Shoppings",{"$f":"VLOOKUP(A2,'Retorno dividendos 2016-2021'!A:I,8,0)","v":4.7046902139999999E-2},{"$f":"IFERROR(12000/D2,0)","v":255064.61539786306},{"$f":"VLOOKUP(A2,'Retorno dividendos 2016-2021'!A:I,9,0)","v":5.5118309743999991E-2},{"$f":"IFERROR(12000/F2,0)","v":217713.49766955222}]
["ALZR11","ALIANZA TRUST RENDA IMOBILIÁRIA FII ","Híbrido",{"$f":"VLOOKUP(A3,'Retorno dividendos 2016-2021'!A:I,8,0)","v":5.3170138409999998E-2},225690.59172776376,{"$f":"VLOOKUP(A3,'Retorno dividendos 2016-2021'!A:I,9,0)","v":5.8562966846666668E-2},204907.6514757043]
["BARI11","BARIGUI RENDIMENTOS IMOBILIÁRIOS I FII ","Recebíveis",{"$f":"VLOOKUP(A4,'Retorno dividendos 2016-2021'!A:I,8,0)","v":0.1357894737},88372.093012979996,{"$f":"VLOOKUP(A4,'Retorno dividendos 2016-2021'!A:I,9,0)","v":0.1357894737},88372.093012979996]
["BBFI11B","BB PROGRESSIVO FII ","Lajes Corporativas",{"$f":"VLOOKUP(A5,'Retorno dividendos 2016-2021'!A:I,8,0)","v":0.1197869924},100177.82197860742,{"$f":"VLOOKUP(A5,'Retorno dividendos 2016-2021'!A:I,9,0)","v":0.11359388318599999},105639.49099575244]
["BBPO11","BB PROGRESSIVO II FII ","Agências",{"$f":"VLOOKUP(A6,'Retorno dividendos 2016-2021'!A:I,8,0)","v":0.1124062566},106755.62342318942,{"$f":"VLOOKUP(A6,'Retorno dividendos 2016-2021'!A:I,9,0)","v":9.0962370681999999E-2},131922.68308344131]
["BCFF11","BTG PACTUAL FUNDO DE FUNDOS FII ","Fundo de Fundos",{"$f":"VLOOKUP(A7,'Retorno dividendos 2016-2021'!A:I,8,0)","v":7.6492340680000007E-2},156878.45205575685,{"$f":"VLOOKUP(A7,'Retorno dividendos 2016-2021'!A:I,9,0)","v":7.6722651667999991E-2},156407.52423322515]
["BCIA11","BRADESCO CARTEIRA IMOBILIÁRIA ATIVA FII ","Fundo de Fundos",{"$f":"VLOOKUP(A8,'Retorno dividendos 2016-2021'!A:I,8,0)","v":8.3371514709999997E-2},143934.05279658016,{"$f":"VLOOKUP(A8,'Retorno dividendos 2016-2021'!A:I,9,0)","v":8.1384038867999997E-2},147449.0596302707]
["BCRI11","BANESTES RECEBÍVEIS IMOBILIÁRIOS FII ","Recebíveis",{"$f":"VLOOKUP(A9,'Retorno dividendos 2016-2021'!A:I,8,0)","v":0.10977539629999999},109314.11230988197,{"$f":"VLOOKUP(A9,'Retorno dividendos 2016-2021'!A:I,9,0)","v":9.3248148521999988E-2},128688.88219446894]
["BPFF11","BRASIL PLURAL ABSOLUTO FUNDO DE FUNDOS FII ","Fundo de Fundos",{"$f":"VLOOKUP(A10,'Retorno dividendos 2016-2021'!A:I,8,0)","v":8.4699095320000001E-2},141678.01857461446,{"$f":"VLOOKUP(A10,'Retorno dividendos 2016-2021'!A:I,9,0)","v":8.7140954036000001E-2},137707.92542668874]
["BRCO11","BRESCO LOGÍSTICA FII ","Logística",{"$f":"VLOOKUP(A11,'Retorno dividendos 2016-2021'!A:I,8,0)","v":6.5342302389999996E-2},183648.25788318846,{"$f":"VLOOKUP(A11,'Retorno dividendos 2016-2021'!A:I,9,0)","v":6.5342302389999996E-2},183648.25788318846]
["BRCR11","BTG PACTUAL CORPORATE OFFICE FUND FII ","Lajes Corporativas",{"$f":"VLOOKUP(A12,'Retorno dividendos 2016-2021'!A:I,8,0)","v":6.9408448979999995E-2},172889.61468448595,{"$f":"VLOOKUP(A12,'Retorno dividendos 2016-2021'!A:I,9,0)","v":8.7924036650000009E-2},136481.44986527981]
["BTCR11","BTG PACTUAL CRÉDITO IMOBILIÁRIO FII ","Recebíveis",{"$f":"VLOOKUP(A13,'Retorno dividendos 2016-2021'!A:I,8,0)","v":6.7266646420000006E-2},178394.50364560034,{"$f":"VLOOKUP(A13,'Retorno dividendos 2016-2021'!A:I,9,0)","v":6.9840929535000013E-2},171819.01901787164]
["BTLG11","BTG PACTUAL LOGÍSTICA FII ","Logística",{"$f":"VLOOKUP(A14,'Retorno dividendos 2016-2021'!A:I,8,0)","v":6.4880085470000001E-2},184956.59974968279,{"$f":"VLOOKUP(A14,'Retorno dividendos 2016-2021'!A:I,9,0)","v":6.0165923494000004E-2},199448.44694682845]
["BZLI11","BRAZIL REALTY FII ","Híbrido",{"$f":"VLOOKUP(A15,'Retorno dividendos 2016-2021'!A:I,8,0)","v":0},0,{"$f":"VLOOKUP(A15,'Retorno dividendos 2016-2021'!A:I,9,0)","v":0},0]
["CPFF11","CAPITÂNIA REIT FOF FII ","Fundo de Fundos",{"$f":"VLOOKUP(A16,'Retorno dividendos 2016-2021'!A:I,8,0)","v":8.6277831560000004E-2},139085.5539948853,{"$f":"VLOOKUP(A16,'Retorno dividendos 2016-2021'!A:I,9,0)","v":8.6277831560000004E-2},139085.5539948853]
["CPTS11","CAPITÂNIA SECURITIES II FII ","Recebíveis",{"$f":"VLOOKUP(A17,'Retorno dividendos 2016-2021'!A:I,8,0)","v":0.1077050088},111415.43121994527,{"$f":"VLOOKUP(A17,'Retorno dividendos 2016-2021'!A:I,9,0)","v":9.8598048000000008E-2},121706.26339377428]
["CVBI11","VBI CRI FII ","Recebíveis",{"$f":"VLOOKUP(A18,'Retorno dividendos 2016-2021'!A:I,8,0)","v":0.1208712315},99279.206897134995,{"$f":"VLOOKUP(A18,'Retorno dividendos 2016-2021'!A:I,9,0)","v":0.1208712315},99279.206897134995]
["DEVA11","DEVANT RECEBÍVEIS IMOBILIÁRIOS FII ","Recebíveis",{"$f":"VLOOKUP(A19,'Retorno dividendos 2016-2021'!A:I,8,0)","v":0.1169},102651.83917878529,{"$f":"VLOOKUP(A19,'Retorno dividendos 2016-2021'!A:I,9,0)","v":0.1169},102651.83917878529]
["FIGS11","GENERAL SHOPPING ATIVO E RENDA FII ","Shoppings",{"$f":"VLOOKUP(A20,'Retorno dividendos 2016-2021'!A:I,8,0)","v":3.292247811E-2},364492.61079028778,{"$f":"VLOOKUP(A20,'Retorno dividendos 2016-2021'!A:I,9,0)","v":9.8883259054E-2},121355.22347060606]
["FIIB11","INDUSTRIAL DO BRASIL FII ","Logística",{"$f":"VLOOKUP(A21,'Retorno dividendos 2016-2021'!A:I,8,0)","v":6.6080209129999998E-2},181597.48823422042,{"$f":"VLOOKUP(A21,'Retorno dividendos 2016-2021'!A:I,9,0)","v":7.0550662595999999E-2},170090.53577167058]
["FLMA11","CONTINENTAL SQUARE FARIA LIMA FII ","Híbrido",{"$f":"VLOOKUP(A22,'Retorno dividendos 2016-2021'!A:I,8,0)","v":3.5760916869999999E-2},335561.86614630278,{"$f":"VLOOKUP(A22,'Retorno dividendos 2016-2021'!A:I,9,0)","v":5.1434891835999995E-2},233304.66093448715]
["GGRC11","GGR COVEPI RENDA FII ","Logística",{"$f":"VLOOKUP(A23,'Retorno dividendos 2016-2021'!A:I,8,0)","v":7.1902762199999998E-2},166892.05856405888,{"$f":"VLOOKUP(A23,'Retorno dividendos 2016-2021'!A:I,9,0)","v":6.9639386992499996E-2},172316.2784487516]
["GTWR11","GREEN TOWERS FII ","Lajes Corporativas",{"$f":"VLOOKUP(A24,'Retorno dividendos 2016-2021'!A:I,8,0)","v":8.1164761899999993E-2},147847.41209226663,{"$f":"VLOOKUP(A24,'Retorno dividendos 2016-2021'!A:I,9,0)","v":7.4551346754999998E-2},160962.88695408692]
["HABT11","HABITAT RECEBÍVEIS PULVERIZADOS FII ","Recebíveis",{"$f":"VLOOKUP(A25,'Retorno dividendos 2016-2021'!A:I,8,0)","v":0.12640449440000001},94933.333319831698,{"$f":"VLOOKUP(A25,'Retorno dividendos 2016-2021'!A:I,9,0)","v":0.12640449440000001},94933.333319831698]
["HCTR11","HECTARE CE FII ","Recebíveis",{"$f":"VLOOKUP(A26,'Retorno dividendos 2016-2021'!A:I,8,0)","v":0.16138536279999999},74356.185665184748,{"$f":"VLOOKUP(A26,'Retorno dividendos 2016-2021'!A:I,9,0)","v":0.16138536279999999},74356.185665184748]
["HFOF11","HEDGE TOP FOFII 3 FII ","Fundo de Fundos",{"$f":"VLOOKUP(A27,'Retorno dividendos 2016-2021'!A:I,8,0)","v":7.6613415399999996E-2},156630.53183763952,{"$f":"VLOOKUP(A27,'Retorno dividendos 2016-2021'!A:I,9,0)","v":8.1829048373333338E-2},146647.1899471654]
["HGBS11","HEDGE BRASIL SHOPPING FII ","Shoppings",{"$f":"VLOOKUP(A28,'Retorno dividendos 2016-2021'!A:I,8,0)","v":2.7619094930000001E-2},434482.01436049014,{"$f":"VLOOKUP(A28,'Retorno dividendos 2016-2021'!A:I,9,0)","v":6.0115360947999998E-2},199616.20142944899]
["HGCR11","CSHG RECEBÍVEIS IMOBILIÁRIOS FII ","Recebíveis",{"$f":"VLOOKUP(A29,'Retorno dividendos 2016-2021'!A:I,8,0)","v":6.8575965399999994E-2},174988.42240141472,{"$f":"VLOOKUP(A29,'Retorno dividendos 2016-2021'!A:I,9,0)","v":8.1354435801999997E-2},147502.71305679678]
["HGFF11","CSHG IMOBILIÁRIO FOF FII ","Fundo de Fundos",{"$f":"VLOOKUP(A30,'Retorno dividendos 2016-2021'!A:I,8,0)","v":8.4867812619999997E-2},141396.36252592746,{"$f":"VLOOKUP(A30,'Retorno dividendos 2016-2021'!A:I,9,0)","v":8.4867812619999997E-2},141396.36252592746]
["HGLG11","CSHG LOGÍSTICA FII ","Logística",{"$f":"VLOOKUP(A31,'Retorno dividendos 2016-2021'!A:I,8,0)","v":6.6432263899999996E-2},180635.12058031792,{"$f":"VLOOKUP(A31,'Retorno dividendos 2016-2021'!A:I,9,0)","v":6.7939515598000003E-2},176627.69441872876]
["HGPO11","CSHG PRIME OFFICES FII ","Lajes Corporativas",{"$f":"VLOOKUP(A32,'Retorno dividendos 2016-2021'!A:I,8,0)","v":5.3821435030000003E-2},222959.49547445576,{"$f":"VLOOKUP(A32,'Retorno dividendos 2016-2021'!A:I,9,0)","v":5.6492195529999997E-2},212418.72239905136]
["HGRE11","CSHG REAL ESTATE FII ","Lajes Corporativas",{"$f":"VLOOKUP(A33,'Retorno dividendos 2016-2021'!A:I,8,0)","v":6.1359045680000002E-2},195570.18638429383,{"$f":"VLOOKUP(A33,'Retorno dividendos 2016-2021'!A:I,9,0)","v":6.9036614957999995E-2},173820.80519591633]
["HGRU11","CSHG RENDA URBANA FII ","Híbrido",{"$f":"VLOOKUP(A34,'Retorno dividendos 2016-2021'!A:I,8,0)","v":6.9907720209999996E-2},{"$f":"IFERROR(12000/D34,0)","v":171654.86106473621},{"$f":"VLOOKUP(A34,'Retorno dividendos 2016-2021'!A:I,9,0)","v":6.6127707645000006E-2},{"$f":"IFERROR(12000/F34,0)","v":181467.04955237222}]
["HSLG11","HSI LOGÍSTICA FII ","Logística",{"$f":"VLOOKUP(A35,'Retorno dividendos 2016-2021'!A:I,8,0)","v":3.8300000000000001E-2},313315.92689295037,{"$f":"VLOOKUP(A35,'Retorno dividendos 2016-2021'!A:I,9,0)","v":3.8300000000000001E-2},313315.92689295037]
["HSML11","HSI MALLS FII ","Shoppings",{"$f":"VLOOKUP(A36,'Retorno dividendos 2016-2021'!A:I,8,0)","v":4.5525727070000001E-2},263587.2235834673,{"$f":"VLOOKUP(A36,'Retorno dividendos 2016-2021'!A:I,9,0)","v":4.5525727070000001E-2},263587.2235834673]
["HTMX11","HOTEL MAXINVEST FII ","Hotel",{"$f":"VLOOKUP(A37,'Retorno dividendos 2016-2021'!A:I,8,0)","v":0},0,{"$f":"VLOOKUP(A37,'Retorno dividendos 2016-2021'!A:I,9,0)","v":4.4160944394E-2},271733.31921838154]
["IRDM11","IRIDIUM RECEBÍVEIS FII ","Recebíveis",{"$f":"VLOOKUP(A38,'Retorno dividendos 2016-2021'!A:I,8,0)","v":0.1053493747},113906.70361520429,{"$f":"VLOOKUP(A38,'Retorno dividendos 2016-2021'!A:I,9,0)","v":8.936023424666667E-2},134287.92013767161]
["JSRE11","JS REAL ESTATE MULTIGESTÃO FII ","Lajes Corporativas",{"$f":"VLOOKUP(A39,'Retorno dividendos 2016-2021'!A:I,8,0)","v":7.0167597770000006E-2},171019.10826895334,{"$f":"VLOOKUP(A39,'Retorno dividendos 2016-2021'!A:I,9,0)","v":7.3499849047999999E-2},163265.64143231435]
["KFOF11","KINEA FUNDO DE FUNDOS IMOBILIÁRIOS FII ","Fundo de Fundos",{"$f":"VLOOKUP(A40,'Retorno dividendos 2016-2021'!A:I,8,0)","v":7.4947710900000006E-2},160111.62790563627,{"$f":"VLOOKUP(A40,'Retorno dividendos 2016-2021'!A:I,9,0)","v":6.6013181295000001E-2},181781.87696142602]
["KNCR11","KINEA RENDIMENTOS IMOBILIÁRIOS FII ","Recebíveis",{"$f":"VLOOKUP(A41,'Retorno dividendos 2016-2021'!A:I,8,0)","v":4.011111111E-2},299168.97507753933,{"$f":"VLOOKUP(A41,'Retorno dividendos 2016-2021'!A:I,9,0)","v":7.2035974965999991E-2},166583.43287036565]
["KNHY11","KINEA HIGH YIELD CRI FII ","Recebíveis",{"$f":"VLOOKUP(A42,'Retorno dividendos 2016-2021'!A:I,8,0)","v":0.10107526880000001},118723.40427552738,{"$f":"VLOOKUP(A42,'Retorno dividendos 2016-2021'!A:I,9,0)","v":8.6173998035000005E-2},139253.14217318941]
["KNIP11","KINEA ÍNDICES DE PREÇOS FII ","Recebíveis",{"$f":"VLOOKUP(A43,'Retorno dividendos 2016-2021'!A:I,8,0)","v":0.1067852129},112375.10956912649,{"$f":"VLOOKUP(A43,'Retorno dividendos 2016-2021'!A:I,9,0)","v":8.1249126064999996E-2},147693.89630603409]
["KNRI11","KINEA RENDA IMOBILIÁRIA FII ","Híbrido",{"$f":"VLOOKUP(A44,'Retorno dividendos 2016-2021'!A:I,8,0)","v":5.7715893509999998E-2},207915.00001504525,{"$f":"VLOOKUP(A44,'Retorno dividendos 2016-2021'!A:I,9,0)","v":6.3454762203999995E-2},189111.10188107452]
["KNSC11","KINEA SECURITIES FII ","Recebíveis",{"$f":"VLOOKUP(A45,'Retorno dividendos 2016-2021'!A:I,8,0)","v":3.8300000000000001E-2},313315.92689295037,{"$f":"VLOOKUP(A45,'Retorno dividendos 2016-2021'!A:I,9,0)","v":3.8300000000000001E-2},313315.92689295037]
["LVBI11","VBI LOGISTICO FII ","Logística",{"$f":"VLOOKUP(A46,'Retorno dividendos 2016-2021'!A:I,8,0)","v":6.0638245889999998E-2},197894.90648803464,{"$f":"VLOOKUP(A46,'Retorno dividendos 2016-2021'!A:I,9,0)","v":5.9797330619999998E-2},200677.85427174976]
["MALL11","MALLS BRASIL PLURAL FII ","Shoppings",{"$f":"VLOOKUP(A47,'Retorno dividendos 2016-2021'!A:I,8,0)","v":5.387840671E-2},222723.7354027539,{"$f":"VLOOKUP(A47,'Retorno dividendos 2016-2021'!A:I,9,0)","v":6.3018977470000001E-2},190418.83067227749]
["MCCI11","MAUÁ CAPITAL RECEBÍVEIS IMOBILIÁRIOS FII ","Recebíveis",{"$f":"VLOOKUP(A48,'Retorno dividendos 2016-2021'!A:I,8,0)","v":7.7247832239999994E-2},155344.16503387954,{"$f":"VLOOKUP(A48,'Retorno dividendos 2016-2021'!A:I,9,0)","v":7.7247832239999994E-2},155344.16503387954]
["MFII11","MÉRITO DESENVOLVIMENTO IMOBILIÁRIO I FII ","Desenvolvimento",{"$f":"VLOOKUP(A49,'Retorno dividendos 2016-2021'!A:I,8,0)","v":0.1073400275},111794.26984961411,{"$f":"VLOOKUP(A49,'Retorno dividendos 2016-2021'!A:I,9,0)","v":0.10539140560800001},113861.2767404737]
["MGFF11","MOGNO FOF FII ","Fundo de Fundos",{"$f":"VLOOKUP(A50,'Retorno dividendos 2016-2021'!A:I,8,0)","v":8.6783845179999999E-2},138274.58296080999,{"$f":"VLOOKUP(A50,'Retorno dividendos 2016-2021'!A:I,9,0)","v":8.0823211956666655E-2},148472.19888308569]
["MXRF11","MAXI RENDA FII ","Recebíveis",{"$f":"VLOOKUP(A51,'Retorno dividendos 2016-2021'!A:I,8,0)","v":8.4061344639999994E-2},142752.89137225965,{"$f":"VLOOKUP(A51,'Retorno dividendos 2016-2021'!A:I,9,0)","v":8.5738711624E-2},139960.11571324986]
["OUJP11","OURINVEST JPP FII ","Híbrido",{"$f":"VLOOKUP(A52,'Retorno dividendos 2016-2021'!A:I,8,0)","v":7.8948596339999996E-2},151997.63588349061,{"$f":"VLOOKUP(A52,'Retorno dividendos 2016-2021'!A:I,9,0)","v":8.3830093300000005E-2},143146.68548746561]
["OULG11","OURINVEST LOGÍSTICA FII ","Logística",{"$f":"VLOOKUP(A53,'Retorno dividendos 2016-2021'!A:I,8,0)","v":9.9879210809999994E-2},120145.12232007494,{"$f":"VLOOKUP(A53,'Retorno dividendos 2016-2021'!A:I,9,0)","v":9.2637764169999998E-2},129536.80507636975]
["PATC11","PÁTRIA EDIFÍCIOS CORPORATIVOS FII ","Lajes Corporativas",{"$f":"VLOOKUP(A54,'Retorno dividendos 2016-2021'!A:I,8,0)","v":4.4039530569999999E-2},272482.46847059886,{"$f":"VLOOKUP(A54,'Retorno dividendos 2016-2021'!A:I,9,0)","v":4.2662159485000004E-2},281279.71356487932]
["PATL11","PÁTRIA LOGÍSTICA FII ","Logística",{"$f":"VLOOKUP(A55,'Retorno dividendos 2016-2021'!A:I,8,0)","v":6.6900000000000001E-2},179372.19730941704,{"$f":"VLOOKUP(A55,'Retorno dividendos 2016-2021'!A:I,9,0)","v":6.6900000000000001E-2},179372.19730941704]
["PLCR11","PLURAL RECEBÍVEIS IMOBILIÁRIOS FII ","Recebíveis",{"$f":"VLOOKUP(A56,'Retorno dividendos 2016-2021'!A:I,8,0)","v":8.1518824409999996E-2},147205.26316284743,{"$f":"VLOOKUP(A56,'Retorno dividendos 2016-2021'!A:I,9,0)","v":8.1518824409999996E-2},147205.26316284743]
["PORD11","POLO RECEBÍVEIS IMOBILIÁRIOS II FII ","Recebíveis",{"$f":"VLOOKUP(A57,'Retorno dividendos 2016-2021'!A:I,8,0)","v":9.9063841860000001E-2},121134.00585613024,{"$f":"VLOOKUP(A57,'Retorno dividendos 2016-2021'!A:I,9,0)","v":0.11080023990000001},108303.01460385195]
["PVBI11","VBI PRIME PROPERTIES FII ","Lajes Corporativas",{"$f":"VLOOKUP(A58,'Retorno dividendos 2016-2021'!A:I,8,0)","v":5.2499999999999998E-2},228571.42857142858,{"$f":"VLOOKUP(A58,'Retorno dividendos 2016-2021'!A:I,9,0)","v":0},0]
["QAGR11","QUASAR AGRO FII ","Logística",{"$f":"VLOOKUP(A59,'Retorno dividendos 2016-2021'!A:I,8,0)","v":5.1057403750000001E-2},235029.57688090435,{"$f":"VLOOKUP(A59,'Retorno dividendos 2016-2021'!A:I,9,0)","v":5.1057403750000001E-2},235029.57688090435]
["RBED11","RIO BRAVO RENDA EDUCACIONAL FII ","Educacional",{"$f":"VLOOKUP(A60,'Retorno dividendos 2016-2021'!A:I,8,0)","v":8.5878771539999996E-2},139731.85438977461,{"$f":"VLOOKUP(A60,'Retorno dividendos 2016-2021'!A:I,9,0)","v":8.4243923094000001E-2},142443.50879303555]
["RBFF11","RIO BRAVO FUNDO DE FUNDOS FII ","Fundo de Fundos",{"$f":"VLOOKUP(A61,'Retorno dividendos 2016-2021'!A:I,8,0)","v":9.326969047E-2},128659.15968553338,{"$f":"VLOOKUP(A61,'Retorno dividendos 2016-2021'!A:I,9,0)","v":8.8849822176000001E-2},135059.35865836122]
["RBRD11","RB CAPITAL RENDA II FII ","Híbrido",{"$f":"VLOOKUP(A62,'Retorno dividendos 2016-2021'!A:I,8,0)","v":0.31620495869999998},37950.068997447386,{"$f":"VLOOKUP(A62,'Retorno dividendos 2016-2021'!A:I,9,0)","v":0.14050520361999999},85406.089531419173]
["RBRF11","RBR ALPHA MULTIESTRATÉGIA REAL ESTATE FII ","Fundo de Fundos",{"$f":"VLOOKUP(A63,'Retorno dividendos 2016-2021'!A:I,8,0)","v":9.3652413549999994E-2},128133.37686800065,{"$f":"VLOOKUP(A63,'Retorno dividendos 2016-2021'!A:I,9,0)","v":8.7352441249999982E-2},137374.52357692411]
["RBRP11","RBR PROPERTIES FII ","Lajes Corporativas",{"$f":"VLOOKUP(A64,'Retorno dividendos 2016-2021'!A:I,8,0)","v":7.3580111209999993E-2},163087.54910347465,{"$f":"VLOOKUP(A64,'Retorno dividendos 2016-2021'!A:I,9,0)","v":6.3263580264999994E-2},189682.59383572845]
["RBRR11","RBR RENDIMENTO HIGH GRADE FII ","Recebíveis",{"$f":"VLOOKUP(A65,'Retorno dividendos 2016-2021'!A:I,8,0)","v":7.1992871269999995E-2},166683.16999047788,{"$f":"VLOOKUP(A65,'Retorno dividendos 2016-2021'!A:I,9,0)","v":7.0318331366666653E-2},170652.51360171524]
["RBVA11","RIO BRAVO RENDA VAREJO FII ","Agências",{"$f":"VLOOKUP(A66,'Retorno dividendos 2016-2021'!A:I,8,0)","v":9.2954979559999998E-2},{"$f":"IFERROR(12000/D66,0)","v":129094.75164000563},{"$f":"VLOOKUP(A66,'Retorno dividendos 2016-2021'!A:I,9,0)","v":8.0749598303999998E-2},{"$f":"IFERROR(12000/F66,0)","v":148607.55040320207}]
["RCRB11","RIO BRAVO RENDA CORPORATIVA FII ","Lajes Corporativas",{"$f":"VLOOKUP(A67,'Retorno dividendos 2016-2021'!A:I,8,0)","v":7.0863309350000001E-2},169340.10152885981,{"$f":"VLOOKUP(A67,'Retorno dividendos 2016-2021'!A:I,9,0)","v":6.4900453413999998E-2},184898.55415110892]
["RECR11","REC RECEBÍVEIS IMOBILIÁRIOS FII ","Recebíveis",{"$f":"VLOOKUP(A68,'Retorno dividendos 2016-2021'!A:I,8,0)","v":0.1266364374},94759.45664908606,{"$f":"VLOOKUP(A68,'Retorno dividendos 2016-2021'!A:I,9,0)","v":0.11032709801333333},108767.47613310527]
["RECT11","REC RENDA IMOBILIÁRIA FII ","Híbrido",{"$f":"VLOOKUP(A69,'Retorno dividendos 2016-2021'!A:I,8,0)","v":0.1089382216},110154.17567639089,{"$f":"VLOOKUP(A69,'Retorno dividendos 2016-2021'!A:I,9,0)","v":0.10254068921500001},117026.71487646484]
["RFOF11","RB CAPITAL I FUNDO DE FUNDOS FII ","Fundo de Fundos",{"$f":"VLOOKUP(A70,'Retorno dividendos 2016-2021'!A:I,8,0)","v":7.9844679040000005E-2},150291.79332023274,{"$f":"VLOOKUP(A70,'Retorno dividendos 2016-2021'!A:I,9,0)","v":7.9844679040000005E-2},150291.79332023274]
["RNGO11","RIO NEGRO FII ","Lajes Corporativas",{"$f":"VLOOKUP(A71,'Retorno dividendos 2016-2021'!A:I,8,0)","v":8.2821093499999998E-2},144890.6249951892,{"$f":"VLOOKUP(A71,'Retorno dividendos 2016-2021'!A:I,9,0)","v":7.8584708261999994E-2},152701.4640048318]
["RVBI11","VBI REITS FOF FII ","Fundo de Fundos",{"$f":"VLOOKUP(A72,'Retorno dividendos 2016-2021'!A:I,8,0)","v":8.8059701490000003E-2},136271.18644460442,{"$f":"VLOOKUP(A72,'Retorno dividendos 2016-2021'!A:I,9,0)","v":8.8059701490000003E-2},136271.18644460442]
["RZTR11","RIZA TERRAX FII ","Agronegócio",{"$f":"VLOOKUP(A73,'Retorno dividendos 2016-2021'!A:I,8,0)","v":6.4100000000000004E-2},187207.48829953198,{"$f":"VLOOKUP(A73,'Retorno dividendos 2016-2021'!A:I,9,0)","v":6.4100000000000004E-2},187207.48829953198]
["SADI11","SANTANDER PAPÉIS IMOBILIÁRIOS CDI FII ","Recebíveis",{"$f":"VLOOKUP(A74,'Retorno dividendos 2016-2021'!A:I,8,0)","v":2.8635294120000002E-2},419063.27030245983,{"$f":"VLOOKUP(A74,'Retorno dividendos 2016-2021'!A:I,9,0)","v":2.8635294120000002E-2},419063.27030245983]
["SARE11","SANTANDER RENDA DE ALUGUÉIS FII ","Híbrido",{"$f":"VLOOKUP(A75,'Retorno dividendos 2016-2021'!A:I,8,0)","v":4.8808473909999997E-2},245858.94699611599,{"$f":"VLOOKUP(A75,'Retorno dividendos 2016-2021'!A:I,9,0)","v":4.8808473909999997E-2},245858.94699611599]
["SDIL11","SDI RIO BRAVO RENDA LOGÍSTICA FII ","Logística",{"$f":"VLOOKUP(A76,'Retorno dividendos 2016-2021'!A:I,8,0)","v":7.420752169E-2},161708.67489861324,{"$f":"VLOOKUP(A76,'Retorno dividendos 2016-2021'!A:I,9,0)","v":7.2692161333999999E-2},165079.69744995449]
["SPTW11","SP DOWNTOWN FII ","Lajes Corporativas",{"$f":"VLOOKUP(A77,'Retorno dividendos 2016-2021'!A:I,8,0)","v":0.19626301530000001},61142.441848543225,{"$f":"VLOOKUP(A77,'Retorno dividendos 2016-2021'!A:I,9,0)","v":0.11551869259599998},103879.29200313265]
["TEPP11","TELLUS PROPERTIES FII ","Lajes Corporativas",{"$f":"VLOOKUP(A78,'Retorno dividendos 2016-2021'!A:I,8,0)","v":7.4107142860000003E-2},161927.71083713049,{"$f":"VLOOKUP(A78,'Retorno dividendos 2016-2021'!A:I,9,0)","v":7.4107142860000003E-2},161927.71083713049]
["TGAR11","TG ATIVO REAL FII ","Híbrido",{"$f":"VLOOKUP(A79,'Retorno dividendos 2016-2021'!A:I,8,0)","v":0.105432163},113817.26086754001,{"$f":"VLOOKUP(A79,'Retorno dividendos 2016-2021'!A:I,9,0)","v":8.7909966786666668E-2},136503.293524393]
["TORD11","TORDESILHAS EI FII ","Híbrido",{"$f":"VLOOKUP(A80,'Retorno dividendos 2016-2021'!A:I,8,0)","v":0.1213774509},98865.150907531541,{"$f":"VLOOKUP(A80,'Retorno dividendos 2016-2021'!A:I,9,0)","v":0.1213774509},98865.150907531541]
["TRXF11","TRX REAL ESTATE FII ","Híbrido",{"$f":"VLOOKUP(A81,'Retorno dividendos 2016-2021'!A:I,8,0)","v":7.4681590519999994E-2},160682.16968124639,{"$f":"VLOOKUP(A81,'Retorno dividendos 2016-2021'!A:I,9,0)","v":7.4681590519999994E-2},160682.16968124639]
["URPR11","URCA PRIME RENDA FII ","Recebíveis",{"$f":"VLOOKUP(A82,'Retorno dividendos 2016-2021'!A:I,8,0)","v":0.1905},62992.125984251965,{"$f":"VLOOKUP(A82,'Retorno dividendos 2016-2021'!A:I,9,0)","v":0.1905},62992.125984251965]
["VCJR11","VECTIS JUROS REAL FII ","Recebíveis",{"$f":"VLOOKUP(A83,'Retorno dividendos 2016-2021'!A:I,8,0)","v":9.2388451440000005E-2},129886.36364138196,{"$f":"VLOOKUP(A83,'Retorno dividendos 2016-2021'!A:I,9,0)","v":9.2388451440000005E-2},129886.36364138196]
["VGIP11","VALORA CRI ÍNDICE DE PREÇO FII ","Recebíveis",{"$f":"VLOOKUP(A84,'Retorno dividendos 2016-2021'!A:I,8,0)","v":0.11481052310000001},104520.03593388383,{"$f":"VLOOKUP(A84,'Retorno dividendos 2016-2021'!A:I,9,0)","v":0.11481052310000001},104520.03593388383]
["VGIR11","VALORA RE III FII ","Recebíveis",{"$f":"VLOOKUP(A85,'Retorno dividendos 2016-2021'!A:I,8,0)","v":6.1338061370000002E-2},195637.09272802534,{"$f":"VLOOKUP(A85,'Retorno dividendos 2016-2021'!A:I,9,0)","v":7.3756343530000004E-2},162697.87011769452]
["VILG11","VINCI LOGÍSTICA FII ","Logística",{"$f":"VLOOKUP(A86,'Retorno dividendos 2016-2021'!A:I,8,0)","v":6.015114806E-2},199497.43915162107,{"$f":"VLOOKUP(A86,'Retorno dividendos 2016-2021'!A:I,9,0)","v":5.9689474265E-2},201040.47066530149]
["VINO11","VINCI OFFICES FII ","Lajes Corporativas",{"$f":"VLOOKUP(A87,'Retorno dividendos 2016-2021'!A:I,8,0)","v":8.1428811429999998E-2},147367.98670229589,{"$f":"VLOOKUP(A87,'Retorno dividendos 2016-2021'!A:I,9,0)","v":8.1428811429999998E-2},147367.98670229589]
["VISC11","VINCI SHOPPING CENTERS FII ","Shoppings",{"$f":"VLOOKUP(A88,'Retorno dividendos 2016-2021'!A:I,8,0)","v":3.7616822430000002E-2},319006.21117933164,{"$f":"VLOOKUP(A88,'Retorno dividendos 2016-2021'!A:I,9,0)","v":5.7424796806666671E-2},208968.95883499013]
["VRTA11","FATOR VERITA FII ","Recebíveis",{"$f":"VLOOKUP(A89,'Retorno dividendos 2016-2021'!A:I,8,0)","v":8.8412408760000005E-2},135727.55417822188,{"$f":"VLOOKUP(A89,'Retorno dividendos 2016-2021'!A:I,9,0)","v":9.1319465488000004E-2},131406.8138252176]
["VTLT11","VOTORANTIM LOGÍSTICA FII ","Logística",{"$f":"VLOOKUP(A90,'Retorno dividendos 2016-2021'!A:I,8,0)","v":7.8460718779999994E-2},152942.77425175536,{"$f":"VLOOKUP(A90,'Retorno dividendos 2016-2021'!A:I,9,0)","v":8.0279160439999997E-2},149478.39432088612]
["XPCI11","XP CRÉDITO IMOBILIÁRIO FII ","Recebíveis",{"$f":"VLOOKUP(A91,'Retorno dividendos 2016-2021'!A:I,8,0)","v":8.7064676620000003E-2},137828.57142368835,{"$f":"VLOOKUP(A91,'Retorno dividendos 2016-2021'!A:I,9,0)","v":8.7064676620000003E-2},137828.57142368835]
["XPCM11","XP CORPORATE MACAÉ FII ","Lajes Corporativas",{"$f":"VLOOKUP(A92,'Retorno dividendos 2016-2021'!A:I,8,0)","v":0.21336515510000001},56241.610746496255,{"$f":"VLOOKUP(A92,'Retorno dividendos 2016-2021'!A:I,9,0)","v":0.13517410908999999},88774.396818922658]
["XPIN11","XP INDUSTRIAL FII ","Logística",{"$f":"VLOOKUP(A93,'Retorno dividendos 2016-2021'!A:I,8,0)","v":7.4049548019999994E-2},162053.65624593585,{"$f":"VLOOKUP(A93,'Retorno dividendos 2016-2021'!A:I,9,0)","v":6.6764021554999997E-2},179737.52509971912]
["XPLG11","XP LOG FII ","Logística",{"$f":"VLOOKUP(A94,'Retorno dividendos 2016-2021'!A:I,8,0)","v":6.6211304169999999E-2},181237.93437431095,{"$f":"VLOOKUP(A94,'Retorno dividendos 2016-2021'!A:I,9,0)","v":6.2574246223333338E-2},191772.18623091164]
["XPML11","XP MALLS FII ","Shoppings",{"$f":"VLOOKUP(A95,'Retorno dividendos 2016-2021'!A:I,8,0)","v":3.7629426620000003E-2},{"$f":"IFERROR(12000/D95,0)","v":318899.35823848064},{"$f":"VLOOKUP(A95,'Retorno dividendos 2016-2021'!A:I,9,0)","v":4.7581503493333337E-2},252198.8402842572]
["XPPR11","XP PROPERTIES FII ","Híbrido",{"$f":"VLOOKUP(A96,'Retorno dividendos 2016-2021'!A:I,8,0)","v":0.1110455503},108063.76273142752,{"$f":"VLOOKUP(A96,'Retorno dividendos 2016-2021'!A:I,9,0)","v":0.1110455503},108063.76273142752]
["XPSF11","XP SELECTION FUNDO DE FUNDOS FII ","Fundo de Fundos",{"$f":"VLOOKUP(A97,'Retorno dividendos 2016-2021'!A:I,8,0)","v":9.5484993200000007E-2},125674.19861323296,{"$f":"VLOOKUP(A97,'Retorno dividendos 2016-2021'!A:I,9,0)","v":9.5484993200000007E-2},125674.19861323296]

{"sheet":"Monte uma carteira de FIIs","index":4,"n_rows":362,"n_cols":7,"rows_kept":362,"cut":false,"hidden":false,"merged":[[21,2,21,4],[1,2,1,3],[0,2,0,4],[2,2,2,3],[3,2,3,3]]}
[null,null,"PREENCHA OS DADOS ABAIXO"]
[null,null,"1) Seu nome",null,"Seu Nome"]
[null,null,"2) Que valor você gostaria de investir inicialmente em uma carteira de FIIs?",null,15000]
[null,null,"3) Quanto você gostaria de receber de dividendos por mês com sua carteira de FIIs?",null,1000]
[]
[null,null,"Código do\nfundo","Nome do Fundo","Setor","Peso do fundo na carteira","Valor\n(investimento inicial)"]
[null,null,null,{"$f":"IFERROR(VLOOKUP($C7,'Retorno dividendos 2016-2021'!$A:$C,2,0),\"\")","v":""},{"$f":"IFERROR(VLOOKUP($C7,'Retorno dividendos 2016-2021'!$A:$C,3,0),\"\")","v":""},1,{"$f":"IF(F7=\"\",\"\",$E$3*F7)","v":15000}]
[null,null,null,{"$f":"IFERROR(VLOOKUP($C8,'Retorno dividendos 2016-2021'!$A:$C,2,0),\"\")","v":""},{"$f":"IFERROR(VLOOKUP($C8,'Retorno dividendos 2016-2021'!$A:$C,3,0),\"\")","v":""},null,{"$f":"IF(F8=\"\",\"\",$E$3*F8)","v":""}]
[null,null,null,{"$f":"IFERROR(VLOOKUP($C9,'Retorno dividendos 2016-2021'!$A:$C,2,0),\"\")","v":""},{"$f":"IFERROR(VLOOKUP($C9,'Retorno dividendos 2016-2021'!$A:$C,3,0),\"\")","v":""},null,""]
[null,null,null,{"$f":"IFERROR(VLOOKUP($C10,'Retorno dividendos 2016-2021'!$A:$C,2,0),\"\")","v":""},{"$f":"IFERROR(VLOOKUP($C10,'Retorno dividendos 2016-2021'!$A:$C,3,0),\"\")","v":""},null,""]
[null,null,null,{"$f":"IFERROR(VLOOKUP($C11,'Retorno dividendos 2016-2021'!$A:$C,2,0),\"\")","v":""},{"$f":"IFERROR(VLOOKUP($C11,'Retorno dividendos 2016-2021'!$A:$C,3,0),\"\")","v":""},null,""]
[null,null,null,{"$f":"IFERROR(VLOOKUP($C12,'Retorno dividendos 2016-2021'!$A:$C,2,0),\"\")","v":""},{"$f":"IFERROR(VLOOKUP($C12,'Retorno dividendos 2016-2021'!$A:$C,3,0),\"\")","v":""},null,""]
[null,null,null,{"$f":"IFERROR(VLOOKUP($C13,'Retorno dividendos 2016-2021'!$A:$C,2,0),\"\")","v":""},{"$f":"IFERROR(VLOOKUP($C13,'Retorno dividendos 2016-2021'!$A:$C,3,0),\"\")","v":""},null,""]
[null,null,null,{"$f":"IFERROR(VLOOKUP($C14,'Retorno dividendos 2016-2021'!$A:$C,2,0),\"\")","v":""},{"$f":"IFERROR(VLOOKUP($C14,'Retorno dividendos 2016-2021'!$A:$C,3,0),\"\")","v":""},null,""]
[null,null,null,{"$f":"IFERROR(VLOOKUP($C15,'Retorno dividendos 2016-2021'!$A:$C,2,0),\"\")","v":""},{"$f":"IFERROR(VLOOKUP($C15,'Retorno dividendos 2016-2021'!$A:$C,3,0),\"\")","v":""},null,""]
[null,null,null,{"$f":"IFERROR(VLOOKUP($C16,'Retorno dividendos 2016-2021'!$A:$C,2,0),\"\")","v":""},{"$f":"IFERROR(VLOOKUP($C16,'Retorno dividendos 2016-2021'!$A:$C,3,0),\"\")","v":""},null,""]
[null,null,null,{"$f":"IFERROR(VLOOKUP($C17,'Retorno dividendos 2016-2021'!$A:$C,2,0),\"\")","v":""},{"$f":"IFERROR(VLOOKUP($C17,'Retorno dividendos 2016-2021'!$A:$C,3,0),\"\")","v":""},null,{"$f":"IF(F17=\"\",\"\",$E$3*F17)","v":""}]
[null,null,null,{"$f":"IFERROR(VLOOKUP($C18,'Retorno dividendos 2016-2021'!$A:$C,2,0),\"\")","v":""},{"$f":"IFERROR(VLOOKUP($C18,'Retorno dividendos 2016-2021'!$A:$C,3,0),\"\")","v":""},null,{"$f":"IF(F18=\"\",\"\",$E$3*F18)","v":""}]
[null,null,null,{"$f":"IFERROR(VLOOKUP($C19,'Retorno dividendos 2016-2021'!$A:$C,2,0),\"\")","v":""},{"$f":"IFERROR(VLOOKUP($C19,'Retorno dividendos 2016-2021'!$A:$C,3,0),\"\")","v":""},null,""]
[null,null,null,{"$f":"IFERROR(VLOOKUP($C20,'Retorno dividendos 2016-2021'!$A:$C,2,0),\"\")","v":""},{"$f":"IFERROR(VLOOKUP($C20,'Retorno dividendos 2016-2021'!$A:$C,3,0),\"\")","v":""},null,""]
[null,null,null,{"$f":"IFERROR(VLOOKUP($C21,'Retorno dividendos 2016-2021'!$A:$C,2,0),\"\")","v":""},{"$f":"IFERROR(VLOOKUP($C21,'Retorno dividendos 2016-2021'!$A:$C,3,0),\"\")","v":""},null,""]
[null,null,"TOTAL",null,null,{"$f":"SUM(F7:F21)","v":1},15000]
[null,null,null,{"$f":"IFERROR(VLOOKUP($C23,'Retorno dividendos 2016-2021'!$A:$C,2,0),\"\")","v":""},{"$f":"IFERROR(VLOOKUP($C23,'Retorno dividendos 2016-2021'!$A:$C,3,0),\"\")","v":""},null,""]
[null,null,null,{"$f":"IFERROR(VLOOKUP($C24,'Retorno dividendos 2016-2021'!$A:$C,2,0),\"\")","v":""},{"$f":"IFERROR(VLOOKUP($C24,'Retorno dividendos 2016-2021'!$A:$C,3,0),\"\")","v":""},null,""]
[null,null,null,{"$f":"IFERROR(VLOOKUP($C25,'Retorno dividendos 2016-2021'!$A:$C,2,0),\"\")","v":""},{"$f":"IFERROR(VLOOKUP($C25,'Retorno dividendos 2016-2021'!$A:$C,3,0),\"\")","v":""}]
[null,null,null,{"$f":"IFERROR(VLOOKUP($C26,'Retorno dividendos 2016-2021'!$A:$C,2,0),\"\")","v":""},{"$f":"IFERROR(VLOOKUP($C26,'Retorno dividendos 2016-2021'!$A:$C,3,0),\"\")","v":""},null,""]
[null,null,null,{"$f":"IFERROR(VLOOKUP($C27,'Retorno dividendos 2016-2021'!$A:$C,2,0),\"\")","v":""},{"$f":"IFERROR(VLOOKUP($C27,'Retorno dividendos 2016-2021'!$A:$C,3,0),\"\")","v":""},null,""]
[null,null,null,{"$f":"IFERROR(VLOOKUP($C28,'Retorno dividendos 2016-2021'!$A:$C,2,0),\"\")","v":""},{"$f":"IFERROR(VLOOKUP($C28,'Retorno dividendos 2016-2021'!$A:$C,3,0),\"\")","v":""},null,""]
[null,null,null,{"$f":"IFERROR(VLOOKUP($C29,'Retorno dividendos 2016-2021'!$A:$C,2,0),\"\")","v":""},{"$f":"IFERROR(VLOOKUP($C29,'Retorno dividendos 2016-2021'!$A:$C,3,0),\"\")","v":""},null,""]
[null,null,null,{"$f":"IFERROR(VLOOKUP($C30,'Retorno dividendos 2016-2021'!$A:$C,2,0),\"\")","v":""},{"$f":"IFERROR(VLOOKUP($C30,'Retorno dividendos 2016-2021'!$A:$C,3,0),\"\")","v":""},null,""]
[null,null,null,{"$f":"IFERROR(VLOOKUP($C31,'Retorno dividendos 2016-2021'!$A:$C,2,0),\"\")","v":""},{"$f":"IFERROR(VLOOKUP($C31,'Retorno dividendos 2016-2021'!$A:$C,3,0),\"\")","v":""},null,""]
[null,null,null,{"$f":"IFERROR(VLOOKUP($C32,'Retorno dividendos 2016-2021'!$A:$C,2,0),\"\")","v":""},{"$f":"IFERROR(VLOOKUP($C32,'Retorno dividendos 2016-2021'!$A:$C,3,0),\"\")","v":""},null,""]
[null,null,null,{"$f":"IFERROR(VLOOKUP($C33,'Retorno dividendos 2016-2021'!$A:$C,2,0),\"\")","v":""},{"$f":"IFERROR(VLOOKUP($C33,'Retorno dividendos 2016-2021'!$A:$C,3,0),\"\")","v":""},null,""]
[null,null,null,{"$f":"IFERROR(VLOOKUP($C34,'Retorno dividendos 2016-2021'!$A:$C,2,0),\"\")","v":""},{"$f":"IFERROR(VLOOKUP($C34,'Retorno dividendos 2016-2021'!$A:$C,3,0),\"\")","v":""},null,""]
[null,null,null,{"$f":"IFERROR(VLOOKUP($C35,'Retorno dividendos 2016-2021'!$A:$C,2,0),\"\")","v":""},{"$f":"IFERROR(VLOOKUP($C35,'Retorno dividendos 2016-2021'!$A:$C,3,0),\"\")","v":""},null,""]
[null,null,null,{"$f":"IFERROR(VLOOKUP($C36,'Retorno dividendos 2016-2021'!$A:$C,2,0),\"\")","v":""},{"$f":"IFERROR(VLOOKUP($C36,'Retorno dividendos 2016-2021'!$A:$C,3,0),\"\")","v":""},null,""]
[null,null,null,{"$f":"IFERROR(VLOOKUP($C37,'Retorno dividendos 2016-2021'!$A:$C,2,0),\"\")","v":""},{"$f":"IFERROR(VLOOKUP($C37,'Retorno dividendos 2016-2021'!$A:$C,3,0),\"\")","v":""},null,""]
[null,null,null,{"$f":"IFERROR(VLOOKUP($C38,'Retorno dividendos 2016-2021'!$A:$C,2,0),\"\")","v":""},{"$f":"IFERROR(VLOOKUP($C38,'Retorno dividendos 2016-2021'!$A:$C,3,0),\"\")","v":""},null,""]
[null,null,null,{"$f":"IFERROR(VLOOKUP($C39,'Retorno dividendos 2016-2021'!$A:$C,2,0),\"\")","v":""},{"$f":"IFERROR(VLOOKUP($C39,'Retorno dividendos 2016-2021'!$A:$C,3,0),\"\")","v":""},null,""]
[null,null,null,{"$f":"IFERROR(VLOOKUP($C40,'Retorno dividendos 2016-2021'!$A:$C,2,0),\"\")","v":""},{"$f":"IFERROR(VLOOKUP($C40,'Retorno dividendos 2016-2021'!$A:$C,3,0),\"\")","v":""},null,""]
[null,null,null,{"$f":"IFERROR(VLOOKUP($C41,'Retorno dividendos 2016-2021'!$A:$C,2,0),\"\")","v":""},{"$f":"IFERROR(VLOOKUP($C41,'Retorno dividendos 2016-2021'!$A:$C,3,0),\"\")","v":""},null,""]
[null,null,null,{"$f":"IFERROR(VLOOKUP($C42,'Retorno dividendos 2016-2021'!$A:$C,2,0),\"\")","v":""},{"$f":"IFERROR(VLOOKUP($C42,'Retorno dividendos 2016-2021'!$A:$C,3,0),\"\")","v":""},null,""]
[null,null,null,{"$f":"IFERROR(VLOOKUP($C43,'Retorno dividendos 2016-2021'!$A:$C,2,0),\"\")","v":""},{"$f":"IFERROR(VLOOKUP($C43,'Retorno dividendos 2016-2021'!$A:$C,3,0),\"\")","v":""},null,""]
[null,null,null,{"$f":"IFERROR(VLOOKUP($C44,'Retorno dividendos 2016-2021'!$A:$C,2,0),\"\")","v":""},{"$f":"IFERROR(VLOOKUP($C44,'Retorno dividendos 2016-2021'!$A:$C,3,0),\"\")","v":""},null,""]
[null,null,null,{"$f":"IFERROR(VLOOKUP($C45,'Retorno dividendos 2016-2021'!$A:$C,2,0),\"\")","v":""},{"$f":"IFERROR(VLOOKUP($C45,'Retorno dividendos 2016-2021'!$A:$C,3,0),\"\")","v":""},null,""]
[null,null,null,{"$f":"IFERROR(VLOOKUP($C46,'Retorno dividendos 2016-2021'!$A:$C,2,0),\"\")","v":""},{"$f":"IFERROR(VLOOKUP($C46,'Retorno dividendos 2016-2021'!$A:$C,3,0),\"\")","v":""},null,""]
[null,null,null,{"$f":"IFERROR(VLOOKUP($C47,'Retorno dividendos 2016-2021'!$A:$C,2,0),\"\")","v":""},{"$f":"IFERROR(VLOOKUP($C47,'Retorno dividendos 2016-2021'!$A:$C,3,0),\"\")","v":""},null,""]
[null,null,null,{"$f":"IFERROR(VLOOKUP($C48,'Retorno dividendos 2016-2021'!$A:$C,2,0),\"\")","v":""},{"$f":"IFERROR(VLOOKUP($C48,'Retorno dividendos 2016-2021'!$A:$C,3,0),\"\")","v":""},null,""]
[null,null,null,{"$f":"IFERROR(VLOOKUP($C49,'Retorno dividendos 2016-2021'!$A:$C,2,0),\"\")","v":""},{"$f":"IFERROR(VLOOKUP($C49,'Retorno dividendos 2016-2021'!$A:$C,3,0),\"\")","v":""},null,""]
[null,null,null,{"$f":"IFERROR(VLOOKUP($C50,'Retorno dividendos 2016-2021'!$A:$C,2,0),\"\")","v":""},{"$f":"IFERROR(VLOOKUP($C50,'Retorno dividendos 2016-2021'!$A:$C,3,0),\"\")","v":""},null,""]
[null,null,null,{"$f":"IFERROR(VLOOKUP($C51,'Retorno dividendos 2016-2021'!$A:$C,2,0),\"\")","v":""},{"$f":"IFERROR(VLOOKUP($C51,'Retorno dividendos 2016-2021'!$A:$C,3,0),\"\")","v":""},null,""]
[null,null,null,{"$f":"IFERROR(VLOOKUP($C52,'Retorno dividendos 2016-2021'!$A:$C,2,0),\"\")","v":""},{"$f":"IFERROR(VLOOKUP($C52,'Retorno dividendos 2016-2021'!$A:$C,3,0),\"\")","v":""},null,""]
[null,null,null,{"$f":"IFERROR(VLOOKUP($C53,'Retorno dividendos 2016-2021'!$A:$C,2,0),\"\")","v":""},{"$f":"IFERROR(VLOOKUP($C53,'Retorno dividendos 2016-2021'!$A:$C,3,0),\"\")","v":""},null,""]
[null,null,null,{"$f":"IFERROR(VLOOKUP($C54,'Retorno dividendos 2016-2021'!$A:$C,2,0),\"\")","v":""},{"$f":"IFERROR(VLOOKUP($C54,'Retorno dividendos 2016-2021'!$A:$C,3,0),\"\")","v":""},null,""]
[null,null,null,{"$f":"IFERROR(VLOOKUP($C55,'Retorno dividendos 2016-2021'!$A:$C,2,0),\"\")","v":""},{"$f":"IFERROR(VLOOKUP($C55,'Retorno dividendos 2016-2021'!$A:$C,3,0),\"\")","v":""},null,""]
[null,null,null,{"$f":"IFERROR(VLOOKUP($C56,'Retorno dividendos 2016-2021'!$A:$C,2,0),\"\")","v":""},{"$f":"IFERROR(VLOOKUP($C56,'Retorno dividendos 2016-2021'!$A:$C,3,0),\"\")","v":""},null,""]
[null,null,null,{"$f":"IFERROR(VLOOKUP($C57,'Retorno dividendos 2016-2021'!$A:$C,2,0),\"\")","v":""},{"$f":"IFERROR(VLOOKUP($C57,'Retorno dividendos 2016-2021'!$A:$C,3,0),\"\")","v":""},null,""]
[null,null,null,{"$f":"IFERROR(VLOOKUP($C58,'Retorno dividendos 2016-2021'!$A:$C,2,0),\"\")","v":""},{"$f":"IFERROR(VLOOKUP($C58,'Retorno dividendos 2016-2021'!$A:$C,3,0),\"\")","v":""},null,""]
[null,null,null,{"$f":"IFERROR(VLOOKUP($C59,'Retorno dividendos 2016-2021'!$A:$C,2,0),\"\")","v":""},{"$f":"IFERROR(VLOOKUP($C59,'Retorno dividendos 2016-2021'!$A:$C,3,0),\"\")","v":""},null,""]
[null,null,null,{"$f":"IFERROR(VLOOKUP($C60,'Retorno dividendos 2016-2021'!$A:$C,2,0),\"\")","v":""},{"$f":"IFERROR(VLOOKUP($C60,'Retorno dividendos 2016-2021'!$A:$C,3,0),\"\")","v":""},null,""]
[null,null,null,{"$f":"IFERROR(VLOOKUP($C61,'Retorno dividendos 2016-2021'!$A:$C,2,0),\"\")","v":""},{"$f":"IFERROR(VLOOKUP($C61,'Retorno dividendos 2016-2021'!$A:$C,3,0),\"\")","v":""},null,""]
[null,null,null,{"$f":"IFERROR(VLOOKUP($C62,'Retorno dividendos 2016-2021'!$A:$C,2,0),\"\")","v":""},{"$f":"IFERROR(VLOOKUP($C62,'Retorno dividendos 2016-2021'!$A:$C,3,0),\"\")","v":""},null,""]
[null,null,null,{"$f":"IFERROR(VLOOKUP($C63,'Retorno dividendos 2016-2021'!$A:$C,2,0),\"\")","v":""},{"$f":"IFERROR(VLOOKUP($C63,'Retorno dividendos 2016-2021'!$A:$C,3,0),\"\")","v":""},null,""]
[null,null,null,{"$f":"IFERROR(VLOOKUP($C64,'Retorno dividendos 2016-2021'!$A:$C,2,0),\"\")","v":""},{"$f":"IFERROR(VLOOKUP($C64,'Retorno dividendos 2016-2021'!$A:$C,3,0),\"\")","v":""},null,""]
[null,null,null,{"$f":"IFERROR(VLOOKUP($C65,'Retorno dividendos 2016-2021'!$A:$C,2,0),\"\")","v":""},{"$f":"IFERROR(VLOOKUP($C65,'Retorno dividendos 2016-2021'!$A:$C,3,0),\"\")","v":""},null,""]
[null,null,null,{"$f":"IFERROR(VLOOKUP($C66,'Retorno dividendos 2016-2021'!$A:$C,2,0),\"\")","v":""},{"$f":"IFERROR(VLOOKUP($C66,'Retorno dividendos 2016-2021'!$A:$C,3,0),\"\")","v":""},null,""]
[null,null,null,{"$f":"IFERROR(VLOOKUP($C67,'Retorno dividendos 2016-2021'!$A:$C,2,0),\"\")","v":""},{"$f":"IFERROR(VLOOKUP($C67,'Retorno dividendos 2016-2021'!$A:$C,3,0),\"\")","v":""},null,""]
[null,null,null,{"$f":"IFERROR(VLOOKUP($C68,'Retorno dividendos 2016-2021'!$A:$C,2,0),\"\")","v":""},{"$f":"IFERROR(VLOOKUP($C68,'Retorno dividendos 2016-2021'!$A:$C,3,0),\"\")","v":""},null,""]
[null,null,null,{"$f":"IFERROR(VLOOKUP($C69,'Retorno dividendos 2016-2021'!$A:$C,2,0),\"\")","v":""},{"$f":"IFERROR(VLOOKUP($C69,'Retorno dividendos 2016-2021'!$A:$C,3,0),\"\")","v":""},null,""]
[null,null,null,{"$f":"IFERROR(VLOOKUP($C70,'Retorno dividendos 2016-2021'!$A:$C,2,0),\"\")","v":""},{"$f":"IFERROR(VLOOKUP($C70,'Retorno dividendos 2016-2021'!$A:$C,3,0),\"\")","v":""},null,""]
[null,null,null,{"$f":"IFERROR(VLOOKUP($C71,'Retorno dividendos 2016-2021'!$A:$C,2,0),\"\")","v":""},{"$f":"IFERROR(VLOOKUP($C71,'Retorno dividendos 2016-2021'!$A:$C,3,0),\"\")","v":""},null,""]
[null,null,null,{"$f":"IFERROR(VLOOKUP($C72,'Retorno dividendos 2016-2021'!$A:$C,2,0),\"\")","v":""},{"$f":"IFERROR(VLOOKUP($C72,'Retorno dividendos 2016-2021'!$A:$C,3,0),\"\")","v":""},null,""]
[null,null,null,{"$f":"IFERROR(VLOOKUP($C73,'Retorno dividendos 2016-2021'!$A:$C,2,0),\"\")","v":""},{"$f":"IFERROR(VLOOKUP($C73,'Retorno dividendos 2016-2021'!$A:$C,3,0),\"\")","v":""},null,""]
[null,null,null,{"$f":"IFERROR(VLOOKUP($C74,'Retorno dividendos 2016-2021'!$A:$C,2,0),\"\")","v":""},{"$f":"IFERROR(VLOOKUP($C74,'Retorno dividendos 2016-2021'!$A:$C,3,0),\"\")","v":""},null,""]
[null,null,null,{"$f":"IFERROR(VLOOKUP($C75,'Retorno dividendos 2016-2021'!$A:$C,2,0),\"\")","v":""},{"$f":"IFERROR(VLOOKUP($C75,'Retorno dividendos 2016-2021'!$A:$C,3,0),\"\")","v":""},null,""]
[null,null,null,{"$f":"IFERROR(VLOOKUP($C76,'Retorno dividendos 2016-2021'!$A:$C,2,0),\"\")","v":""},{"$f":"IFERROR(VLOOKUP($C76,'Retorno dividendos 2016-2021'!$A:$C,3,0),\"\")","v":""},null,""]
[null,null,null,{"$f":"IFERROR(VLOOKUP($C77,'Retorno dividendos 2016-2021'!$A:$C,2,0),\"\")","v":""},{"$f":"IFERROR(VLOOKUP($C77,'Retorno dividendos 2016-2021'!$A:$C,3,0),\"\")","v":""},null,""]
[null,null,null,{"$f":"IFERROR(VLOOKUP($C78,'Retorno dividendos 2016-2021'!$A:$C,2,0),\"\")","v":""},{"$f":"IFERROR(VLOOKUP($C78,'Retorno dividendos 2016-2021'!$A:$C,3,0),\"\")","v":""},null,""]
[null,null,null,{"$f":"IFERROR(VLOOKUP($C79,'Retorno dividendos 2016-2021'!$A:$C,2,0),\"\")","v":""},{"$f":"IFERROR(VLOOKUP($C79,'Retorno dividendos 2016-2021'!$A:$C,3,0),\"\")","v":""},null,""]
[null,null,null,{"$f":"IFERROR(VLOOKUP($C80,'Retorno dividendos 2016-2021'!$A:$C,2,0),\"\")","v":""},{"$f":"IFERROR(VLOOKUP($C80,'Retorno dividendos 2016-2021'!$A:$C,3,0),\"\")","v":""},null,""]
[null,null,null,{"$f":"IFERROR(VLOOKUP($C81,'Retorno dividendos 2016-2021'!$A:$C,2,0),\"\")","v":""},{"$f":"IFERROR(VLOOKUP($C81,'Retorno dividendos 2016-2021'!$A:$C,3,0),\"\")","v":""},null,{"$f":"IF(F81=\"\",\"\",$E$3*F81)","v":""}]
[null,null,null,{"$f":"IFERROR(VLOOKUP($C82,'Retorno dividendos 2016-2021'!$A:$C,2,0),\"\")","v":""},{"$f":"IFERROR(VLOOKUP($C82,'Retorno dividendos 2016-2021'!$A:$C,3,0),\"\")","v":""},null,""]
[null,null,null,{"$f":"IFERROR(VLOOKUP($C83,'Retorno dividendos 2016-2021'!$A:$C,2,0),\"\")","v":""},{"$f":"IFERROR(VLOOKUP($C83,'Retorno dividendos 2016-2021'!$A:$C,3,0),\"\")","v":""},null,""]
[null,null,null,{"$f":"IFERROR(VLOOKUP($C84,'Retorno dividendos 2016-2021'!$A:$C,2,0),\"\")","v":""},{"$f":"IFERROR(VLOOKUP($C84,'Retorno dividendos 2016-2021'!$A:$C,3,0),\"\")","v":""},null,""]
[null,null,null,{"$f":"IFERROR(VLOOKUP($C85,'Retorno dividendos 2016-2021'!$A:$C,2,0),\"\")","v":""},{"$f":"IFERROR(VLOOKUP($C85,'Retorno dividendos 2016-2021'!$A:$C,3,0),\"\")","v":""},null,""]
[null,null,null,{"$f":"IFERROR(VLOOKUP($C86,'Retorno dividendos 2016-2021'!$A:$C,2,0),\"\")","v":""},{"$f":"IFERROR(VLOOKUP($C86,'Retorno dividendos 2016-2021'!$A:$C,3,0),\"\")","v":""},null,""]
[null,null,null,{"$f":"IFERROR(VLOOKUP($C87,'Retorno dividendos 2016-2021'!$A:$C,2,0),\"\")","v":""},{"$f":"IFERROR(VLOOKUP($C87,'Retorno dividendos 2016-2021'!$A:$C,3,0),\"\")","v":""},null,""]
[null,null,null,{"$f":"IFERROR(VLOOKUP($C88,'Retorno dividendos 2016-2021'!$A:$C,2,0),\"\")","v":""},{"$f":"IFERROR(VLOOKUP($C88,'Retorno dividendos 2016-2021'!$A:$C,3,0),\"\")","v":""},null,""]
[null,null,null,{"$f":"IFERROR(VLOOKUP($C89,'Retorno dividendos 2016-2021'!$A:$C,2,0),\"\")","v":""},{"$f":"IFERROR(VLOOKUP($C89,'Retorno dividendos 2016-2021'!$A:$C,3,0),\"\")","v":""},null,""]
[null,null,null,{"$f":"IFERROR(VLOOKUP($C90,'Retorno dividendos 2016-2021'!$A:$C,2,0),\"\")","v":""},{"$f":"IFERROR(VLOOKUP($C90,'Retorno dividendos 2016-2021'!$A:$C,3,0),\"\")","v":""},null,""]
[null,null,null,{"$f":"IFERROR(VLOOKUP($C91,'Retorno dividendos 2016-2021'!$A:$C,2,0),\"\")","v":""},{"$f":"IFERROR(VLOOKUP($C91,'Retorno dividendos 2016-2021'!$A:$C,3,0),\"\")","v":""},null,""]
[null,null,null,{"$f":"IFERROR(VLOOKUP($C92,'Retorno dividendos 2016-2021'!$A:$C,2,0),\"\")","v":""},{"$f":"IFERROR(VLOOKUP($C92,'Retorno dividendos 2016-2021'!$A:$C,3,0),\"\")","v":""},null,""]
[null,null,null,{"$f":"IFERROR(VLOOKUP($C93,'Retorno dividendos 2016-2021'!$A:$C,2,0),\"\")","v":""},{"$f":"IFERROR(VLOOKUP($C93,'Retorno dividendos 2016-2021'!$A:$C,3,0),\"\")","v":""},null,""]
[null,null,null,{"$f":"IFERROR(VLOOKUP($C94,'Retorno dividendos 2016-2021'!$A:$C,2,0),\"\")","v":""},{"$f":"IFERROR(VLOOKUP($C94,'Retorno dividendos 2016-2021'!$A:$C,3,0),\"\")","v":""},null,""]
[null,null,null,{"$f":"IFERROR(VLOOKUP($C95,'Retorno dividendos 2016-2021'!$A:$C,2,0),\"\")","v":""},{"$f":"IFERROR(VLOOKUP($C95,'Retorno dividendos 2016-2021'!$A:$C,3,0),\"\")","v":""},null,""]
[null,null,null,{"$f":"IFERROR(VLOOKUP($C96,'Retorno dividendos 2016-2021'!$A:$C,2,0),\"\")","v":""},{"$f":"IFERROR(VLOOKUP($C96,'Retorno dividendos 2016-2021'!$A:$C,3,0),\"\")","v":""},null,""]
[null,null,null,{"$f":"IFERROR(VLOOKUP($C97,'Retorno dividendos 2016-2021'!$A:$C,2,0),\"\")","v":""},{"$f":"IFERROR(VLOOKUP($C97,'Retorno dividendos 2016-2021'!$A:$C,3,0),\"\")","v":""},null,""]
[null,null,null,{"$f":"IFERROR(VLOOKUP($C98,'Retorno dividendos 2016-2021'!$A:$C,2,0),\"\")","v":""},{"$f":"IFERROR(VLOOKUP($C98,'Retorno dividendos 2016-2021'!$A:$C,3,0),\"\")","v":""},null,""]
[null,null,null,{"$f":"IFERROR(VLOOKUP($C99,'Retorno dividendos 2016-2021'!$A:$C,2,0),\"\")","v":""},{"$f":"IFERROR(VLOOKUP($C99,'Retorno dividendos 2016-2021'!$A:$C,3,0),\"\")","v":""},null,""]
[null,null,null,{"$f":"IFERROR(VLOOKUP($C100,'Retorno dividendos 2016-2021'!$A:$C,2,0),\"\")","v":""},{"$f":"IFERROR(VLOOKUP($C100,'Retorno dividendos 2016-2021'!$A:$C,3,0),\"\")","v":""},null,""]
[null,null,null,{"$f":"IFERROR(VLOOKUP($C101,'Retorno dividendos 2016-2021'!$A:$C,2,0),\"\")","v":""},{"$f":"IFERROR(VLOOKUP($C101,'Retorno dividendos 2016-2021'!$A:$C,3,0),\"\")","v":""},null,""]
[null,null,null,{"$f":"IFERROR(VLOOKUP($C102,'Retorno dividendos 2016-2021'!$A:$C,2,0),\"\")","v":""},{"$f":"IFERROR(VLOOKUP($C102,'Retorno dividendos 2016-2021'!$A:$C,3,0),\"\")","v":""},null,""]
[null,null,null,{"$f":"IFERROR(VLOOKUP($C103,'Retorno dividendos 2016-2021'!$A:$C,2,0),\"\")","v":""},{"$f":"IFERROR(VLOOKUP($C103,'Retorno dividendos 2016-2021'!$A:$C,3,0),\"\")","v":""},null,""]
[null,null,null,{"$f":"IFERROR(VLOOKUP($C104,'Retorno dividendos 2016-2021'!$A:$C,2,0),\"\")","v":""},{"$f":"IFERROR(VLOOKUP($C104,'Retorno dividendos 2016-2021'!$A:$C,3,0),\"\")","v":""},null,""]
[null,null,null,{"$f":"IFERROR(VLOOKUP($C105,'Retorno dividendos 2016-2021'!$A:$C,2,0),\"\")","v":""},{"$f":"IFERROR(VLOOKUP($C105,'Retorno dividendos 2016-2021'!$A:$C,3,0),\"\")","v":""},null,""]
[null,null,null,{"$f":"IFERROR(VLOOKUP($C106,'Retorno dividendos 2016-2021'!$A:$C,2,0),\"\")","v":""},{"$f":"IFERROR(VLOOKUP($C106,'Retorno dividendos 2016-2021'!$A:$C,3,0),\"\")","v":""},null,""]
[null,null,null,{"$f":"IFERROR(VLOOKUP($C107,'Retorno dividendos 2016-2021'!$A:$C,2,0),\"\")","v":""},{"$f":"IFERROR(VLOOKUP($C107,'Retorno dividendos 2016-2021'!$A:$C,3,0),\"\")","v":""},null,""]
[null,null,null,{"$f":"IFERROR(VLOOKUP($C108,'Retorno dividendos 2016-2021'!$A:$C,2,0),\"\")","v":""},{"$f":"IFERROR(VLOOKUP($C108,'Retorno dividendos 2016-2021'!$A:$C,3,0),\"\")","v":""},null,""]
[null,null,null,{"$f":"IFERROR(VLOOKUP($C109,'Retorno dividendos 2016-2021'!$A:$C,2,0),\"\")","v":""},{"$f":"IFERROR(VLOOKUP($C109,'Retorno dividendos 2016-2021'!$A:$C,3,0),\"\")","v":""},null,""]
[null,null,null,{"$f":"IFERROR(VLOOKUP($C110,'Retorno dividendos 2016-2021'!$A:$C,2,0),\"\")","v":""},{"$f":"IFERROR(VLOOKUP($C110,'Retorno dividendos 2016-2021'!$A:$C,3,0),\"\")","v":""},null,""]
[null,null,null,{"$f":"IFERROR(VLOOKUP($C111,'Retorno dividendos 2016-2021'!$A:$C,2,0),\"\")","v":""},{"$f":"IFERROR(VLOOKUP($C111,'Retorno dividendos 2016-2021'!$A:$C,3,0),\"\")","v":""},null,""]
[null,null,null,{"$f":"IFERROR(VLOOKUP($C112,'Retorno dividendos 2016-2021'!$A:$C,2,0),\"\")","v":""},{"$f":"IFERROR(VLOOKUP($C112,'Retorno dividendos 2016-2021'!$A:$C,3,0),\"\")","v":""},null,""]
[null,null,null,{"$f":"IFERROR(VLOOKUP($C113,'Retorno dividendos 2016-2021'!$A:$C,2,0),\"\")","v":""},{"$f":"IFERROR(VLOOKUP($C113,'Retorno dividendos 2016-2021'!$A:$C,3,0),\"\")","v":""},null,""]
[null,null,null,{"$f":"IFERROR(VLOOKUP($C114,'Retorno dividendos 2016-2021'!$A:$C,2,0),\"\")","v":""},{"$f":"IFERROR(VLOOKUP($C114,'Retorno dividendos 2016-2021'!$A:$C,3,0),\"\")","v":""},null,""]
[null,null,null,{"$f":"IFERROR(VLOOKUP($C115,'Retorno dividendos 2016-2021'!$A:$C,2,0),\"\")","v":""},{"$f":"IFERROR(VLOOKUP($C115,'Retorno dividendos 2016-2021'!$A:$C,3,0),\"\")","v":""},null,""]
[null,null,null,{"$f":"IFERROR(VLOOKUP($C116,'Retorno dividendos 2016-2021'!$A:$C,2,0),\"\")","v":""},{"$f":"IFERROR(VLOOKUP($C116,'Retorno dividendos 2016-2021'!$A:$C,3,0),\"\")","v":""},null,""]
[null,null,null,{"$f":"IFERROR(VLOOKUP($C117,'Retorno dividendos 2016-2021'!$A:$C,2,0),\"\")","v":""},{"$f":"IFERROR(VLOOKUP($C117,'Retorno dividendos 2016-2021'!$A:$C,3,0),\"\")","v":""},null,""]
[null,null,null,{"$f":"IFERROR(VLOOKUP($C118,'Retorno dividendos 2016-2021'!$A:$C,2,0),\"\")","v":""},{"$f":"IFERROR(VLOOKUP($C118,'Retorno dividendos 2016-2021'!$A:$C,3,0),\"\")","v":""},null,""]
[null,null,null,{"$f":"IFERROR(VLOOKUP($C119,'Retorno dividendos 2016-2021'!$A:$C,2,0),\"\")","v":""},{"$f":"IFERROR(VLOOKUP($C119,'Retorno dividendos 2016-2021'!$A:$C,3,0),\"\")","v":""},null,""]
[null,null,null,{"$f":"IFERROR(VLOOKUP($C120,'Retorno dividendos 2016-2021'!$A:$C,2,0),\"\")","v":""},{"$f":"IFERROR(VLOOKUP($C120,'Retorno dividendos 2016-2021'!$A:$C,3,0),\"\")","v":""},null,""]
[null,null,null,{"$f":"IFERROR(VLOOKUP($C121,'Retorno dividendos 2016-2021'!$A:$C,2,0),\"\")","v":""},{"$f":"IFERROR(VLOOKUP($C121,'Retorno dividendos 2016-2021'!$A:$C,3,0),\"\")","v":""},null,""]
[null,null,null,{"$f":"IFERROR(VLOOKUP($C122,'Retorno dividendos 2016-2021'!$A:$C,2,0),\"\")","v":""},{"$f":"IFERROR(VLOOKUP($C122,'Retorno dividendos 2016-2021'!$A:$C,3,0),\"\")","v":""},null,""]
[null,null,null,{"$f":"IFERROR(VLOOKUP($C123,'Retorno dividendos 2016-2021'!$A:$C,2,0),\"\")","v":""},{"$f":"IFERROR(VLOOKUP($C123,'Retorno dividendos 2016-2021'!$A:$C,3,0),\"\")","v":""},null,""]
[null,null,null,{"$f":"IFERROR(VLOOKUP($C124,'Retorno dividendos 2016-2021'!$A:$C,2,0),\"\")","v":""},{"$f":"IFERROR(VLOOKUP($C124,'Retorno dividendos 2016-2021'!$A:$C,3,0),\"\")","v":""},null,""]
[null,null,null,{"$f":"IFERROR(VLOOKUP($C125,'Retorno dividendos 2016-2021'!$A:$C,2,0),\"\")","v":""},{"$f":"IFERROR(VLOOKUP($C125,'Retorno dividendos 2016-2021'!$A:$C,3,0),\"\")","v":""},null,""]
[null,null,null,{"$f":"IFERROR(VLOOKUP($C126,'Retorno dividendos 2016-2021'!$A:$C,2,0),\"\")","v":""},{"$f":"IFERROR(VLOOKUP($C126,'Retorno dividendos 2016-2021'!$A:$C,3,0),\"\")","v":""},null,""]
[null,null,null,{"$f":"IFERROR(VLOOKUP($C127,'Retorno dividendos 2016-2021'!$A:$C,2,0),\"\")","v":""},{"$f":"IFERROR(VLOOKUP($C127,'Retorno dividendos 2016-2021'!$A:$C,3,0),\"\")","v":""},null,""]
[null,null,null,{"$f":"IFERROR(VLOOKUP($C128,'Retorno dividendos 2016-2021'!$A:$C,2,0),\"\")","v":""},{"$f":"IFERROR(VLOOKUP($C128,'Retorno dividendos 2016-2021'!$A:$C,3,0),\"\")","v":""},null,""]
[null,null,null,{"$f":"IFERROR(VLOOKUP($C129,'Retorno dividendos 2016-2021'!$A:$C,2,0),\"\")","v":""},{"$f":"IFERROR(VLOOKUP($C129,'Retorno dividendos 2016-2021'!$A:$C,3,0),\"\")","v":""},null,""]
[null,null,null,{"$f":"IFERROR(VLOOKUP($C130,'Retorno dividendos 2016-2021'!$A:$C,2,0),\"\")","v":""},{"$f":"IFERROR(VLOOKUP($C130,'Retorno dividendos 2016-2021'!$A:$C,3,0),\"\")","v":""},null,""]
[null,null,null,{"$f":"IFERROR(VLOOKUP($C131,'Retorno dividendos 2016-2021'!$A:$C,2,0),\"\")","v":""},{"$f":"IFERROR(VLOOKUP($C131,'Retorno dividendos 2016-2021'!$A:$C,3,0),\"\")","v":""},null,""]
[null,null,null,{"$f":"IFERROR(VLOOKUP($C132,'Retorno dividendos 2016-2021'!$A:$C,2,0),\"\")","v":""},{"$f":"IFERROR(VLOOKUP($C132,'Retorno dividendos 2016-2021'!$A:$C,3,0),\"\")","v":""},null,""]
[null,null,null,{"$f":"IFERROR(VLOOKUP($C133,'Retorno dividendos 2016-2021'!$A:$C,2,0),\"\")","v":""},{"$f":"IFERROR(VLOOKUP($C133,'Retorno dividendos 2016-2021'!$A:$C,3,0),\"\")","v":""},null,""]
[null,null,null,{"$f":"IFERROR(VLOOKUP($C134,'Retorno dividendos 2016-2021'!$A:$C,2,0),\"\")","v":""},{"$f":"IFERROR(VLOOKUP($C134,'Retorno dividendos 2016-2021'!$A:$C,3,0),\"\")","v":""},null,""]
[null,null,null,{"$f":"IFERROR(VLOOKUP($C135,'Retorno dividendos 2016-2021'!$A:$C,2,0),\"\")","v":""},{"$f":"IFERROR(VLOOKUP($C135,'Retorno dividendos 2016-2021'!$A:$C,3,0),\"\")","v":""},null,""]
[null,null,null,{"$f":"IFERROR(VLOOKUP($C136,'Retorno dividendos 2016-2021'!$A:$C,2,0),\"\")","v":""},{"$f":"IFERROR(VLOOKUP($C136,'Retorno dividendos 2016-2021'!$A:$C,3,0),\"\")","v":""},null,""]
[null,null,null,{"$f":"IFERROR(VLOOKUP($C137,'Retorno dividendos 2016-2021'!$A:$C,2,0),\"\")","v":""},{"$f":"IFERROR(VLOOKUP($C137,'Retorno dividendos 2016-2021'!$A:$C,3,0),\"\")","v":""},null,""]
[null,null,null,{"$f":"IFERROR(VLOOKUP($C138,'Retorno dividendos 2016-2021'!$A:$C,2,0),\"\")","v":""},{"$f":"IFERROR(VLOOKUP($C138,'Retorno dividendos 2016-2021'!$A:$C,3,0),\"\")","v":""},null,""]
[null,null,null,{"$f":"IFERROR(VLOOKUP($C139,'Retorno dividendos 2016-2021'!$A:$C,2,0),\"\")","v":""},{"$f":"IFERROR(VLOOKUP($C139,'Retorno dividendos 2016-2021'!$A:$C,3,0),\"\")","v":""},null,""]
[null,null,null,{"$f":"IFERROR(VLOOKUP($C140,'Retorno dividendos 2016-2021'!$A:$C,2,0),\"\")","v":""},{"$f":"IFERROR(VLOOKUP($C140,'Retorno dividendos 2016-2021'!$A:$C,3,0),\"\")","v":""},null,""]
[null,null,null,{"$f":"IFERROR(VLOOKUP($C141,'Retorno dividendos 2016-2021'!$A:$C,2,0),\"\")","v":""},{"$f":"IFERROR(VLOOKUP($C141,'Retorno dividendos 2016-2021'!$A:$C,3,0),\"\")","v":""},null,""]
[null,null,null,{"$f":"IFERROR(VLOOKUP($C142,'Retorno dividendos 2016-2021'!$A:$C,2,0),\"\")","v":""},{"$f":"IFERROR(VLOOKUP($C142,'Retorno dividendos 2016-2021'!$A:$C,3,0),\"\")","v":""},null,""]
[null,null,null,{"$f":"IFERROR(VLOOKUP($C143,'Retorno dividendos 2016-2021'!$A:$C,2,0),\"\")","v":""},{"$f":"IFERROR(VLOOKUP($C143,'Retorno dividendos 2016-2021'!$A:$C,3,0),\"\")","v":""},null,""]
[null,null,null,{"$f":"IFERROR(VLOOKUP($C144,'Retorno dividendos 2016-2021'!$A:$C,2,0),\"\")","v":""},{"$f":"IFERROR(VLOOKUP($C144,'Retorno dividendos 2016-2021'!$A:$C,3,0),\"\")","v":""},null,""]
[null,null,null,{"$f":"IFERROR(VLOOKUP($C145,'Retorno dividendos 2016-2021'!$A:$C,2,0),\"\")","v":""},{"$f":"IFERROR(VLOOKUP($C145,'Retorno dividendos 2016-2021'!$A:$C,3,0),\"\")","v":""},null,{"$f":"IF(F145=\"\",\"\",$E$3*F145)","v":""}]
[null,null,null,{"$f":"IFERROR(VLOOKUP($C146,'Retorno dividendos 2016-2021'!$A:$C,2,0),\"\")","v":""},{"$f":"IFERROR(VLOOKUP($C146,'Retorno dividendos 2016-2021'!$A:$C,3,0),\"\")","v":""},null,""]
[null,null,null,{"$f":"IFERROR(VLOOKUP($C147,'Retorno dividendos 2016-2021'!$A:$C,2,0),\"\")","v":""},{"$f":"IFERROR(VLOOKUP($C147,'Retorno dividendos 2016-2021'!$A:$C,3,0),\"\")","v":""},null,""]
[null,null,null,{"$f":"IFERROR(VLOOKUP($C148,'Retorno dividendos 2016-2021'!$A:$C,2,0),\"\")","v":""},{"$f":"IFERROR(VLOOKUP($C148,'Retorno dividendos 2016-2021'!$A:$C,3,0),\"\")","v":""},null,""]
[null,null,null,{"$f":"IFERROR(VLOOKUP($C149,'Retorno dividendos 2016-2021'!$A:$C,2,0),\"\")","v":""},{"$f":"IFERROR(VLOOKUP($C149,'Retorno dividendos 2016-2021'!$A:$C,3,0),\"\")","v":""},null,""]
[null,null,null,{"$f":"IFERROR(VLOOKUP($C150,'Retorno dividendos 2016-2021'!$A:$C,2,0),\"\")","v":""},{"$f":"IFERROR(VLOOKUP($C150,'Retorno dividendos 2016-2021'!$A:$C,3,0),\"\")","v":""},null,""]
[null,null,null,{"$f":"IFERROR(VLOOKUP($C151,'Retorno dividendos 2016-2021'!$A:$C,2,0),\"\")","v":""},{"$f":"IFERROR(VLOOKUP($C151,'Retorno dividendos 2016-2021'!$A:$C,3,0),\"\")","v":""},null,""]
[null,null,null,{"$f":"IFERROR(VLOOKUP($C152,'Retorno dividendos 2016-2021'!$A:$C,2,0),\"\")","v":""},{"$f":"IFERROR(VLOOKUP($C152,'Retorno dividendos 2016-2021'!$A:$C,3,0),\"\")","v":""},null,""]
[null,null,null,{"$f":"IFERROR(VLOOKUP($C153,'Retorno dividendos 2016-2021'!$A:$C,2,0),\"\")","v":""},{"$f":"IFERROR(VLOOKUP($C153,'Retorno dividendos 2016-2021'!$A:$C,3,0),\"\")","v":""},null,""]
[null,null,null,{"$f":"IFERROR(VLOOKUP($C154,'Retorno dividendos 2016-2021'!$A:$C,2,0),\"\")","v":""},{"$f":"IFERROR(VLOOKUP($C154,'Retorno dividendos 2016-2021'!$A:$C,3,0),\"\")","v":""},null,""]
[null,null,null,{"$f":"IFERROR(VLOOKUP($C155,'Retorno dividendos 2016-2021'!$A:$C,2,0),\"\")","v":""},{"$f":"IFERROR(VLOOKUP($C155,'Retorno dividendos 2016-2021'!$A:$C,3,0),\"\")","v":""},null,""]
[null,null,null,{"$f":"IFERROR(VLOOKUP($C156,'Retorno dividendos 2016-2021'!$A:$C,2,0),\"\")","v":""},{"$f":"IFERROR(VLOOKUP($C156,'Retorno dividendos 2016-2021'!$A:$C,3,0),\"\")","v":""},null,""]
[null,null,null,{"$f":"IFERROR(VLOOKUP($C157,'Retorno dividendos 2016-2021'!$A:$C,2,0),\"\")","v":""},{"$f":"IFERROR(VLOOKUP($C157,'Retorno dividendos 2016-2021'!$A:$C,3,0),\"\")","v":""},null,""]
[null,null,null,{"$f":"IFERROR(VLOOKUP($C158,'Retorno dividendos 2016-2021'!$A:$C,2,0),\"\")","v":""},{"$f":"IFERROR(VLOOKUP($C158,'Retorno dividendos 2016-2021'!$A:$C,3,0),\"\")","v":""},null,""]
[null,null,null,{"$f":"IFERROR(VLOOKUP($C159,'Retorno dividendos 2016-2021'!$A:$C,2,0),\"\")","v":""},{"$f":"IFERROR(VLOOKUP($C159,'Retorno dividendos 2016-2021'!$A:$C,3,0),\"\")","v":""},null,""]
[null,null,null,{"$f":"IFERROR(VLOOKUP($C160,'Retorno dividendos 2016-2021'!$A:$C,2,0),\"\")","v":""},{"$f":"IFERROR(VLOOKUP($C160,'Retorno dividendos 2016-2021'!$A:$C,3,0),\"\")","v":""},null,""]
[null,null,null,{"$f":"IFERROR(VLOOKUP($C161,'Retorno dividendos 2016-2021'!$A:$C,2,0),\"\")","v":""},{"$f":"IFERROR(VLOOKUP($C161,'Retorno dividendos 2016-2021'!$A:$C,3,0),\"\")","v":""},null,""]
[null,null,null,{"$f":"IFERROR(VLOOKUP($C162,'Retorno dividendos 2016-2021'!$A:$C,2,0),\"\")","v":""},{"$f":"IFERROR(VLOOKUP($C162,'Retorno dividendos 2016-2021'!$A:$C,3,0),\"\")","v":""},null,""]
[null,null,null,{"$f":"IFERROR(VLOOKUP($C163,'Retorno dividendos 2016-2021'!$A:$C,2,0),\"\")","v":""},{"$f":"IFERROR(VLOOKUP($C163,'Retorno dividendos 2016-2021'!$A:$C,3,0),\"\")","v":""},null,""]
[null,null,null,{"$f":"IFERROR(VLOOKUP($C164,'Retorno dividendos 2016-2021'!$A:$C,2,0),\"\")","v":""},{"$f":"IFERROR(VLOOKUP($C164,'Retorno dividendos 2016-2021'!$A:$C,3,0),\"\")","v":""},null,""]
[null,null,null,{"$f":"IFERROR(VLOOKUP($C165,'Retorno dividendos 2016-2021'!$A:$C,2,0),\"\")","v":""},{"$f":"IFERROR(VLOOKUP($C165,'Retorno dividendos 2016-2021'!$A:$C,3,0),\"\")","v":""},null,""]
[null,null,null,{"$f":"IFERROR(VLOOKUP($C166,'Retorno dividendos 2016-2021'!$A:$C,2,0),\"\")","v":""},{"$f":"IFERROR(VLOOKUP($C166,'Retorno dividendos 2016-2021'!$A:$C,3,0),\"\")","v":""},null,""]
[null,null,null,{"$f":"IFERROR(VLOOKUP($C167,'Retorno dividendos 2016-2021'!$A:$C,2,0),\"\")","v":""},{"$f":"IFERROR(VLOOKUP($C167,'Retorno dividendos 2016-2021'!$A:$C,3,0),\"\")","v":""},null,""]
[null,null,null,{"$f":"IFERROR(VLOOKUP($C168,'Retorno dividendos 2016-2021'!$A:$C,2,0),\"\")","v":""},{"$f":"IFERROR(VLOOKUP($C168,'Retorno dividendos 2016-2021'!$A:$C,3,0),\"\")","v":""},null,""]
[null,null,null,{"$f":"IFERROR(VLOOKUP($C169,'Retorno dividendos 2016-2021'!$A:$C,2,0),\"\")","v":""},{"$f":"IFERROR(VLOOKUP($C169,'Retorno dividendos 2016-2021'!$A:$C,3,0),\"\")","v":""},null,""]
[null,null,null,{"$f":"IFERROR(VLOOKUP($C170,'Retorno dividendos 2016-2021'!$A:$C,2,0),\"\")","v":""},{"$f":"IFERROR(VLOOKUP($C170,'Retorno dividendos 2016-2021'!$A:$C,3,0),\"\")","v":""},null,""]
[null,null,null,{"$f":"IFERROR(VLOOKUP($C171,'Retorno dividendos 2016-2021'!$A:$C,2,0),\"\")","v":""},{"$f":"IFERROR(VLOOKUP($C171,'Retorno dividendos 2016-2021'!$A:$C,3,0),\"\")","v":""},null,""]
[null,null,null,{"$f":"IFERROR(VLOOKUP($C172,'Retorno dividendos 2016-2021'!$A:$C,2,0),\"\")","v":""},{"$f":"IFERROR(VLOOKUP($C172,'Retorno dividendos 2016-2021'!$A:$C,3,0),\"\")","v":""},null,""]
[null,null,null,{"$f":"IFERROR(VLOOKUP($C173,'Retorno dividendos 2016-2021'!$A:$C,2,0),\"\")","v":""},{"$f":"IFERROR(VLOOKUP($C173,'Retorno dividendos 2016-2021'!$A:$C,3,0),\"\")","v":""},null,""]
[null,null,null,{"$f":"IFERROR(VLOOKUP($C174,'Retorno dividendos 2016-2021'!$A:$C,2,0),\"\")","v":""},{"$f":"IFERROR(VLOOKUP($C174,'Retorno dividendos 2016-2021'!$A:$C,3,0),\"\")","v":""},null,""]
[null,null,null,{"$f":"IFERROR(VLOOKUP($C175,'Retorno dividendos 2016-2021'!$A:$C,2,0),\"\")","v":""},{"$f":"IFERROR(VLOOKUP($C175,'Retorno dividendos 2016-2021'!$A:$C,3,0),\"\")","v":""},null,""]
[null,null,null,{"$f":"IFERROR(VLOOKUP($C176,'Retorno dividendos 2016-2021'!$A:$C,2,0),\"\")","v":""},{"$f":"IFERROR(VLOOKUP($C176,'Retorno dividendos 2016-2021'!$A:$C,3,0),\"\")","v":""},null,""]
[null,null,null,{"$f":"IFERROR(VLOOKUP($C177,'Retorno dividendos 2016-2021'!$A:$C,2,0),\"\")","v":""},{"$f":"IFERROR(VLOOKUP($C177,'Retorno dividendos 2016-2021'!$A:$C,3,0),\"\")","v":""},null,""]
[null,null,null,{"$f":"IFERROR(VLOOKUP($C178,'Retorno dividendos 2016-2021'!$A:$C,2,0),\"\")","v":""},{"$f":"IFERROR(VLOOKUP($C178,'Retorno dividendos 2016-2021'!$A:$C,3,0),\"\")","v":""},null,""]
[null,null,null,{"$f":"IFERROR(VLOOKUP($C179,'Retorno dividendos 2016-2021'!$A:$C,2,0),\"\")","v":""},{"$f":"IFERROR(VLOOKUP($C179,'Retorno dividendos 2016-2021'!$A:$C,3,0),\"\")","v":""},null,""]
[null,null,null,{"$f":"IFERROR(VLOOKUP($C180,'Retorno dividendos 2016-2021'!$A:$C,2,0),\"\")","v":""},{"$f":"IFERROR(VLOOKUP($C180,'Retorno dividendos 2016-2021'!$A:$C,3,0),\"\")","v":""},null,""]
[null,null,null,{"$f":"IFERROR(VLOOKUP($C181,'Retorno dividendos 2016-2021'!$A:$C,2,0),\"\")","v":""},{"$f":"IFERROR(VLOOKUP($C181,'Retorno dividendos 2016-2021'!$A:$C,3,0),\"\")","v":""},null,""]
[null,null,null,{"$f":"IFERROR(VLOOKUP($C182,'Retorno dividendos 2016-2021'!$A:$C,2,0),\"\")","v":""},{"$f":"IFERROR(VLOOKUP($C182,'Retorno dividendos 2016-2021'!$A:$C,3,0),\"\")","v":""},null,""]
[null,null,null,{"$f":"IFERROR(VLOOKUP($C183,'Retorno dividendos 2016-2021'!$A:$C,2,0),\"\")","v":""},{"$f":"IFERROR(VLOOKUP($C183,'Retorno dividendos 2016-2021'!$A:$C,3,0),\"\")","v":""},null,""]
[null,null,null,{"$f":"IFERROR(VLOOKUP($C184,'Retorno dividendos 2016-2021'!$A:$C,2,0),\"\")","v":""},{"$f":"IFERROR(VLOOKUP($C184,'Retorno dividendos 2016-2021'!$A:$C,3,0),\"\")","v":""},null,""]
[null,null,null,{"$f":"IFERROR(VLOOKUP($C185,'Retorno dividendos 2016-2021'!$A:$C,2,0),\"\")","v":""},{"$f":"IFERROR(VLOOKUP($C185,'Retorno dividendos 2016-2021'!$A:$C,3,0),\"\")","v":""},null,""]
[null,null,null,{"$f":"IFERROR(VLOOKUP($C186,'Retorno dividendos 2016-2021'!$A:$C,2,0),\"\")","v":""},{"$f":"IFERROR(VLOOKUP($C186,'Retorno dividendos 2016-2021'!$A:$C,3,0),\"\")","v":""},null,""]
[null,null,null,{"$f":"IFERROR(VLOOKUP($C187,'Retorno dividendos 2016-2021'!$A:$C,2,0),\"\")","v":""},{"$f":"IFERROR(VLOOKUP($C187,'Retorno dividendos 2016-2021'!$A:$C,3,0),\"\")","v":""},null,""]
[null,null,null,{"$f":"IFERROR(VLOOKUP($C188,'Retorno dividendos 2016-2021'!$A:$C,2,0),\"\")","v":""},{"$f":"IFERROR(VLOOKUP($C188,'Retorno dividendos 2016-2021'!$A:$C,3,0),\"\")","v":""},null,""]
[null,null,null,{"$f":"IFERROR(VLOOKUP($C189,'Retorno dividendos 2016-2021'!$A:$C,2,0),\"\")","v":""},{"$f":"IFERROR(VLOOKUP($C189,'Retorno dividendos 2016-2021'!$A:$C,3,0),\"\")","v":""},null,""]
[null,null,null,{"$f":"IFERROR(VLOOKUP($C190,'Retorno dividendos 2016-2021'!$A:$C,2,0),\"\")","v":""},{"$f":"IFERROR(VLOOKUP($C190,'Retorno dividendos 2016-2021'!$A:$C,3,0),\"\")","v":""},null,""]
[null,null,null,{"$f":"IFERROR(VLOOKUP($C191,'Retorno dividendos 2016-2021'!$A:$C,2,0),\"\")","v":""},{"$f":"IFERROR(VLOOKUP($C191,'Retorno dividendos 2016-2021'!$A:$C,3,0),\"\")","v":""},null,""]
[null,null,null,{"$f":"IFERROR(VLOOKUP($C192,'Retorno dividendos 2016-2021'!$A:$C,2,0),\"\")","v":""},{"$f":"IFERROR(VLOOKUP($C192,'Retorno dividendos 2016-2021'!$A:$C,3,0),\"\")","v":""},null,""]
[null,null,null,{"$f":"IFERROR(VLOOKUP($C193,'Retorno dividendos 2016-2021'!$A:$C,2,0),\"\")","v":""},{"$f":"IFERROR(VLOOKUP($C193,'Retorno dividendos 2016-2021'!$A:$C,3,0),\"\")","v":""},null,""]
[null,null,null,{"$f":"IFERROR(VLOOKUP($C194,'Retorno dividendos 2016-2021'!$A:$C,2,0),\"\")","v":""},{"$f":"IFERROR(VLOOKUP($C194,'Retorno dividendos 2016-2021'!$A:$C,3,0),\"\")","v":""},null,""]
[null,null,null,{"$f":"IFERROR(VLOOKUP($C195,'Retorno dividendos 2016-2021'!$A:$C,2,0),\"\")","v":""},{"$f":"IFERROR(VLOOKUP($C195,'Retorno dividendos 2016-2021'!$A:$C,3,0),\"\")","v":""},null,""]
[null,null,null,{"$f":"IFERROR(VLOOKUP($C196,'Retorno dividendos 2016-2021'!$A:$C,2,0),\"\")","v":""},{"$f":"IFERROR(VLOOKUP($C196,'Retorno dividendos 2016-2021'!$A:$C,3,0),\"\")","v":""},null,""]
[null,null,null,{"$f":"IFERROR(VLOOKUP($C197,'Retorno dividendos 2016-2021'!$A:$C,2,0),\"\")","v":""},{"$f":"IFERROR(VLOOKUP($C197,'Retorno dividendos 2016-2021'!$A:$C,3,0),\"\")","v":""},null,""]
[null,null,null,{"$f":"IFERROR(VLOOKUP($C198,'Retorno dividendos 2016-2021'!$A:$C,2,0),\"\")","v":""},{"$f":"IFERROR(VLOOKUP($C198,'Retorno dividendos 2016-2021'!$A:$C,3,0),\"\")","v":""},null,""]
[null,null,null,{"$f":"IFERROR(VLOOKUP($C199,'Retorno dividendos 2016-2021'!$A:$C,2,0),\"\")","v":""},{"$f":"IFERROR(VLOOKUP($C199,'Retorno dividendos 2016-2021'!$A:$C,3,0),\"\")","v":""},null,""]
[null,null,null,{"$f":"IFERROR(VLOOKUP($C200,'Retorno dividendos 2016-2021'!$A:$C,2,0),\"\")","v":""},{"$f":"IFERROR(VLOOKUP($C200,'Retorno dividendos 2016-2021'!$A:$C,3,0),\"\")","v":""},null,""]
[null,null,null,{"$f":"IFERROR(VLOOKUP($C201,'Retorno dividendos 2016-2021'!$A:$C,2,0),\"\")","v":""},{"$f":"IFERROR(VLOOKUP($C201,'Retorno dividendos 2016-2021'!$A:$C,3,0),\"\")","v":""},null,""]
[null,null,null,{"$f":"IFERROR(VLOOKUP($C202,'Retorno dividendos 2016-2021'!$A:$C,2,0),\"\")","v":""},{"$f":"IFERROR(VLOOKUP($C202,'Retorno dividendos 2016-2021'!$A:$C,3,0),\"\")","v":""},null,""]
[null,null,null,{"$f":"IFERROR(VLOOKUP($C203,'Retorno dividendos 2016-2021'!$A:$C,2,0),\"\")","v":""},{"$f":"IFERROR(VLOOKUP($C203,'Retorno dividendos 2016-2021'!$A:$C,3,0),\"\")","v":""},null,""]
[null,null,null,{"$f":"IFERROR(VLOOKUP($C204,'Retorno dividendos 2016-2021'!$A:$C,2,0),\"\")","v":""},{"$f":"IFERROR(VLOOKUP($C204,'Retorno dividendos 2016-2021'!$A:$C,3,0),\"\")","v":""},null,""]
[null,null,null,{"$f":"IFERROR(VLOOKUP($C205,'Retorno dividendos 2016-2021'!$A:$C,2,0),\"\")","v":""},{"$f":"IFERROR(VLOOKUP($C205,'Retorno dividendos 2016-2021'!$A:$C,3,0),\"\")","v":""},null,""]
[null,null,null,{"$f":"IFERROR(VLOOKUP($C206,'Retorno dividendos 2016-2021'!$A:$C,2,0),\"\")","v":""},{"$f":"IFERROR(VLOOKUP($C206,'Retorno dividendos 2016-2021'!$A:$C,3,0),\"\")","v":""},null,""]
[null,null,null,{"$f":"IFERROR(VLOOKUP($C207,'Retorno dividendos 2016-2021'!$A:$C,2,0),\"\")","v":""},{"$f":"IFERROR(VLOOKUP($C207,'Retorno dividendos 2016-2021'!$A:$C,3,0),\"\")","v":""},null,""]
[null,null,null,{"$f":"IFERROR(VLOOKUP($C208,'Retorno dividendos 2016-2021'!$A:$C,2,0),\"\")","v":""},{"$f":"IFERROR(VLOOKUP($C208,'Retorno dividendos 2016-2021'!$A:$C,3,0),\"\")","v":""},null,""]
[null,null,null,{"$f":"IFERROR(VLOOKUP($C209,'Retorno dividendos 2016-2021'!$A:$C,2,0),\"\")","v":""},{"$f":"IFERROR(VLOOKUP($C209,'Retorno dividendos 2016-2021'!$A:$C,3,0),\"\")","v":""},null,{"$f":"IF(F209=\"\",\"\",$E$3*F209)","v":""}]
[null,null,null,{"$f":"IFERROR(VLOOKUP($C210,'Retorno dividendos 2016-2021'!$A:$C,2,0),\"\")","v":""},{"$f":"IFERROR(VLOOKUP($C210,'Retorno dividendos 2016-2021'!$A:$C,3,0),\"\")","v":""},null,""]
[null,null,null,{"$f":"IFERROR(VLOOKUP($C211,'Retorno dividendos 2016-2021'!$A:$C,2,0),\"\")","v":""},{"$f":"IFERROR(VLOOKUP($C211,'Retorno dividendos 2016-2021'!$A:$C,3,0),\"\")","v":""},null,""]
[null,null,null,{"$f":"IFERROR(VLOOKUP($C212,'Retorno dividendos 2016-2021'!$A:$C,2,0),\"\")","v":""},{"$f":"IFERROR(VLOOKUP($C212,'Retorno dividendos 2016-2021'!$A:$C,3,0),\"\")","v":""},null,""]
[null,null,null,{"$f":"IFERROR(VLOOKUP($C213,'Retorno dividendos 2016-2021'!$A:$C,2,0),\"\")","v":""},{"$f":"IFERROR(VLOOKUP($C213,'Retorno dividendos 2016-2021'!$A:$C,3,0),\"\")","v":""},null,""]
[null,null,null,{"$f":"IFERROR(VLOOKUP($C214,'Retorno dividendos 2016-2021'!$A:$C,2,0),\"\")","v":""},{"$f":"IFERROR(VLOOKUP($C214,'Retorno dividendos 2016-2021'!$A:$C,3,0),\"\")","v":""},null,""]
[null,null,null,{"$f":"IFERROR(VLOOKUP($C215,'Retorno dividendos 2016-2021'!$A:$C,2,0),\"\")","v":""},{"$f":"IFERROR(VLOOKUP($C215,'Retorno dividendos 2016-2021'!$A:$C,3,0),\"\")","v":""},null,""]
[null,null,null,{"$f":"IFERROR(VLOOKUP($C216,'Retorno dividendos 2016-2021'!$A:$C,2,0),\"\")","v":""},{"$f":"IFERROR(VLOOKUP($C216,'Retorno dividendos 2016-2021'!$A:$C,3,0),\"\")","v":""},null,""]
[null,null,null,{"$f":"IFERROR(VLOOKUP($C217,'Retorno dividendos 2016-2021'!$A:$C,2,0),\"\")","v":""},{"$f":"IFERROR(VLOOKUP($C217,'Retorno dividendos 2016-2021'!$A:$C,3,0),\"\")","v":""},null,""]
[null,null,null,{"$f":"IFERROR(VLOOKUP($C218,'Retorno dividendos 2016-2021'!$A:$C,2,0),\"\")","v":""},{"$f":"IFERROR(VLOOKUP($C218,'Retorno dividendos 2016-2021'!$A:$C,3,0),\"\")","v":""},null,""]
[null,null,null,{"$f":"IFERROR(VLOOKUP($C219,'Retorno dividendos 2016-2021'!$A:$C,2,0),\"\")","v":""},{"$f":"IFERROR(VLOOKUP($C219,'Retorno dividendos 2016-2021'!$A:$C,3,0),\"\")","v":""},null,""]
[null,null,null,{"$f":"IFERROR(VLOOKUP($C220,'Retorno dividendos 2016-2021'!$A:$C,2,0),\"\")","v":""},{"$f":"IFERROR(VLOOKUP($C220,'Retorno dividendos 2016-2021'!$A:$C,3,0),\"\")","v":""},null,""]
[null,null,null,{"$f":"IFERROR(VLOOKUP($C221,'Retorno dividendos 2016-2021'!$A:$C,2,0),\"\")","v":""},{"$f":"IFERROR(VLOOKUP($C221,'Retorno dividendos 2016-2021'!$A:$C,3,0),\"\")","v":""},null,""]
[null,null,null,{"$f":"IFERROR(VLOOKUP($C222,'Retorno dividendos 2016-2021'!$A:$C,2,0),\"\")","v":""},{"$f":"IFERROR(VLOOKUP($C222,'Retorno dividendos 2016-2021'!$A:$C,3,0),\"\")","v":""},null,""]
[null,null,null,{"$f":"IFERROR(VLOOKUP($C223,'Retorno dividendos 2016-2021'!$A:$C,2,0),\"\")","v":""},{"$f":"IFERROR(VLOOKUP($C223,'Retorno dividendos 2016-2021'!$A:$C,3,0),\"\")","v":""},null,""]
[null,null,null,{"$f":"IFERROR(VLOOKUP($C224,'Retorno dividendos 2016-2021'!$A:$C,2,0),\"\")","v":""},{"$f":"IFERROR(VLOOKUP($C224,'Retorno dividendos 2016-2021'!$A:$C,3,0),\"\")","v":""},null,""]
[null,null,null,{"$f":"IFERROR(VLOOKUP($C225,'Retorno dividendos 2016-2021'!$A:$C,2,0),\"\")","v":""},{"$f":"IFERROR(VLOOKUP($C225,'Retorno dividendos 2016-2021'!$A:$C,3,0),\"\")","v":""},null,""]
[null,null,null,{"$f":"IFERROR(VLOOKUP($C226,'Retorno dividendos 2016-2021'!$A:$C,2,0),\"\")","v":""},{"$f":"IFERROR(VLOOKUP($C226,'Retorno dividendos 2016-2021'!$A:$C,3,0),\"\")","v":""},null,""]
[null,null,null,{"$f":"IFERROR(VLOOKUP($C227,'Retorno dividendos 2016-2021'!$A:$C,2,0),\"\")","v":""},{"$f":"IFERROR(VLOOKUP($C227,'Retorno dividendos 2016-2021'!$A:$C,3,0),\"\")","v":""},null,""]
[null,null,null,{"$f":"IFERROR(VLOOKUP($C228,'Retorno dividendos 2016-2021'!$A:$C,2,0),\"\")","v":""},{"$f":"IFERROR(VLOOKUP($C228,'Retorno dividendos 2016-2021'!$A:$C,3,0),\"\")","v":""},null,""]
[null,null,null,{"$f":"IFERROR(VLOOKUP($C229,'Retorno dividendos 2016-2021'!$A:$C,2,0),\"\")","v":""},{"$f":"IFERROR(VLOOKUP($C229,'Retorno dividendos 2016-2021'!$A:$C,3,0),\"\")","v":""},null,""]
[null,null,null,{"$f":"IFERROR(VLOOKUP($C230,'Retorno dividendos 2016-2021'!$A:$C,2,0),\"\")","v":""},{"$f":"IFERROR(VLOOKUP($C230,'Retorno dividendos 2016-2021'!$A:$C,3,0),\"\")","v":""},null,""]
[null,null,null,{"$f":"IFERROR(VLOOKUP($C231,'Retorno dividendos 2016-2021'!$A:$C,2,0),\"\")","v":""},{"$f":"IFERROR(VLOOKUP($C231,'Retorno dividendos 2016-2021'!$A:$C,3,0),\"\")","v":""},null,""]
[null,null,null,{"$f":"IFERROR(VLOOKUP($C232,'Retorno dividendos 2016-2021'!$A:$C,2,0),\"\")","v":""},{"$f":"IFERROR(VLOOKUP($C232,'Retorno dividendos 2016-2021'!$A:$C,3,0),\"\")","v":""},null,""]
[null,null,null,{"$f":"IFERROR(VLOOKUP($C233,'Retorno dividendos 2016-2021'!$A:$C,2,0),\"\")","v":""},{"$f":"IFERROR(VLOOKUP($C233,'Retorno dividendos 2016-2021'!$A:$C,3,0),\"\")","v":""},null,""]
[null,null,null,{"$f":"IFERROR(VLOOKUP($C234,'Retorno dividendos 2016-2021'!$A:$C,2,0),\"\")","v":""},{"$f":"IFERROR(VLOOKUP($C234,'Retorno dividendos 2016-2021'!$A:$C,3,0),\"\")","v":""},null,""]
[null,null,null,{"$f":"IFERROR(VLOOKUP($C235,'Retorno dividendos 2016-2021'!$A:$C,2,0),\"\")","v":""},{"$f":"IFERROR(VLOOKUP($C235,'Retorno dividendos 2016-2021'!$A:$C,3,0),\"\")","v":""},null,""]
[null,null,null,{"$f":"IFERROR(VLOOKUP($C236,'Retorno dividendos 2016-2021'!$A:$C,2,0),\"\")","v":""},{"$f":"IFERROR(VLOOKUP($C236,'Retorno dividendos 2016-2021'!$A:$C,3,0),\"\")","v":""},null,""]
[null,null,null,{"$f":"IFERROR(VLOOKUP($C237,'Retorno dividendos 2016-2021'!$A:$C,2,0),\"\")","v":""},{"$f":"IFERROR(VLOOKUP($C237,'Retorno dividendos 2016-2021'!$A:$C,3,0),\"\")","v":""},null,""]
[null,null,null,{"$f":"IFERROR(VLOOKUP($C238,'Retorno dividendos 2016-2021'!$A:$C,2,0),\"\")","v":""},{"$f":"IFERROR(VLOOKUP($C238,'Retorno dividendos 2016-2021'!$A:$C,3,0),\"\")","v":""},null,""]
[null,null,null,{"$f":"IFERROR(VLOOKUP($C239,'Retorno dividendos 2016-2021'!$A:$C,2,0),\"\")","v":""},{"$f":"IFERROR(VLOOKUP($C239,'Retorno dividendos 2016-2021'!$A:$C,3,0),\"\")","v":""},null,""]
[null,null,null,{"$f":"IFERROR(VLOOKUP($C240,'Retorno dividendos 2016-2021'!$A:$C,2,0),\"\")","v":""},{"$f":"IFERROR(VLOOKUP($C240,'Retorno dividendos 2016-2021'!$A:$C,3,0),\"\")","v":""},null,""]
[null,null,null,{"$f":"IFERROR(VLOOKUP($C241,'Retorno dividendos 2016-2021'!$A:$C,2,0),\"\")","v":""},{"$f":"IFERROR(VLOOKUP($C241,'Retorno dividendos 2016-2021'!$A:$C,3,0),\"\")","v":""},null,""]
[null,null,null,{"$f":"IFERROR(VLOOKUP($C242,'Retorno dividendos 2016-2021'!$A:$C,2,0),\"\")","v":""},{"$f":"IFERROR(VLOOKUP($C242,'Retorno dividendos 2016-2021'!$A:$C,3,0),\"\")","v":""},null,""]
[null,null,null,{"$f":"IFERROR(VLOOKUP($C243,'Retorno dividendos 2016-2021'!$A:$C,2,0),\"\")","v":""},{"$f":"IFERROR(VLOOKUP($C243,'Retorno dividendos 2016-2021'!$A:$C,3,0),\"\")","v":""},null,""]
[null,null,null,{"$f":"IFERROR(VLOOKUP($C244,'Retorno dividendos 2016-2021'!$A:$C,2,0),\"\")","v":""},{"$f":"IFERROR(VLOOKUP($C244,'Retorno dividendos 2016-2021'!$A:$C,3,0),\"\")","v":""},null,""]
[null,null,null,{"$f":"IFERROR(VLOOKUP($C245,'Retorno dividendos 2016-2021'!$A:$C,2,0),\"\")","v":""},{"$f":"IFERROR(VLOOKUP($C245,'Retorno dividendos 2016-2021'!$A:$C,3,0),\"\")","v":""},null,""]
[null,null,null,{"$f":"IFERROR(VLOOKUP($C246,'Retorno dividendos 2016-2021'!$A:$C,2,0),\"\")","v":""},{"$f":"IFERROR(VLOOKUP($C246,'Retorno dividendos 2016-2021'!$A:$C,3,0),\"\")","v":""},null,""]
[null,null,null,{"$f":"IFERROR(VLOOKUP($C247,'Retorno dividendos 2016-2021'!$A:$C,2,0),\"\")","v":""},{"$f":"IFERROR(VLOOKUP($C247,'Retorno dividendos 2016-2021'!$A:$C,3,0),\"\")","v":""},null,""]
[null,null,null,{"$f":"IFERROR(VLOOKUP($C248,'Retorno dividendos 2016-2021'!$A:$C,2,0),\"\")","v":""},{"$f":"IFERROR(VLOOKUP($C248,'Retorno dividendos 2016-2021'!$A:$C,3,0),\"\")","v":""},null,""]
[null,null,null,{"$f":"IFERROR(VLOOKUP($C249,'Retorno dividendos 2016-2021'!$A:$C,2,0),\"\")","v":""},{"$f":"IFERROR(VLOOKUP($C249,'Retorno dividendos 2016-2021'!$A:$C,3,0),\"\")","v":""},null,""]
[null,null,null,{"$f":"IFERROR(VLOOKUP($C250,'Retorno dividendos 2016-2021'!$A:$C,2,0),\"\")","v":""},{"$f":"IFERROR(VLOOKUP($C250,'Retorno dividendos 2016-2021'!$A:$C,3,0),\"\")","v":""},null,""]
[null,null,null,{"$f":"IFERROR(VLOOKUP($C251,'Retorno dividendos 2016-2021'!$A:$C,2,0),\"\")","v":""},{"$f":"IFERROR(VLOOKUP($C251,'Retorno dividendos 2016-2021'!$A:$C,3,0),\"\")","v":""},null,""]
[null,null,null,{"$f":"IFERROR(VLOOKUP($C252,'Retorno dividendos 2016-2021'!$A:$C,2,0),\"\")","v":""},{"$f":"IFERROR(VLOOKUP($C252,'Retorno dividendos 2016-2021'!$A:$C,3,0),\"\")","v":""},null,""]
[null,null,null,{"$f":"IFERROR(VLOOKUP($C253,'Retorno dividendos 2016-2021'!$A:$C,2,0),\"\")","v":""},{"$f":"IFERROR(VLOOKUP($C253,'Retorno dividendos 2016-2021'!$A:$C,3,0),\"\")","v":""},null,""]
[null,null,null,{"$f":"IFERROR(VLOOKUP($C254,'Retorno dividendos 2016-2021'!$A:$C,2,0),\"\")","v":""},{"$f":"IFERROR(VLOOKUP($C254,'Retorno dividendos 2016-2021'!$A:$C,3,0),\"\")","v":""},null,""]
[null,null,null,{"$f":"IFERROR(VLOOKUP($C255,'Retorno dividendos 2016-2021'!$A:$C,2,0),\"\")","v":""},{"$f":"IFERROR(VLOOKUP($C255,'Retorno dividendos 2016-2021'!$A:$C,3,0),\"\")","v":""},null,""]
[null,null,null,{"$f":"IFERROR(VLOOKUP($C256,'Retorno dividendos 2016-2021'!$A:$C,2,0),\"\")","v":""},{"$f":"IFERROR(VLOOKUP($C256,'Retorno dividendos 2016-2021'!$A:$C,3,0),\"\")","v":""},null,""]
[null,null,null,{"$f":"IFERROR(VLOOKUP($C257,'Retorno dividendos 2016-2021'!$A:$C,2,0),\"\")","v":""},{"$f":"IFERROR(VLOOKUP($C257,'Retorno dividendos 2016-2021'!$A:$C,3,0),\"\")","v":""},null,""]
[null,null,null,{"$f":"IFERROR(VLOOKUP($C258,'Retorno dividendos 2016-2021'!$A:$C,2,0),\"\")","v":""},{"$f":"IFERROR(VLOOKUP($C258,'Retorno dividendos 2016-2021'!$A:$C,3,0),\"\")","v":""},null,""]
[null,null,null,{"$f":"IFERROR(VLOOKUP($C259,'Retorno dividendos 2016-2021'!$A:$C,2,0),\"\")","v":""},{"$f":"IFERROR(VLOOKUP($C259,'Retorno dividendos 2016-2021'!$A:$C,3,0),\"\")","v":""},null,""]
[null,null,null,{"$f":"IFERROR(VLOOKUP($C260,'Retorno dividendos 2016-2021'!$A:$C,2,0),\"\")","v":""},{"$f":"IFERROR(VLOOKUP($C260,'Retorno dividendos 2016-2021'!$A:$C,3,0),\"\")","v":""},null,""]
[null,null,null,{"$f":"IFERROR(VLOOKUP($C261,'Retorno dividendos 2016-2021'!$A:$C,2,0),\"\")","v":""},{"$f":"IFERROR(VLOOKUP($C261,'Retorno dividendos 2016-2021'!$A:$C,3,0),\"\")","v":""},null,""]
[null,null,null,{"$f":"IFERROR(VLOOKUP($C262,'Retorno dividendos 2016-2021'!$A:$C,2,0),\"\")","v":""},{"$f":"IFERROR(VLOOKUP($C262,'Retorno dividendos 2016-2021'!$A:$C,3,0),\"\")","v":""},null,""]
[null,null,null,{"$f":"IFERROR(VLOOKUP($C263,'Retorno dividendos 2016-2021'!$A:$C,2,0),\"\")","v":""},{"$f":"IFERROR(VLOOKUP($C263,'Retorno dividendos 2016-2021'!$A:$C,3,0),\"\")","v":""},null,""]
[null,null,null,{"$f":"IFERROR(VLOOKUP($C264,'Retorno dividendos 2016-2021'!$A:$C,2,0),\"\")","v":""},{"$f":"IFERROR(VLOOKUP($C264,'Retorno dividendos 2016-2021'!$A:$C,3,0),\"\")","v":""},null,""]
[null,null,null,{"$f":"IFERROR(VLOOKUP($C265,'Retorno dividendos 2016-2021'!$A:$C,2,0),\"\")","v":""},{"$f":"IFERROR(VLOOKUP($C265,'Retorno dividendos 2016-2021'!$A:$C,3,0),\"\")","v":""},null,""]
[null,null,null,{"$f":"IFERROR(VLOOKUP($C266,'Retorno dividendos 2016-2021'!$A:$C,2,0),\"\")","v":""},{"$f":"IFERROR(VLOOKUP($C266,'Retorno dividendos 2016-2021'!$A:$C,3,0),\"\")","v":""},null,""]
[null,null,null,{"$f":"IFERROR(VLOOKUP($C267,'Retorno dividendos 2016-2021'!$A:$C,2,0),\"\")","v":""},{"$f":"IFERROR(VLOOKUP($C267,'Retorno dividendos 2016-2021'!$A:$C,3,0),\"\")","v":""},null,""]
[null,null,null,{"$f":"IFERROR(VLOOKUP($C268,'Retorno dividendos 2016-2021'!$A:$C,2,0),\"\")","v":""},{"$f":"IFERROR(VLOOKUP($C268,'Retorno dividendos 2016-2021'!$A:$C,3,0),\"\")","v":""},null,""]
[null,null,null,{"$f":"IFERROR(VLOOKUP($C269,'Retorno dividendos 2016-2021'!$A:$C,2,0),\"\")","v":""},{"$f":"IFERROR(VLOOKUP($C269,'Retorno dividendos 2016-2021'!$A:$C,3,0),\"\")","v":""},null,""]
[null,null,null,{"$f":"IFERROR(VLOOKUP($C270,'Retorno dividendos 2016-2021'!$A:$C,2,0),\"\")","v":""},{"$f":"IFERROR(VLOOKUP($C270,'Retorno dividendos 2016-2021'!$A:$C,3,0),\"\")","v":""},null,""]
[null,null,null,{"$f":"IFERROR(VLOOKUP($C271,'Retorno dividendos 2016-2021'!$A:$C,2,0),\"\")","v":""},{"$f":"IFERROR(VLOOKUP($C271,'Retorno dividendos 2016-2021'!$A:$C,3,0),\"\")","v":""},null,""]
[null,null,null,{"$f":"IFERROR(VLOOKUP($C272,'Retorno dividendos 2016-2021'!$A:$C,2,0),\"\")","v":""},{"$f":"IFERROR(VLOOKUP($C272,'Retorno dividendos 2016-2021'!$A:$C,3,0),\"\")","v":""},null,""]
[null,null,null,{"$f":"IFERROR(VLOOKUP($C273,'Retorno dividendos 2016-2021'!$A:$C,2,0),\"\")","v":""},{"$f":"IFERROR(VLOOKUP($C273,'Retorno dividendos 2016-2021'!$A:$C,3,0),\"\")","v":""},null,{"$f":"IF(F273=\"\",\"\",$E$3*F273)","v":""}]
[null,null,null,{"$f":"IFERROR(VLOOKUP($C274,'Retorno dividendos 2016-2021'!$A:$C,2,0),\"\")","v":""},{"$f":"IFERROR(VLOOKUP($C274,'Retorno dividendos 2016-2021'!$A:$C,3,0),\"\")","v":""},null,""]
[null,null,null,{"$f":"IFERROR(VLOOKUP($C275,'Retorno dividendos 2016-2021'!$A:$C,2,0),\"\")","v":""},{"$f":"IFERROR(VLOOKUP($C275,'Retorno dividendos 2016-2021'!$A:$C,3,0),\"\")","v":""},null,""]
[null,null,null,{"$f":"IFERROR(VLOOKUP($C276,'Retorno dividendos 2016-2021'!$A:$C,2,0),\"\")","v":""},{"$f":"IFERROR(VLOOKUP($C276,'Retorno dividendos 2016-2021'!$A:$C,3,0),\"\")","v":""},null,""]
[null,null,null,{"$f":"IFERROR(VLOOKUP($C277,'Retorno dividendos 2016-2021'!$A:$C,2,0),\"\")","v":""},{"$f":"IFERROR(VLOOKUP($C277,'Retorno dividendos 2016-2021'!$A:$C,3,0),\"\")","v":""},null,""]
[null,null,null,{"$f":"IFERROR(VLOOKUP($C278,'Retorno dividendos 2016-2021'!$A:$C,2,0),\"\")","v":""},{"$f":"IFERROR(VLOOKUP($C278,'Retorno dividendos 2016-2021'!$A:$C,3,0),\"\")","v":""},null,""]
[null,null,null,{"$f":"IFERROR(VLOOKUP($C279,'Retorno dividendos 2016-2021'!$A:$C,2,0),\"\")","v":""},{"$f":"IFERROR(VLOOKUP($C279,'Retorno dividendos 2016-2021'!$A:$C,3,0),\"\")","v":""},null,""]
[null,null,null,{"$f":"IFERROR(VLOOKUP($C280,'Retorno dividendos 2016-2021'!$A:$C,2,0),\"\")","v":""},{"$f":"IFERROR(VLOOKUP($C280,'Retorno dividendos 2016-2021'!$A:$C,3,0),\"\")","v":""},null,""]
[null,null,null,{"$f":"IFERROR(VLOOKUP($C281,'Retorno dividendos 2016-2021'!$A:$C,2,0),\"\")","v":""},{"$f":"IFERROR(VLOOKUP($C281,'Retorno dividendos 2016-2021'!$A:$C,3,0),\"\")","v":""},null,""]
[null,null,null,{"$f":"IFERROR(VLOOKUP($C282,'Retorno dividendos 2016-2021'!$A:$C,2,0),\"\")","v":""},{"$f":"IFERROR(VLOOKUP($C282,'Retorno dividendos 2016-2021'!$A:$C,3,0),\"\")","v":""},null,""]
[null,null,null,{"$f":"IFERROR(VLOOKUP($C283,'Retorno dividendos 2016-2021'!$A:$C,2,0),\"\")","v":""},{"$f":"IFERROR(VLOOKUP($C283,'Retorno dividendos 2016-2021'!$A:$C,3,0),\"\")","v":""},null,""]
[null,null,null,{"$f":"IFERROR(VLOOKUP($C284,'Retorno dividendos 2016-2021'!$A:$C,2,0),\"\")","v":""},{"$f":"IFERROR(VLOOKUP($C284,'Retorno dividendos 2016-2021'!$A:$C,3,0),\"\")","v":""},null,""]
[null,null,null,{"$f":"IFERROR(VLOOKUP($C285,'Retorno dividendos 2016-2021'!$A:$C,2,0),\"\")","v":""},{"$f":"IFERROR(VLOOKUP($C285,'Retorno dividendos 2016-2021'!$A:$C,3,0),\"\")","v":""},null,""]
[null,null,null,{"$f":"IFERROR(VLOOKUP($C286,'Retorno dividendos 2016-2021'!$A:$C,2,0),\"\")","v":""},{"$f":"IFERROR(VLOOKUP($C286,'Retorno dividendos 2016-2021'!$A:$C,3,0),\"\")","v":""},null,""]
[null,null,null,{"$f":"IFERROR(VLOOKUP($C287,'Retorno dividendos 2016-2021'!$A:$C,2,0),\"\")","v":""},{"$f":"IFERROR(VLOOKUP($C287,'Retorno dividendos 2016-2021'!$A:$C,3,0),\"\")","v":""},null,""]
[null,null,null,{"$f":"IFERROR(VLOOKUP($C288,'Retorno dividendos 2016-2021'!$A:$C,2,0),\"\")","v":""},{"$f":"IFERROR(VLOOKUP($C288,'Retorno dividendos 2016-2021'!$A:$C,3,0),\"\")","v":""},null,""]
[null,null,null,{"$f":"IFERROR(VLOOKUP($C289,'Retorno dividendos 2016-2021'!$A:$C,2,0),\"\")","v":""},{"$f":"IFERROR(VLOOKUP($C289,'Retorno dividendos 2016-2021'!$A:$C,3,0),\"\")","v":""},null,""]
[null,null,null,{"$f":"IFERROR(VLOOKUP($C290,'Retorno dividendos 2016-2021'!$A:$C,2,0),\"\")","v":""},{"$f":"IFERROR(VLOOKUP($C290,'Retorno dividendos 2016-2021'!$A:$C,3,0),\"\")","v":""},null,""]
[null,null,null,{"$f":"IFERROR(VLOOKUP($C291,'Retorno dividendos 2016-2021'!$A:$C,2,0),\"\")","v":""},{"$f":"IFERROR(VLOOKUP($C291,'Retorno dividendos 2016-2021'!$A:$C,3,0),\"\")","v":""},null,""]
[null,null,null,{"$f":"IFERROR(VLOOKUP($C292,'Retorno dividendos 2016-2021'!$A:$C,2,0),\"\")","v":""},{"$f":"IFERROR(VLOOKUP($C292,'Retorno dividendos 2016-2021'!$A:$C,3,0),\"\")","v":""},null,""]
[null,null,null,{"$f":"IFERROR(VLOOKUP($C293,'Retorno dividendos 2016-2021'!$A:$C,2,0),\"\")","v":""},{"$f":"IFERROR(VLOOKUP($C293,'Retorno dividendos 2016-2021'!$A:$C,3,0),\"\")","v":""},null,""]
[null,null,null,{"$f":"IFERROR(VLOOKUP($C294,'Retorno dividendos 2016-2021'!$A:$C,2,0),\"\")","v":""},{"$f":"IFERROR(VLOOKUP($C294,'Retorno dividendos 2016-2021'!$A:$C,3,0),\"\")","v":""},null,""]
[null,null,null,{"$f":"IFERROR(VLOOKUP($C295,'Retorno dividendos 2016-2021'!$A:$C,2,0),\"\")","v":""},{"$f":"IFERROR(VLOOKUP($C295,'Retorno dividendos 2016-2021'!$A:$C,3,0),\"\")","v":""},null,""]
[null,null,null,{"$f":"IFERROR(VLOOKUP($C296,'Retorno dividendos 2016-2021'!$A:$C,2,0),\"\")","v":""},{"$f":"IFERROR(VLOOKUP($C296,'Retorno dividendos 2016-2021'!$A:$C,3,0),\"\")","v":""},null,""]
[null,null,null,{"$f":"IFERROR(VLOOKUP($C297,'Retorno dividendos 2016-2021'!$A:$C,2,0),\"\")","v":""},{"$f":"IFERROR(VLOOKUP($C297,'Retorno dividendos 2016-2021'!$A:$C,3,0),\"\")","v":""},null,""]
[null,null,null,{"$f":"IFERROR(VLOOKUP($C298,'Retorno dividendos 2016-2021'!$A:$C,2,0),\"\")","v":""},{"$f":"IFERROR(VLOOKUP($C298,'Retorno dividendos 2016-2021'!$A:$C,3,0),\"\")","v":""},null,""]
[null,null,null,{"$f":"IFERROR(VLOOKUP($C299,'Retorno dividendos 2016-2021'!$A:$C,2,0),\"\")","v":""},{"$f":"IFERROR(VLOOKUP($C299,'Retorno dividendos 2016-2021'!$A:$C,3,0),\"\")","v":""},null,""]
[null,null,null,{"$f":"IFERROR(VLOOKUP($C300,'Retorno dividendos 2016-2021'!$A:$C,2,0),\"\")","v":""},{"$f":"IFERROR(VLOOKUP($C300,'Retorno dividendos 2016-2021'!$A:$C,3,0),\"\")","v":""},null,""]
[null,null,null,{"$f":"IFERROR(VLOOKUP($C301,'Retorno dividendos 2016-2021'!$A:$C,2,0),\"\")","v":""},{"$f":"IFERROR(VLOOKUP($C301,'Retorno dividendos 2016-2021'!$A:$C,3,0),\"\")","v":""},null,""]
[null,null,null,{"$f":"IFERROR(VLOOKUP($C302,'Retorno dividendos 2016-2021'!$A:$C,2,0),\"\")","v":""},{"$f":"IFERROR(VLOOKUP($C302,'Retorno dividendos 2016-2021'!$A:$C,3,0),\"\")","v":""},null,""]
[null,null,null,{"$f":"IFERROR(VLOOKUP($C303,'Retorno dividendos 2016-2021'!$A:$C,2,0),\"\")","v":""},{"$f":"IFERROR(VLOOKUP($C303,'Retorno dividendos 2016-2021'!$A:$C,3,0),\"\")","v":""},null,""]
[null,null,null,{"$f":"IFERROR(VLOOKUP($C304,'Retorno dividendos 2016-2021'!$A:$C,2,0),\"\")","v":""},{"$f":"IFERROR(VLOOKUP($C304,'Retorno dividendos 2016-2021'!$A:$C,3,0),\"\")","v":""},null,""]
[null,null,null,{"$f":"IFERROR(VLOOKUP($C305,'Retorno dividendos 2016-2021'!$A:$C,2,0),\"\")","v":""},{"$f":"IFERROR(VLOOKUP($C305,'Retorno dividendos 2016-2021'!$A:$C,3,0),\"\")","v":""},null,""]
[null,null,null,{"$f":"IFERROR(VLOOKUP($C306,'Retorno dividendos 2016-2021'!$A:$C,2,0),\"\")","v":""},{"$f":"IFERROR(VLOOKUP($C306,'Retorno dividendos 2016-2021'!$A:$C,3,0),\"\")","v":""},null,""]
[null,null,null,{"$f":"IFERROR(VLOOKUP($C307,'Retorno dividendos 2016-2021'!$A:$C,2,0),\"\")","v":""},{"$f":"IFERROR(VLOOKUP($C307,'Retorno dividendos 2016-2021'!$A:$C,3,0),\"\")","v":""},null,""]
[null,null,null,{"$f":"IFERROR(VLOOKUP($C308,'Retorno dividendos 2016-2021'!$A:$C,2,0),\"\")","v":""},{"$f":"IFERROR(VLOOKUP($C308,'Retorno dividendos 2016-2021'!$A:$C,3,0),\"\")","v":""},null,""]
[null,null,null,{"$f":"IFERROR(VLOOKUP($C309,'Retorno dividendos 2016-2021'!$A:$C,2,0),\"\")","v":""},{"$f":"IFERROR(VLOOKUP($C309,'Retorno dividendos 2016-2021'!$A:$C,3,0),\"\")","v":""},null,""]
[null,null,null,{"$f":"IFERROR(VLOOKUP($C310,'Retorno dividendos 2016-2021'!$A:$C,2,0),\"\")","v":""},{"$f":"IFERROR(VLOOKUP($C310,'Retorno dividendos 2016-2021'!$A:$C,3,0),\"\")","v":""},null,""]
[null,null,null,{"$f":"IFERROR(VLOOKUP($C311,'Retorno dividendos 2016-2021'!$A:$C,2,0),\"\")","v":""},{"$f":"IFERROR(VLOOKUP($C311,'Retorno dividendos 2016-2021'!$A:$C,3,0),\"\")","v":""},null,""]
[null,null,null,{"$f":"IFERROR(VLOOKUP($C312,'Retorno dividendos 2016-2021'!$A:$C,2,0),\"\")","v":""},{"$f":"IFERROR(VLOOKUP($C312,'Retorno dividendos 2016-2021'!$A:$C,3,0),\"\")","v":""},null,""]
[null,null,null,{"$f":"IFERROR(VLOOKUP($C313,'Retorno dividendos 2016-2021'!$A:$C,2,0),\"\")","v":""},{"$f":"IFERROR(VLOOKUP($C313,'Retorno dividendos 2016-2021'!$A:$C,3,0),\"\")","v":""},null,""]
[null,null,null,{"$f":"IFERROR(VLOOKUP($C314,'Retorno dividendos 2016-2021'!$A:$C,2,0),\"\")","v":""},{"$f":"IFERROR(VLOOKUP($C314,'Retorno dividendos 2016-2021'!$A:$C,3,0),\"\")","v":""},null,""]
[null,null,null,{"$f":"IFERROR(VLOOKUP($C315,'Retorno dividendos 2016-2021'!$A:$C,2,0),\"\")","v":""},{"$f":"IFERROR(VLOOKUP($C315,'Retorno dividendos 2016-2021'!$A:$C,3,0),\"\")","v":""},null,""]
[null,null,null,{"$f":"IFERROR(VLOOKUP($C316,'Retorno dividendos 2016-2021'!$A:$C,2,0),\"\")","v":""},{"$f":"IFERROR(VLOOKUP($C316,'Retorno dividendos 2016-2021'!$A:$C,3,0),\"\")","v":""},null,""]
[null,null,null,{"$f":"IFERROR(VLOOKUP($C317,'Retorno dividendos 2016-2021'!$A:$C,2,0),\"\")","v":""},{"$f":"IFERROR(VLOOKUP($C317,'Retorno dividendos 2016-2021'!$A:$C,3,0),\"\")","v":""},null,""]
[null,null,null,{"$f":"IFERROR(VLOOKUP($C318,'Retorno dividendos 2016-2021'!$A:$C,2,0),\"\")","v":""},{"$f":"IFERROR(VLOOKUP($C318,'Retorno dividendos 2016-2021'!$A:$C,3,0),\"\")","v":""},null,""]
[null,null,null,{"$f":"IFERROR(VLOOKUP($C319,'Retorno dividendos 2016-2021'!$A:$C,2,0),\"\")","v":""},{"$f":"IFERROR(VLOOKUP($C319,'Retorno dividendos 2016-2021'!$A:$C,3,0),\"\")","v":""},null,""]
[null,null,null,{"$f":"IFERROR(VLOOKUP($C320,'Retorno dividendos 2016-2021'!$A:$C,2,0),\"\")","v":""},{"$f":"IFERROR(VLOOKUP($C320,'Retorno dividendos 2016-2021'!$A:$C,3,0),\"\")","v":""},null,""]
[null,null,null,{"$f":"IFERROR(VLOOKUP($C321,'Retorno dividendos 2016-2021'!$A:$C,2,0),\"\")","v":""},{"$f":"IFERROR(VLOOKUP($C321,'Retorno dividendos 2016-2021'!$A:$C,3,0),\"\")","v":""},null,""]
[null,null,null,{"$f":"IFERROR(VLOOKUP($C322,'Retorno dividendos 2016-2021'!$A:$C,2,0),\"\")","v":""},{"$f":"IFERROR(VLOOKUP($C322,'Retorno dividendos 2016-2021'!$A:$C,3,0),\"\")","v":""},null,""]
[null,null,null,{"$f":"IFERROR(VLOOKUP($C323,'Retorno dividendos 2016-2021'!$A:$C,2,0),\"\")","v":""},{"$f":"IFERROR(VLOOKUP($C323,'Retorno dividendos 2016-2021'!$A:$C,3,0),\"\")","v":""},null,""]
[null,null,null,{"$f":"IFERROR(VLOOKUP($C324,'Retorno dividendos 2016-2021'!$A:$C,2,0),\"\")","v":""},{"$f":"IFERROR(VLOOKUP($C324,'Retorno dividendos 2016-2021'!$A:$C,3,0),\"\")","v":""},null,""]
[null,null,null,{"$f":"IFERROR(VLOOKUP($C325,'Retorno dividendos 2016-2021'!$A:$C,2,0),\"\")","v":""},{"$f":"IFERROR(VLOOKUP($C325,'Retorno dividendos 2016-2021'!$A:$C,3,0),\"\")","v":""},null,""]
[null,null,null,{"$f":"IFERROR(VLOOKUP($C326,'Retorno dividendos 2016-2021'!$A:$C,2,0),\"\")","v":""},{"$f":"IFERROR(VLOOKUP($C326,'Retorno dividendos 2016-2021'!$A:$C,3,0),\"\")","v":""},null,""]
[null,null,null,{"$f":"IFERROR(VLOOKUP($C327,'Retorno dividendos 2016-2021'!$A:$C,2,0),\"\")","v":""},{"$f":"IFERROR(VLOOKUP($C327,'Retorno dividendos 2016-2021'!$A:$C,3,0),\"\")","v":""},null,""]
[null,null,null,{"$f":"IFERROR(VLOOKUP($C328,'Retorno dividendos 2016-2021'!$A:$C,2,0),\"\")","v":""},{"$f":"IFERROR(VLOOKUP($C328,'Retorno dividendos 2016-2021'!$A:$C,3,0),\"\")","v":""},null,""]
[null,null,null,{"$f":"IFERROR(VLOOKUP($C329,'Retorno dividendos 2016-2021'!$A:$C,2,0),\"\")","v":""},{"$f":"IFERROR(VLOOKUP($C329,'Retorno dividendos 2016-2021'!$A:$C,3,0),\"\")","v":""},null,""]
[null,null,null,{"$f":"IFERROR(VLOOKUP($C330,'Retorno dividendos 2016-2021'!$A:$C,2,0),\"\")","v":""},{"$f":"IFERROR(VLOOKUP($C330,'Retorno dividendos 2016-2021'!$A:$C,3,0),\"\")","v":""},null,""]
[null,null,null,{"$f":"IFERROR(VLOOKUP($C331,'Retorno dividendos 2016-2021'!$A:$C,2,0),\"\")","v":""},{"$f":"IFERROR(VLOOKUP($C331,'Retorno dividendos 2016-2021'!$A:$C,3,0),\"\")","v":""},null,""]
[null,null,null,{"$f":"IFERROR(VLOOKUP($C332,'Retorno dividendos 2016-2021'!$A:$C,2,0),\"\")","v":""},{"$f":"IFERROR(VLOOKUP($C332,'Retorno dividendos 2016-2021'!$A:$C,3,0),\"\")","v":""},null,""]
[null,null,null,{"$f":"IFERROR(VLOOKUP($C333,'Retorno dividendos 2016-2021'!$A:$C,2,0),\"\")","v":""},{"$f":"IFERROR(VLOOKUP($C333,'Retorno dividendos 2016-2021'!$A:$C,3,0),\"\")","v":""},null,""]
[null,null,null,{"$f":"IFERROR(VLOOKUP($C334,'Retorno dividendos 2016-2021'!$A:$C,2,0),\"\")","v":""},{"$f":"IFERROR(VLOOKUP($C334,'Retorno dividendos 2016-2021'!$A:$C,3,0),\"\")","v":""},null,""]
[null,null,null,{"$f":"IFERROR(VLOOKUP($C335,'Retorno dividendos 2016-2021'!$A:$C,2,0),\"\")","v":""},{"$f":"IFERROR(VLOOKUP($C335,'Retorno dividendos 2016-2021'!$A:$C,3,0),\"\")","v":""},null,""]
[null,null,null,{"$f":"IFERROR(VLOOKUP($C336,'Retorno dividendos 2016-2021'!$A:$C,2,0),\"\")","v":""},{"$f":"IFERROR(VLOOKUP($C336,'Retorno dividendos 2016-2021'!$A:$C,3,0),\"\")","v":""},null,""]
[null,null,null,{"$f":"IFERROR(VLOOKUP($C337,'Retorno dividendos 2016-2021'!$A:$C,2,0),\"\")","v":""},{"$f":"IFERROR(VLOOKUP($C337,'Retorno dividendos 2016-2021'!$A:$C,3,0),\"\")","v":""},null,{"$f":"IF(F337=\"\",\"\",$E$3*F337)","v":""}]
[null,null,null,{"$f":"IFERROR(VLOOKUP($C338,'Retorno dividendos 2016-2021'!$A:$C,2,0),\"\")","v":""},{"$f":"IFERROR(VLOOKUP($C338,'Retorno dividendos 2016-2021'!$A:$C,3,0),\"\")","v":""},null,""]
[null,null,null,{"$f":"IFERROR(VLOOKUP($C339,'Retorno dividendos 2016-2021'!$A:$C,2,0),\"\")","v":""},{"$f":"IFERROR(VLOOKUP($C339,'Retorno dividendos 2016-2021'!$A:$C,3,0),\"\")","v":""},null,""]
[null,null,null,{"$f":"IFERROR(VLOOKUP($C340,'Retorno dividendos 2016-2021'!$A:$C,2,0),\"\")","v":""},{"$f":"IFERROR(VLOOKUP($C340,'Retorno dividendos 2016-2021'!$A:$C,3,0),\"\")","v":""},null,""]
[null,null,null,{"$f":"IFERROR(VLOOKUP($C341,'Retorno dividendos 2016-2021'!$A:$C,2,0),\"\")","v":""},{"$f":"IFERROR(VLOOKUP($C341,'Retorno dividendos 2016-2021'!$A:$C,3,0),\"\")","v":""},null,""]
[null,null,null,{"$f":"IFERROR(VLOOKUP($C342,'Retorno dividendos 2016-2021'!$A:$C,2,0),\"\")","v":""},{"$f":"IFERROR(VLOOKUP($C342,'Retorno dividendos 2016-2021'!$A:$C,3,0),\"\")","v":""},null,""]
[null,null,null,{"$f":"IFERROR(VLOOKUP($C343,'Retorno dividendos 2016-2021'!$A:$C,2,0),\"\")","v":""},{"$f":"IFERROR(VLOOKUP($C343,'Retorno dividendos 2016-2021'!$A:$C,3,0),\"\")","v":""},null,""]
[null,null,null,{"$f":"IFERROR(VLOOKUP($C344,'Retorno dividendos 2016-2021'!$A:$C,2,0),\"\")","v":""},{"$f":"IFERROR(VLOOKUP($C344,'Retorno dividendos 2016-2021'!$A:$C,3,0),\"\")","v":""},null,""]
[null,null,null,{"$f":"IFERROR(VLOOKUP($C345,'Retorno dividendos 2016-2021'!$A:$C,2,0),\"\")","v":""},{"$f":"IFERROR(VLOOKUP($C345,'Retorno dividendos 2016-2021'!$A:$C,3,0),\"\")","v":""},null,""]
[null,null,null,{"$f":"IFERROR(VLOOKUP($C346,'Retorno dividendos 2016-2021'!$A:$C,2,0),\"\")","v":""},{"$f":"IFERROR(VLOOKUP($C346,'Retorno dividendos 2016-2021'!$A:$C,3,0),\"\")","v":""},null,""]
[null,null,null,{"$f":"IFERROR(VLOOKUP($C347,'Retorno dividendos 2016-2021'!$A:$C,2,0),\"\")","v":""},{"$f":"IFERROR(VLOOKUP($C347,'Retorno dividendos 2016-2021'!$A:$C,3,0),\"\")","v":""},null,""]
[null,null,null,{"$f":"IFERROR(VLOOKUP($C348,'Retorno dividendos 2016-2021'!$A:$C,2,0),\"\")","v":""},{"$f":"IFERROR(VLOOKUP($C348,'Retorno dividendos 2016-2021'!$A:$C,3,0),\"\")","v":""},null,""]
[null,null,null,{"$f":"IFERROR(VLOOKUP($C349,'Retorno dividendos 2016-2021'!$A:$C,2,0),\"\")","v":""},{"$f":"IFERROR(VLOOKUP($C349,'Retorno dividendos 2016-2021'!$A:$C,3,0),\"\")","v":""},null,""]
[null,null,null,{"$f":"IFERROR(VLOOKUP($C350,'Retorno dividendos 2016-2021'!$A:$C,2,0),\"\")","v":""},{"$f":"IFERROR(VLOOKUP($C350,'Retorno dividendos 2016-2021'!$A:$C,3,0),\"\")","v":""},null,""]
[null,null,null,{"$f":"IFERROR(VLOOKUP($C351,'Retorno dividendos 2016-2021'!$A:$C,2,0),\"\")","v":""},{"$f":"IFERROR(VLOOKUP($C351,'Retorno dividendos 2016-2021'!$A:$C,3,0),\"\")","v":""},null,""]
[null,null,null,{"$f":"IFERROR(VLOOKUP($C352,'Retorno dividendos 2016-2021'!$A:$C,2,0),\"\")","v":""},{"$f":"IFERROR(VLOOKUP($C352,'Retorno dividendos 2016-2021'!$A:$C,3,0),\"\")","v":""},null,""]
[null,null,null,{"$f":"IFERROR(VLOOKUP($C353,'Retorno dividendos 2016-2021'!$A:$C,2,0),\"\")","v":""},{"$f":"IFERROR(VLOOKUP($C353,'Retorno dividendos 2016-2021'!$A:$C,3,0),\"\")","v":""},null,""]
[null,null,null,{"$f":"IFERROR(VLOOKUP($C354,'Retorno dividendos 2016-2021'!$A:$C,2,0),\"\")","v":""},{"$f":"IFERROR(VLOOKUP($C354,'Retorno dividendos 2016-2021'!$A:$C,3,0),\"\")","v":""},null,""]
[null,null,null,{"$f":"IFERROR(VLOOKUP($C355,'Retorno dividendos 2016-2021'!$A:$C,2,0),\"\")","v":""},{"$f":"IFERROR(VLOOKUP($C355,'Retorno dividendos 2016-2021'!$A:$C,3,0),\"\")","v":""},null,""]
[null,null,null,{"$f":"IFERROR(VLOOKUP($C356,'Retorno dividendos 2016-2021'!$A:$C,2,0),\"\")","v":""},{"$f":"IFERROR(VLOOKUP($C356,'Retorno dividendos 2016-2021'!$A:$C,3,0),\"\")","v":""},null,""]
[null,null,null,{"$f":"IFERROR(VLOOKUP($C357,'Retorno dividendos 2016-2021'!$A:$C,2,0),\"\")","v":""},{"$f":"IFERROR(VLOOKUP($C357,'Retorno dividendos 2016-2021'!$A:$C,3,0),\"\")","v":""},null,""]
[null,null,null,{"$f":"IFERROR(VLOOKUP($C358,'Retorno dividendos 2016-2021'!$A:$C,2,0),\"\")","v":""},{"$f":"IFERROR(VLOOKUP($C358,'Retorno dividendos 2016-2021'!$A:$C,3,0),\"\")","v":""},null,""]
[null,null,null,{"$f":"IFERROR(VLOOKUP($C359,'Retorno dividendos 2016-2021'!$A:$C,2,0),\"\")","v":""},{"$f":"IFERROR(VLOOKUP($C359,'Retorno dividendos 2016-2021'!$A:$C,3,0),\"\")","v":""},null,""]
[null,null,null,{"$f":"IFERROR(VLOOKUP($C360,'Retorno dividendos 2016-2021'!$A:$C,2,0),\"\")","v":""},{"$f":"IFERROR(VLOOKUP($C360,'Retorno dividendos 2016-2021'!$A:$C,3,0),\"\")","v":""},null,""]
[null,null,null,{"$f":"IFERROR(VLOOKUP($C361,'Retorno dividendos 2016-2021'!$A:$C,2,0),\"\")","v":""},{"$f":"IFERROR(VLOOKUP($C361,'Retorno dividendos 2016-2021'!$A:$C,3,0),\"\")","v":""},null,""]
[null,null,null,{"$f":"IFERROR(VLOOKUP($C362,'Retorno dividendos 2016-2021'!$A:$C,2,0),\"\")","v":""},{"$f":"IFERROR(VLOOKUP($C362,'Retorno dividendos 2016-2021'!$A:$C,3,0),\"\")","v":""},null,""]

{"sheet":"Confira os resultados","index":5,"n_rows":482,"n_cols":28,"rows_kept":482,"cut":false,"hidden":false,"merged":[[12,7,12,8],[0,1,0,5],[1,1,1,4],[2,1,2,4],[3,1,3,4],[6,1,6,4],[7,1,7,4],[4,1,4,4],[5,1,5,4]]}
[null,{"$f":"CONCATENATE('Monte uma carteira de FIIs'!E2,\", veja os detalhes da sua carteira de FIIs:\")","v":"Seu Nome, veja os detalhes da sua carteira de FIIs:"},null,null,null,null,null,null,null,null,null,null,null,null,null,null,null,null,"Ano","Valor Investido","Dividendo anual",null,null,null,null,null,"Mês Atual",{"$f":"MONTH(TODAY())","v":8}]
[null,"Seu investimento inicial foi de:",null,null,null,{"$f":"SUM(C12:C26)","v":15000},null,null,null,null,null,null,null,null,null,null,null,null,{"$f":"AB5","v":2021},{"$f":"'Monte uma carteira de FIIs'!E3+('Monte uma carteira de FIIs'!#REF!*'Confira os resultados'!AB1)","v":{"$error":"#REF!"}},{"$f":"T2*((AB3/12) * (12-AB1+1))","v":{"$error":"#REF!"}}]
[null,"Com esse investimento, em um ano, essa carteira de FIIs proporcionaria dividendos* de:",null,null,null,{"$f":"SUM(D12:D26)","v":0},null,null,null,null,null,null,null,null,null,null,null,null,{"$f":"IFERROR(IF(S2=$AB$6,\"\",S2+1),\"\")","v":""},{"$f":"IF(S3=\"\",\"\",T2+'Monte uma carteira de FIIs'!#REF!*12)","v":""},{"$f":"IFERROR(T3*$AB$3,\"\")","v":""},null,null,null,null,null,"Dividend Yield",{"$f":"SUM(AB9:AB23)","v":0}]
[null,"A taxa média de retorno com dividendos* da sua carteira de FIIs é de:",null,null,null,{"$f":"F3/F2","v":0},null,null,null,null,null,null,null,null,null,null,null,null,{"$f":"IFERROR(IF(S3=$AB$6,\"\",S3+1),\"\")","v":""},{"$f":"IF(S4=\"\",\"\",T3+'Monte uma carteira de FIIs'!#REF!*12)","v":""},{"$f":"IFERROR(T4*$AB$3,\"\")","v":""}]
[null,"Para ter renda de R$ 1.000 por mês com os dividendos* dessa carteira, você precisaria investir:",null,null,null,{"$f":"12000/F4","v":{"$error":"#DIV/0!"}},null,null,null,null,null,null,null,null,null,null,null,null,"",{"$f":"IF(S5=\"\",\"\",T4+'Monte uma carteira de FIIs'!#REF!*12)","v":""},"",null,null,null,null,null,"Ano Atual",{"$f":"YEAR(TODAY())","v":2021}]
[null,{"$f":"CONCATENATE(\"Para ter renda de R$ \",'Monte uma carteira de FIIs'!E4,\" por mês com os dividendos* dessa carteira, você precisaria investir: \")","v":"Para ter renda de R$ 1000 por mês com os dividendos* dessa carteira, você precisaria investir: "},null,null,null,{"$f":"Validação*12/'Confira os resultados'!F4","v":{"$error":"#DIV/0!"}},null,null,null,null,null,null,null,null,null,null,null,null,"",{"$f":"IF(S6=\"\",\"\",T5+'Monte uma carteira de FIIs'!#REF!*12)","v":""},"",null,null,null,null,null,"Ano Aposentadoria",{"$f":"AB5+'Monte uma carteira de FIIs'!#REF!","v":{"$error":"#REF!"}}]
[null,"A taxa Selic atual é de:",null,null,null,5.2499999999999998E-2,null,null,null,null,null,null,null,null,null,null,null,null,"",{"$f":"IF(S7=\"\",\"\",T6+'Monte uma carteira de FIIs'!#REF!*12)","v":""},""]
[null,"Portanto, em relação à Selic, a taxa de retorno com dividendos da sua carteira é:",null,null,null,{"$f":"IF(F4>F7,\"Maior\",IF(F4=F7,\"Equivalente\",\"Menor\"))","v":"Menor"},null,null,null,null,null,null,null,null,null,null,null,null,"",{"$f":"IF(S8=\"\",\"\",T7+'Monte uma carteira de FIIs'!#REF!*12)","v":""},""]
[null,"* Considera a taxa de retorno com dividendos (dividend yield) média anual entre junho de 2016 e junho de 2021",null,null,null,null,null,null,null,null,null,null,null,null,null,null,null,null,"",{"$f":"IF(S9=\"\",\"\",T8+'Monte uma carteira de FIIs'!#REF!*12)","v":""},"",null,null,null,null,null,null,{"$f":"IFERROR('Monte uma carteira de FIIs'!F7*'Confira os resultados'!F12,\"\")","v":""}]
[null,null,null,null,null,null,null,null,null,null,null,null,null,null,null,null,null,null,"",{"$f":"IF(S10=\"\",\"\",T9+'Monte uma carteira de FIIs'!#REF!*12)","v":""},"",null,null,null,null,null,null,{"$f":"IFERROR('Monte uma carteira de FIIs'!F8*'Confira os resultados'!F13,\"\")","v":""}]
[null,"Código do fundo","Investimento inicial","Dividendos recebidos (jun/20 - jun/21)","Taxa de retorno com dividendos (jun/20 - jun/21)","Taxa de retorno com dividendos (jun/16 - jun/21)",null,null,null,null,null,null,null,null,null,null,null,null,"",{"$f":"IF(S11=\"\",\"\",T10+'Monte uma carteira de FIIs'!#REF!*12)","v":""},"",null,null,null,null,null,null,{"$f":"IFERROR('Monte uma carteira de FIIs'!F9*'Confira os resultados'!F14,\"\")","v":""}]
[null,{"$f":"IF('Monte uma carteira de FIIs'!C7=\"\",\"\",'Monte uma carteira de FIIs'!C7)","v":""},{"$f":"IF('Monte uma carteira de FIIs'!G7=\"\",\"\",'Monte uma carteira de FIIs'!G7)","v":15000},{"$f":"IFERROR(C12*F12,\"\")","v":""},{"$f":"IFERROR(VLOOKUP(B12,'Retorno dividendos 2016-2021'!$A:$I,8,0),\"\")","v":""},{"$f":"IFERROR(VLOOKUP(B12,'Retorno dividendos 2016-2021'!A:I,9,0),\"\")","v":""},null,null,null,null,null,null,null,null,null,null,null,null,"",{"$f":"IF(S12=\"\",\"\",T11+'Monte uma carteira de FIIs'!#REF!*12)","v":""},"",null,null,null,null,null,null,{"$f":"IFERROR('Monte uma carteira de FIIs'!F10*'Confira os resultados'!F15,\"\")","v":""}]
[null,{"$f":"IF('Monte uma carteira de FIIs'!C8=\"\",\"\",'Monte uma carteira de FIIs'!C8)","v":""},{"$f":"IF('Monte uma carteira de FIIs'!G8=\"\",\"\",'Monte uma carteira de FIIs'!G8)","v":""},{"$f":"IFERROR(C13*F13,\"\")","v":""},{"$f":"IFERROR(VLOOKUP(B13,'Retorno dividendos 2016-2021'!$A:$I,8,0),\"\")","v":""},{"$f":"IFERROR(VLOOKUP(B13,'Retorno dividendos 2016-2021'!A:I,9,0),\"\")","v":""},null,"Composição da carteira por segmento",null,null,null,null,null,null,null,null,null,null,"",{"$f":"IF(S13=\"\",\"\",T12+'Monte uma carteira de FIIs'!#REF!*12)","v":""},"",null,null,null,null,null,null,{"$f":"IFERROR('Monte uma carteira de FIIs'!F11*'Confira os resultados'!F16,\"\")","v":""}]
[null,{"$f":"IF('Monte uma carteira de FIIs'!C9=\"\",\"\",'Monte uma carteira de FIIs'!C9)","v":""},{"$f":"IF('Monte uma carteira de FIIs'!G9=\"\",\"\",'Monte uma carteira de FIIs'!G9)","v":""},"",{"$f":"IFERROR(VLOOKUP(B14,'Retorno dividendos 2016-2021'!$A:$I,8,0),\"\")","v":""},{"$f":"IFERROR(VLOOKUP(B14,'Retorno dividendos 2016-2021'!A:I,9,0),\"\")","v":""},null,"Recebíveis",{"$f":"SUMIF('Monte uma carteira de FIIs'!$E$7:$E$21,'Confira os resultados'!H14,'Monte uma carteira de FIIs'!$G$7:$G$21)/'Confira os resultados'!$F$2","v":0},null,null,null,null,null,null,null,null,null,"",{"$f":"IF(S14=\"\",\"\",T13+'Monte uma carteira de FIIs'!#REF!*12)","v":""},"",null,null,null,null,null,null,{"$f":"IFERROR('Monte uma carteira de FIIs'!F12*'Confira os resultados'!F17,\"\")","v":""}]
[null,{"$f":"IF('Monte uma carteira de FIIs'!C10=\"\",\"\",'Monte uma carteira de FIIs'!C10)","v":""},{"$f":"IF('Monte uma carteira de FIIs'!G10=\"\",\"\",'Monte uma carteira de FIIs'!G10)","v":""},"",{"$f":"IFERROR(VLOOKUP(B15,'Retorno dividendos 2016-2021'!$A:$I,8,0),\"\")","v":""},{"$f":"IFERROR(VLOOKUP(B15,'Retorno dividendos 2016-2021'!A:I,9,0),\"\")","v":""},null,"Lajes Corporativas",{"$f":"SUMIF('Monte uma carteira de FIIs'!$E$7:$E$21,'Confira os resultados'!H15,'Monte uma carteira de FIIs'!$G$7:$G$21)/'Confira os resultados'!$F$2","v":0},null,null,null,null,null,null,null,null,null,"",{"$f":"IF(S15=\"\",\"\",T14+'Monte uma carteira de FIIs'!#REF!*12)","v":""},"",null,null,null,null,null,null,{"$f":"IFERROR('Monte uma carteira de FIIs'!F13*'Confira os resultados'!F18,\"\")","v":""}]
[null,{"$f":"IF('Monte uma carteira de FIIs'!C11=\"\",\"\",'Monte uma carteira de FIIs'!C11)","v":""},{"$f":"IF('Monte uma carteira de FIIs'!G11=\"\",\"\",'Monte uma carteira de FIIs'!G11)","v":""},"",{"$f":"IFERROR(VLOOKUP(B16,'Retorno dividendos 2016-2021'!$A:$I,8,0),\"\")","v":""},{"$f":"IFERROR(VLOOKUP(B16,'Retorno dividendos 2016-2021'!A:I,9,0),\"\")","v":""},null,"Híbrido",{"$f":"SUMIF('Monte uma carteira de FIIs'!$E$7:$E$21,'Confira os resultados'!H16,'Monte uma carteira de FIIs'!$G$7:$G$21)/'Confira os resultados'!$F$2","v":0},null,null,null,null,null,null,null,null,null,"",{"$f":"IF(S16=\"\",\"\",T15+'Monte uma carteira de FIIs'!#REF!*12)","v":""},"",null,null,null,null,null,null,{"$f":"IFERROR('Monte uma carteira de FIIs'!F14*'Confira os resultados'!F19,\"\")","v":""}]
[null,{"$f":"IF('Monte uma carteira de FIIs'!C12=\"\",\"\",'Monte uma carteira de FIIs'!C12)","v":""},{"$f":"IF('Monte uma carteira de FIIs'!G12=\"\",\"\",'Monte uma carteira de FIIs'!G12)","v":""},"",{"$f":"IFERROR(VLOOKUP(B17,'Retorno dividendos 2016-2021'!$A:$I,8,0),\"\")","v":""},{"$f":"IFERROR(VLOOKUP(B17,'Retorno dividendos 2016-2021'!A:I,9,0),\"\")","v":""},null,"Fundo de Fundos",{"$f":"SUMIF('Monte uma carteira de FIIs'!$E$7:$E$21,'Confira os resultados'!H17,'Monte uma carteira de FIIs'!$G$7:$G$21)/'Confira os resultados'!$F$2","v":0},null,null,null,null,null,null,null,null,null,"",{"$f":"IF(S17=\"\",\"\",T16+'Monte uma carteira de FIIs'!#REF!*12)","v":""},"",null,null,null,null,null,null,{"$f":"IFERROR('Monte uma carteira de FIIs'!F15*'Confira os resultados'!F20,\"\")","v":""}]
[null,{"$f":"IF('Monte uma carteira de FIIs'!C13=\"\",\"\",'Monte uma carteira de FIIs'!C13)","v":""},{"$f":"IF('Monte uma carteira de FIIs'!G13=\"\",\"\",'Monte uma carteira de FIIs'!G13)","v":""},"",{"$f":"IFERROR(VLOOKUP(B18,'Retorno dividendos 2016-2021'!$A:$I,8,0),\"\")","v":""},{"$f":"IFERROR(VLOOKUP(B18,'Retorno dividendos 2016-2021'!A:I,9,0),\"\")","v":""},null,"Logística",{"$f":"SUMIF('Monte uma carteira de FIIs'!$E$7:$E$21,'Confira os resultados'!H18,'Monte uma carteira de FIIs'!$G$7:$G$21)/'Confira os resultados'!$F$2","v":0},null,null,null,null,null,null,null,null,null,"",{"$f":"IF(S18=\"\",\"\",T17+'Monte uma carteira de FIIs'!#REF!*12)","v":""},"",null,null,null,null,null,null,{"$f":"IFERROR('Monte uma carteira de FIIs'!F16*'Confira os resultados'!F21,\"\")","v":""}]
[null,{"$f":"IF('Monte uma carteira de FIIs'!C14=\"\",\"\",'Monte uma carteira de FIIs'!C14)","v":""},{"$f":"IF('Monte uma carteira de FIIs'!G14=\"\",\"\",'Monte uma carteira de FIIs'!G14)","v":""},"",{"$f":"IFERROR(VLOOKUP(B19,'Retorno dividendos 2016-2021'!$A:$I,8,0),\"\")","v":""},{"$f":"IFERROR(VLOOKUP(B19,'Retorno dividendos 2016-2021'!A:I,9,0),\"\")","v":""},null,"Shoppings",{"$f":"SUMIF('Monte uma carteira de FIIs'!$E$7:$E$21,'Confira os resultados'!H19,'Monte uma carteira de FIIs'!$G$7:$G$21)/'Confira os resultados'!$F$2","v":0},null,null,null,null,null,null,null,null,null,"",{"$f":"IF(S19=\"\",\"\",T18+'Monte uma carteira de FIIs'!#REF!*12)","v":""},"",null,null,null,null,null,null,{"$f":"IFERROR('Monte uma carteira de FIIs'!F17*'Confira os resultados'!F22,\"\")","v":""}]
[null,{"$f":"IF('Monte uma carteira de FIIs'!C15=\"\",\"\",'Monte uma carteira de FIIs'!C15)","v":""},{"$f":"IF('Monte uma carteira de FIIs'!G15=\"\",\"\",'Monte uma carteira de FIIs'!G15)","v":""},"",{"$f":"IFERROR(VLOOKUP(B20,'Retorno dividendos 2016-2021'!$A:$I,8,0),\"\")","v":""},{"$f":"IFERROR(VLOOKUP(B20,'Retorno dividendos 2016-2021'!A:I,9,0),\"\")","v":""},null,"Rural",{"$f":"SUMIF('Monte uma carteira de FIIs'!$E$7:$E$21,'Confira os resultados'!H20,'Monte uma carteira de FIIs'!$G$7:$G$21)/'Confira os resultados'!$F$2","v":0},null,null,null,null,null,null,null,null,null,"",{"$f":"IF(S20=\"\",\"\",T19+'Monte uma carteira de FIIs'!#REF!*12)","v":""},"",null,null,null,null,null,null,{"$f":"IFERROR('Monte uma carteira de FIIs'!F18*'Confira os resultados'!F23,\"\")","v":""}]
[null,{"$f":"IF('Monte uma carteira de FIIs'!C16=\"\",\"\",'Monte uma carteira de FIIs'!C16)","v":""},{"$f":"IF('Monte uma carteira de FIIs'!G16=\"\",\"\",'Monte uma carteira de FIIs'!G16)","v":""},"",{"$f":"IFERROR(VLOOKUP(B21,'Retorno dividendos 2016-2021'!$A:$I,8,0),\"\")","v":""},{"$f":"IFERROR(VLOOKUP(B21,'Retorno dividendos 2016-2021'!A:I,9,0),\"\")","v":""},null,"Agências",{"$f":"SUMIF('Monte uma carteira de FIIs'!$E$7:$E$21,'Confira os resultados'!H21,'Monte uma carteira de FIIs'!$G$7:$G$21)/'Confira os resultados'!$F$2","v":0},null,null,null,null,null,null,null,null,null,"",{"$f":"IF(S21=\"\",\"\",T20+'Monte uma carteira de FIIs'!#REF!*12)","v":""},"",null,null,null,null,null,null,{"$f":"IFERROR('Monte uma carteira de FIIs'!F19*'Confira os resultados'!F24,\"\")","v":""}]
[null,{"$f":"IF('Monte uma carteira de FIIs'!C17=\"\",\"\",'Monte uma carteira de FIIs'!C17)","v":""},{"$f":"IF('Monte uma carteira de FIIs'!G17=\"\",\"\",'Monte uma carteira de FIIs'!G17)","v":""},"",{"$f":"IFERROR(VLOOKUP(B22,'Retorno dividendos 2016-2021'!$A:$I,8,0),\"\")","v":""},{"$f":"IFERROR(VLOOKUP(B22,'Retorno dividendos 2016-2021'!A:I,9,0),\"\")","v":""},null,"Hotel",{"$f":"SUMIF('Monte uma carteira de FIIs'!$E$7:$E$21,'Confira os resultados'!H22,'Monte uma carteira de FIIs'!$G$7:$G$21)/'Confira os resultados'!$F$2","v":0},null,null,null,null,null,null,null,null,null,"",{"$f":"IF(S22=\"\",\"\",T21+'Monte uma carteira de FIIs'!#REF!*12)","v":""},"",null,null,null,null,null,null,{"$f":"IFERROR('Monte uma carteira de FIIs'!F20*'Confira os resultados'!F25,\"\")","v":""}]
[null,{"$f":"IF('Monte uma carteira de FIIs'!C18=\"\",\"\",'Monte uma carteira de FIIs'!C18)","v":""},{"$f":"IF('Monte uma carteira de FIIs'!G18=\"\",\"\",'Monte uma carteira de FIIs'!G18)","v":""},"",{"$f":"IFERROR(VLOOKUP(B23,'Retorno dividendos 2016-2021'!$A:$I,8,0),\"\")","v":""},{"$f":"IFERROR(VLOOKUP(B23,'Retorno dividendos 2016-2021'!A:I,9,0),\"\")","v":""},null,"Educacional",{"$f":"SUMIF('Monte uma carteira de FIIs'!$E$7:$E$21,'Confira os resultados'!H23,'Monte uma carteira de FIIs'!$G$7:$G$21)/'Confira os resultados'!$F$2","v":0},null,null,null,null,null,null,null,null,null,"",{"$f":"IF(S23=\"\",\"\",T22+'Monte uma carteira de FIIs'!#REF!*12)","v":""},"",null,null,null,null,null,null,{"$f":"IFERROR('Monte uma carteira de FIIs'!F21*'Confira os resultados'!F26,\"\")","v":""}]
[null,{"$f":"IF('Monte uma carteira de FIIs'!C19=\"\",\"\",'Monte uma carteira de FIIs'!C19)","v":""},{"$f":"IF('Monte uma carteira de FIIs'!G19=\"\",\"\",'Monte uma carteira de FIIs'!G19)","v":""},"",{"$f":"IFERROR(VLOOKUP(B24,'Retorno dividendos 2016-2021'!$A:$I,8,0),\"\")","v":""},{"$f":"IFERROR(VLOOKUP(B24,'Retorno dividendos 2016-2021'!A:I,9,0),\"\")","v":""},null,"Desenvolvimento",{"$f":"SUMIF('Monte uma carteira de FIIs'!$E$7:$E$21,'Confira os resultados'!H24,'Monte uma carteira de FIIs'!$G$7:$G$21)/'Confira os resultados'!$F$2","v":0},null,null,null,null,null,null,null,null,null,"",{"$f":"IF(S24=\"\",\"\",T23+'Monte uma carteira de FIIs'!#REF!*12)","v":""},""]
[null,{"$f":"IF('Monte uma carteira de FIIs'!C20=\"\",\"\",'Monte uma carteira de FIIs'!C20)","v":""},{"$f":"IF('Monte uma carteira de FIIs'!G20=\"\",\"\",'Monte uma carteira de FIIs'!G20)","v":""},"",{"$f":"IFERROR(VLOOKUP(B25,'Retorno dividendos 2016-2021'!$A:$I,8,0),\"\")","v":""},{"$f":"IFERROR(VLOOKUP(B25,'Retorno dividendos 2016-2021'!A:I,9,0),\"\")","v":""},null,null,null,null,null,null,null,null,null,null,null,null,{"$f":"IFERROR(IF(#REF!=$AB$6,\"\",#REF!+1),\"\")","v":""},{"$f":"IF(S25=\"\",\"\",#REF!+'Monte uma carteira de FIIs'!#REF!*12)","v":""},""]
[null,{"$f":"IF('Monte uma carteira de FIIs'!C21=\"\",\"\",'Monte uma carteira de FIIs'!C21)","v":""},{"$f":"IF('Monte uma carteira de FIIs'!G21=\"\",\"\",'Monte uma carteira de FIIs'!G21)","v":""},"",{"$f":"IFERROR(VLOOKUP(B26,'Retorno dividendos 2016-2021'!$A:$I,8,0),\"\")","v":""},{"$f":"IFERROR(VLOOKUP(B26,'Retorno dividendos 2016-2021'!A:I,9,0),\"\")","v":""},null,null,null,null,null,null,null,null,null,null,null,null,"",{"$f":"IF(S26=\"\",\"\",T25+'Monte uma carteira de FIIs'!#REF!*12)","v":""},""]
[null,null,null,null,null,null,null,null,null,null,null,null,null,null,null,null,null,null,"",{"$f":"IF(S27=\"\",\"\",T26+'Monte uma carteira de FIIs'!#REF!*12)","v":""},""]
[null,null,null,null,null,null,null,null,null,null,null,null,null,null,null,null,null,null,"",{"$f":"IF(S28=\"\",\"\",T27+'Monte uma carteira de FIIs'!#REF!*12)","v":""},""]
[null,null,null,null,null,null,null,null,null,null,null,null,null,null,null,null,null,null,"",{"$f":"IF(S29=\"\",\"\",T28+'Monte uma carteira de FIIs'!#REF!*12)","v":""},""]
[null,null,null,null,null,null,null,null,null,null,null,null,null,null,null,null,null,null,"",{"$f":"IF(S30=\"\",\"\",T29+'Monte uma carteira de FIIs'!#REF!*12)","v":""},""]
[null,null,null,null,null,null,null,null,null,null,null,null,null,null,null,null,null,null,"",{"$f":"IF(S31=\"\",\"\",T30+'Monte uma carteira de FIIs'!#REF!*12)","v":""},""]
[null,null,null,null,null,null,null,null,null,null,null,null,null,null,null,null,null,null,"",{"$f":"IF(S32=\"\",\"\",T31+'Monte uma carteira de FIIs'!#REF!*12)","v":""},""]
[null,null,null,null,null,null,null,null,null,null,null,null,null,null,null,null,null,null,"",{"$f":"IF(S33=\"\",\"\",T32+'Monte uma carteira de FIIs'!#REF!*12)","v":""},""]
[null,null,null,null,null,null,null,null,null,null,null,null,null,null,null,null,null,null,"",{"$f":"IF(S34=\"\",\"\",T33+'Monte uma carteira de FIIs'!#REF!*12)","v":""},""]
[null,null,null,null,null,null,null,null,null,null,null,null,null,null,null,null,null,null,"",{"$f":"IF(S35=\"\",\"\",T34+'Monte uma carteira de FIIs'!#REF!*12)","v":""},""]
[null,null,null,null,null,null,null,null,null,null,null,null,null,null,null,null,null,null,"",{"$f":"IF(S36=\"\",\"\",T35+'Monte uma carteira de FIIs'!#REF!*12)","v":""},""]
[null,null,null,null,null,null,null,null,null,null,null,null,null,null,null,null,null,null,"",{"$f":"IF(S37=\"\",\"\",T36+'Monte uma carteira de FIIs'!#REF!*12)","v":""},""]
[null,null,null,null,null,null,null,null,null,null,null,null,null,null,null,null,null,null,"",{"$f":"IF(S38=\"\",\"\",T37+'Monte uma carteira de FIIs'!#REF!*12)","v":""},""]
[null,null,null,null,null,null,null,null,null,null,null,null,null,null,null,null,null,null,"",{"$f":"IF(S39=\"\",\"\",T38+'Monte uma carteira de FIIs'!#REF!*12)","v":""},""]
[null,null,null,null,null,null,null,null,null,null,null,null,null,null,null,null,null,null,"",{"$f":"IF(S40=\"\",\"\",T39+'Monte uma carteira de FIIs'!#REF!*12)","v":""},""]
[null,null,null,null,null,null,null,null,null,null,null,null,null,null,null,null,null,null,"",{"$f":"IF(S41=\"\",\"\",T40+'Monte uma carteira de FIIs'!#REF!*12)","v":""},""]
[null,null,null,null,null,null,null,null,null,null,null,null,null,null,null,null,null,null,"",{"$f":"IF(S42=\"\",\"\",T41+'Monte uma carteira de FIIs'!#REF!*12)","v":""},""]
[null,null,null,null,null,null,null,null,null,null,null,null,null,null,null,null,null,null,"",{"$f":"IF(S43=\"\",\"\",T42+'Monte uma carteira de FIIs'!#REF!*12)","v":""},""]
[null,null,null,null,null,null,null,null,null,null,null,null,null,null,null,null,null,null,"",{"$f":"IF(S44=\"\",\"\",T43+'Monte uma carteira de FIIs'!#REF!*12)","v":""},""]
[null,null,null,null,null,null,null,null,null,null,null,null,null,null,null,null,null,null,"",{"$f":"IF(S45=\"\",\"\",T44+'Monte uma carteira de FIIs'!#REF!*12)","v":""},""]
[null,null,null,null,null,null,null,null,null,null,null,null,null,null,null,null,null,null,"",{"$f":"IF(S46=\"\",\"\",T45+'Monte uma carteira de FIIs'!#REF!*12)","v":""},""]
[null,null,null,null,null,null,null,null,null,null,null,null,null,null,null,null,null,null,"",{"$f":"IF(S47=\"\",\"\",T46+'Monte uma carteira de FIIs'!#REF!*12)","v":""},""]
[null,null,null,null,null,null,null,null,null,null,null,null,null,null,null,null,null,null,"",{"$f":"IF(S48=\"\",\"\",T47+'Monte uma carteira de FIIs'!#REF!*12)","v":""},""]
[null,null,null,null,null,null,null,null,null,null,null,null,null,null,null,null,null,null,"",{"$f":"IF(S49=\"\",\"\",T48+'Monte uma carteira de FIIs'!#REF!*12)","v":""},""]
[null,null,null,null,null,null,null,null,null,null,null,null,null,null,null,null,null,null,{"$f":"IFERROR(IF(S49=$AB$6,\"\",S49+1),\"\")","v":""},{"$f":"IF(S50=\"\",\"\",T49+'Monte uma carteira de FIIs'!#REF!*12)","v":""},{"$f":"IFERROR(T50*$AB$3,\"\")","v":""}]
[null,null,null,null,null,null,null,null,null,null,null,null,null,null,null,null,null,null,"",{"$f":"IF(S51=\"\",\"\",T50+'Monte uma carteira de FIIs'!#REF!*12)","v":""},""]
[null,null,null,null,null,null,null,null,null,null,null,null,null,null,null,null,null,null,"",{"$f":"IF(S52=\"\",\"\",T51+'Monte uma carteira de FIIs'!#REF!*12)","v":""},""]
[null,null,null,null,null,null,null,null,null,null,null,null,null,null,null,null,null,null,"",{"$f":"IF(S53=\"\",\"\",T52+'Monte uma carteira de FIIs'!#REF!*12)","v":""},""]
[null,null,null,null,null,null,null,null,null,null,null,null,null,null,null,null,null,null,"",{"$f":"IF(S54=\"\",\"\",T53+'Monte uma carteira de FIIs'!#REF!*12)","v":""},""]
[null,null,null,null,null,null,null,null,null,null,null,null,null,null,null,null,null,null,"",{"$f":"IF(S55=\"\",\"\",T54+'Monte uma carteira de FIIs'!#REF!*12)","v":""},""]
[null,null,null,null,null,null,null,null,null,null,null,null,null,null,null,null,null,null,"",{"$f":"IF(S56=\"\",\"\",T55+'Monte uma carteira de FIIs'!#REF!*12)","v":""},""]
[null,null,null,null,null,null,null,null,null,null,null,null,null,null,null,null,null,null,"",{"$f":"IF(S57=\"\",\"\",T56+'Monte uma carteira de FIIs'!#REF!*12)","v":""},""]
[null,null,null,null,null,null,null,null,null,null,null,null,null,null,null,null,null,null,"",{"$f":"IF(S58=\"\",\"\",T57+'Monte uma carteira de FIIs'!#REF!*12)","v":""},""]
[null,null,null,null,null,null,null,null,null,null,null,null,null,null,null,null,null,null,"",{"$f":"IF(S59=\"\",\"\",T58+'Monte uma carteira de FIIs'!#REF!*12)","v":""},""]
[null,null,null,null,null,null,null,null,null,null,null,null,null,null,null,null,null,null,"",{"$f":"IF(S60=\"\",\"\",T59+'Monte uma carteira de FIIs'!#REF!*12)","v":""},""]
[null,null,null,null,null,null,null,null,null,null,null,null,null,null,null,null,null,null,"",{"$f":"IF(S61=\"\",\"\",T60+'Monte uma carteira de FIIs'!#REF!*12)","v":""},""]
[null,null,null,null,null,null,null,null,null,null,null,null,null,null,null,null,null,null,"",{"$f":"IF(S62=\"\",\"\",T61+'Monte uma carteira de FIIs'!#REF!*12)","v":""},""]
[null,null,null,null,null,null,null,null,null,null,null,null,null,null,null,null,null,null,"",{"$f":"IF(S63=\"\",\"\",T62+'Monte uma carteira de FIIs'!#REF!*12)","v":""},""]
[null,null,null,null,null,null,null,null,null,null,null,null,null,null,null,null,null,null,"",{"$f":"IF(S64=\"\",\"\",T63+'Monte uma carteira de FIIs'!#REF!*12)","v":""},""]
[null,null,null,null,null,null,null,null,null,null,null,null,null,null,null,null,null,null,"",{"$f":"IF(S65=\"\",\"\",T64+'Monte uma carteira de FIIs'!#REF!*12)","v":""},""]
[null,null,null,null,null,null,null,null,null,null,null,null,null,null,null,null,null,null,"",{"$f":"IF(S66=\"\",\"\",T65+'Monte uma carteira de FIIs'!#REF!*12)","v":""},""]
[null,null,null,null,null,null,null,null,null,null,null,null,null,null,null,null,null,null,"",{"$f":"IF(S67=\"\",\"\",T66+'Monte uma carteira de FIIs'!#REF!*12)","v":""},""]
[null,null,null,null,null,null,null,null,null,null,null,null,null,null,null,null,null,null,"",{"$f":"IF(S68=\"\",\"\",T67+'Monte uma carteira de FIIs'!#REF!*12)","v":""},""]
[null,null,null,null,null,null,null,null,null,null,null,null,null,null,null,null,null,null,"",{"$f":"IF(S69=\"\",\"\",T68+'Monte uma carteira de FIIs'!#REF!*12)","v":""},""]
[null,null,null,null,null,null,null,null,null,null,null,null,null,null,null,null,null,null,"",{"$f":"IF(S70=\"\",\"\",T69+'Monte uma carteira de FIIs'!#REF!*12)","v":""},""]
[null,null,null,null,null,null,null,null,null,null,null,null,null,null,null,null,null,null,"",{"$f":"IF(S71=\"\",\"\",T70+'Monte uma carteira de FIIs'!#REF!*12)","v":""},""]
[null,null,null,null,null,null,null,null,null,null,null,null,null,null,null,null,null,null,"",{"$f":"IF(S72=\"\",\"\",T71+'Monte uma carteira de FIIs'!#REF!*12)","v":""},""]
[null,null,null,null,null,null,null,null,null,null,null,null,null,null,null,null,null,null,"",{"$f":"IF(S73=\"\",\"\",T72+'Monte uma carteira de FIIs'!#REF!*12)","v":""},""]
[null,null,null,null,null,null,null,null,null,null,null,null,null,null,null,null,null,null,"",{"$f":"IF(S74=\"\",\"\",T73+'Monte uma carteira de FIIs'!#REF!*12)","v":""},""]
[null,null,null,null,null,null,null,null,null,null,null,null,null,null,null,null,null,null,"",{"$f":"IF(S75=\"\",\"\",T74+'Monte uma carteira de FIIs'!#REF!*12)","v":""},""]
[null,null,null,null,null,null,null,null,null,null,null,null,null,null,null,null,null,null,"",{"$f":"IF(S76=\"\",\"\",T75+'Monte uma carteira de FIIs'!#REF!*12)","v":""},""]
[null,null,null,null,null,null,null,null,null,null,null,null,null,null,null,null,null,null,"",{"$f":"IF(S77=\"\",\"\",T76+'Monte uma carteira de FIIs'!#REF!*12)","v":""},""]
[null,null,null,null,null,null,null,null,null,null,null,null,null,null,null,null,null,null,"",{"$f":"IF(S78=\"\",\"\",T77+'Monte uma carteira de FIIs'!#REF!*12)","v":""},""]
[null,null,null,null,null,null,null,null,null,null,null,null,null,null,null,null,null,null,"",{"$f":"IF(S79=\"\",\"\",T78+'Monte uma carteira de FIIs'!#REF!*12)","v":""},""]
[null,null,null,null,null,null,null,null,null,null,null,null,null,null,null,null,null,null,"",{"$f":"IF(S80=\"\",\"\",T79+'Monte uma carteira de FIIs'!#REF!*12)","v":""},""]
[null,null,null,null,null,null,null,null,null,null,null,null,null,null,null,null,null,null,"",{"$f":"IF(S81=\"\",\"\",T80+'Monte uma carteira de FIIs'!#REF!*12)","v":""},""]
[null,null,null,null,null,null,null,null,null,null,null,null,null,null,null,null,null,null,"",{"$f":"IF(S82=\"\",\"\",T81+'Monte uma carteira de FIIs'!#REF!*12)","v":""},""]
[null,null,null,null,null,null,null,null,null,null,null,null,null,null,null,null,null,null,"",{"$f":"IF(S83=\"\",\"\",T82+'Monte uma carteira de FIIs'!#REF!*12)","v":""},""]
[null,null,null,null,null,null,null,null,null,null,null,null,null,null,null,null,null,null,"",{"$f":"IF(S84=\"\",\"\",T83+'Monte uma carteira de FIIs'!#REF!*12)","v":""},""]
[null,null,null,null,null,null,null,null,null,null,null,null,null,null,null,null,null,null,"",{"$f":"IF(S85=\"\",\"\",T84+'Monte uma carteira de FIIs'!#REF!*12)","v":""},""]
[null,null,null,null,null,null,null,null,null,null,null,null,null,null,null,null,null,null,"",{"$f":"IF(S86=\"\",\"\",T85+'Monte uma carteira de FIIs'!#REF!*12)","v":""},""]
[null,null,null,null,null,null,null,null,null,null,null,null,null,null,null,null,null,null,"",{"$f":"IF(S87=\"\",\"\",T86+'Monte uma carteira de FIIs'!#REF!*12)","v":""},""]
[null,null,null,null,null,null,null,null,null,null,null,null,null,null,null,null,null,null,"",{"$f":"IF(S88=\"\",\"\",T87+'Monte uma carteira de FIIs'!#REF!*12)","v":""},""]
[null,null,null,null,null,null,null,null,null,null,null,null,null,null,null,null,null,null,"",{"$f":"IF(S89=\"\",\"\",T88+'Monte uma carteira de FIIs'!#REF!*12)","v":""},""]
[null,null,null,null,null,null,null,null,null,null,null,null,null,null,null,null,null,null,"",{"$f":"IF(S90=\"\",\"\",T89+'Monte uma carteira de FIIs'!#REF!*12)","v":""},""]
[null,null,null,null,null,null,null,null,null,null,null,null,null,null,null,null,null,null,"",{"$f":"IF(S91=\"\",\"\",T90+'Monte uma carteira de FIIs'!#REF!*12)","v":""},""]
[null,null,null,null,null,null,null,null,null,null,null,null,null,null,null,null,null,null,"",{"$f":"IF(S92=\"\",\"\",T91+'Monte uma carteira de FIIs'!#REF!*12)","v":""},""]
[null,null,null,null,null,null,null,null,null,null,null,null,null,null,null,null,null,null,"",{"$f":"IF(S93=\"\",\"\",T92+'Monte uma carteira de FIIs'!#REF!*12)","v":""},""]
[null,null,null,null,null,null,null,null,null,null,null,null,null,null,null,null,null,null,"",{"$f":"IF(S94=\"\",\"\",T93+'Monte uma carteira de FIIs'!#REF!*12)","v":""},""]
[null,null,null,null,null,null,null,null,null,null,null,null,null,null,null,null,null,null,"",{"$f":"IF(S95=\"\",\"\",T94+'Monte uma carteira de FIIs'!#REF!*12)","v":""},""]
[null,null,null,null,null,null,null,null,null,null,null,null,null,null,null,null,null,null,"",{"$f":"IF(S96=\"\",\"\",T95+'Monte uma carteira de FIIs'!#REF!*12)","v":""},""]
[null,null,null,null,null,null,null,null,null,null,null,null,null,null,null,null,null,null,"",{"$f":"IF(S97=\"\",\"\",T96+'Monte uma carteira de FIIs'!#REF!*12)","v":""},""]
[null,null,null,null,null,null,null,null,null,null,null,null,null,null,null,null,null,null,"",{"$f":"IF(S98=\"\",\"\",T97+'Monte uma carteira de FIIs'!#REF!*12)","v":""},""]
[null,null,null,null,null,null,null,null,null,null,null,null,null,null,null,null,null,null,"",{"$f":"IF(S99=\"\",\"\",T98+'Monte uma carteira de FIIs'!#REF!*12)","v":""},""]
[null,null,null,null,null,null,null,null,null,null,null,null,null,null,null,null,null,null,"",{"$f":"IF(S100=\"\",\"\",T99+'Monte uma carteira de FIIs'!#REF!*12)","v":""},""]
[null,null,null,null,null,null,null,null,null,null,null,null,null,null,null,null,null,null,"",{"$f":"IF(S101=\"\",\"\",T100+'Monte uma carteira de FIIs'!#REF!*12)","v":""},""]
[null,null,null,null,null,null,null,null,null,null,null,null,null,null,null,null,null,null,"",{"$f":"IF(S102=\"\",\"\",T101+'Monte uma carteira de FIIs'!#REF!*12)","v":""},""]
[null,null,null,null,null,null,null,null,null,null,null,null,null,null,null,null,null,null,"",{"$f":"IF(S103=\"\",\"\",T102+'Monte uma carteira de FIIs'!#REF!*12)","v":""},""]
[null,null,null,null,null,null,null,null,null,null,null,null,null,null,null,null,null,null,"",{"$f":"IF(S104=\"\",\"\",T103+'Monte uma carteira de FIIs'!#REF!*12)","v":""},""]
[null,null,null,null,null,null,null,null,null,null,null,null,null,null,null,null,null,null,"",{"$f":"IF(S105=\"\",\"\",T104+'Monte uma carteira de FIIs'!#REF!*12)","v":""},""]
[null,null,null,null,null,null,null,null,null,null,null,null,null,null,null,null,null,null,"",{"$f":"IF(S106=\"\",\"\",T105+'Monte uma carteira de FIIs'!#REF!*12)","v":""},""]
[null,null,null,null,null,null,null,null,null,null,null,null,null,null,null,null,null,null,"",{"$f":"IF(S107=\"\",\"\",T106+'Monte uma carteira de FIIs'!#REF!*12)","v":""},""]
[null,null,null,null,null,null,null,null,null,null,null,null,null,null,null,null,null,null,"",{"$f":"IF(S108=\"\",\"\",T107+'Monte uma carteira de FIIs'!#REF!*12)","v":""},""]
[null,null,null,null,null,null,null,null,null,null,null,null,null,null,null,null,null,null,"",{"$f":"IF(S109=\"\",\"\",T108+'Monte uma carteira de FIIs'!#REF!*12)","v":""},""]
[null,null,null,null,null,null,null,null,null,null,null,null,null,null,null,null,null,null,"",{"$f":"IF(S110=\"\",\"\",T109+'Monte uma carteira de FIIs'!#REF!*12)","v":""},""]
[null,null,null,null,null,null,null,null,null,null,null,null,null,null,null,null,null,null,"",{"$f":"IF(S111=\"\",\"\",T110+'Monte uma carteira de FIIs'!#REF!*12)","v":""},""]
[null,null,null,null,null,null,null,null,null,null,null,null,null,null,null,null,null,null,"",{"$f":"IF(S112=\"\",\"\",T111+'Monte uma carteira de FIIs'!#REF!*12)","v":""},""]
[null,null,null,null,null,null,null,null,null,null,null,null,null,null,null,null,null,null,"",{"$f":"IF(S113=\"\",\"\",T112+'Monte uma carteira de FIIs'!#REF!*12)","v":""},""]
[null,null,null,null,null,null,null,null,null,null,null,null,null,null,null,null,null,null,{"$f":"IFERROR(IF(S113=$AB$6,\"\",S113+1),\"\")","v":""},{"$f":"IF(S114=\"\",\"\",T113+'Monte uma carteira de FIIs'!#REF!*12)","v":""},{"$f":"IFERROR(T114*$AB$3,\"\")","v":""}]
[null,null,null,null,null,null,null,null,null,null,null,null,null,null,null,null,null,null,"",{"$f":"IF(S115=\"\",\"\",T114+'Monte uma carteira de FIIs'!#REF!*12)","v":""},""]
[null,null,null,null,null,null,null,null,null,null,null,null,null,null,null,null,null,null,"",{"$f":"IF(S116=\"\",\"\",T115+'Monte uma carteira de FIIs'!#REF!*12)","v":""},""]
[null,null,null,null,null,null,null,null,null,null,null,null,null,null,null,null,null,null,"",{"$f":"IF(S117=\"\",\"\",T116+'Monte uma carteira de FIIs'!#REF!*12)","v":""},""]
[null,null,null,null,null,null,null,null,null,null,null,null,null,null,null,null,null,null,"",{"$f":"IF(S118=\"\",\"\",T117+'Monte uma carteira de FIIs'!#REF!*12)","v":""},""]
[null,null,null,null,null,null,null,null,null,null,null,null,null,null,null,null,null,null,"",{"$f":"IF(S119=\"\",\"\",T118+'Monte uma carteira de FIIs'!#REF!*12)","v":""},""]
[null,null,null,null,null,null,null,null,null,null,null,null,null,null,null,null,null,null,"",{"$f":"IF(S120=\"\",\"\",T119+'Monte uma carteira de FIIs'!#REF!*12)","v":""},""]
[null,null,null,null,null,null,null,null,null,null,null,null,null,null,null,null,null,null,"",{"$f":"IF(S121=\"\",\"\",T120+'Monte uma carteira de FIIs'!#REF!*12)","v":""},""]
[null,null,null,null,null,null,null,null,null,null,null,null,null,null,null,null,null,null,"",{"$f":"IF(S122=\"\",\"\",T121+'Monte uma carteira de FIIs'!#REF!*12)","v":""},""]
[null,null,null,null,null,null,null,null,null,null,null,null,null,null,null,null,null,null,"",{"$f":"IF(S123=\"\",\"\",T122+'Monte uma carteira de FIIs'!#REF!*12)","v":""},""]
[null,null,null,null,null,null,null,null,null,null,null,null,null,null,null,null,null,null,"",{"$f":"IF(S124=\"\",\"\",T123+'Monte uma carteira de FIIs'!#REF!*12)","v":""},""]
[null,null,null,null,null,null,null,null,null,null,null,null,null,null,null,null,null,null,"",{"$f":"IF(S125=\"\",\"\",T124+'Monte uma carteira de FIIs'!#REF!*12)","v":""},""]
[null,null,null,null,null,null,null,null,null,null,null,null,null,null,null,null,null,null,"",{"$f":"IF(S126=\"\",\"\",T125+'Monte uma carteira de FIIs'!#REF!*12)","v":""},""]
[null,null,null,null,null,null,null,null,null,null,null,null,null,null,null,null,null,null,"",{"$f":"IF(S127=\"\",\"\",T126+'Monte uma carteira de FIIs'!#REF!*12)","v":""},""]
[null,null,null,null,null,null,null,null,null,null,null,null,null,null,null,null,null,null,"",{"$f":"IF(S128=\"\",\"\",T127+'Monte uma carteira de FIIs'!#REF!*12)","v":""},""]
[null,null,null,null,null,null,null,null,null,null,null,null,null,null,null,null,null,null,"",{"$f":"IF(S129=\"\",\"\",T128+'Monte uma carteira de FIIs'!#REF!*12)","v":""},""]
[null,null,null,null,null,null,null,null,null,null,null,null,null,null,null,null,null,null,"",{"$f":"IF(S130=\"\",\"\",T129+'Monte uma carteira de FIIs'!#REF!*12)","v":""},""]
[null,null,null,null,null,null,null,null,null,null,null,null,null,null,null,null,null,null,"",{"$f":"IF(S131=\"\",\"\",T130+'Monte uma carteira de FIIs'!#REF!*12)","v":""},""]
[null,null,null,null,null,null,null,null,null,null,null,null,null,null,null,null,null,null,"",{"$f":"IF(S132=\"\",\"\",T131+'Monte uma carteira de FIIs'!#REF!*12)","v":""},""]
[null,null,null,null,null,null,null,null,null,null,null,null,null,null,null,null,null,null,"",{"$f":"IF(S133=\"\",\"\",T132+'Monte uma carteira de FIIs'!#REF!*12)","v":""},""]
[null,null,null,null,null,null,null,null,null,null,null,null,null,null,null,null,null,null,"",{"$f":"IF(S134=\"\",\"\",T133+'Monte uma carteira de FIIs'!#REF!*12)","v":""},""]
[null,null,null,null,null,null,null,null,null,null,null,null,null,null,null,null,null,null,"",{"$f":"IF(S135=\"\",\"\",T134+'Monte uma carteira de FIIs'!#REF!*12)","v":""},""]
[null,null,null,null,null,null,null,null,null,null,null,null,null,null,null,null,null,null,"",{"$f":"IF(S136=\"\",\"\",T135+'Monte uma carteira de FIIs'!#REF!*12)","v":""},""]
[null,null,null,null,null,null,null,null,null,null,null,null,null,null,null,null,null,null,"",{"$f":"IF(S137=\"\",\"\",T136+'Monte uma carteira de FIIs'!#REF!*12)","v":""},""]
[null,null,null,null,null,null,null,null,null,null,null,null,null,null,null,null,null,null,"",{"$f":"IF(S138=\"\",\"\",T137+'Monte uma carteira de FIIs'!#REF!*12)","v":""},""]
[null,null,null,null,null,null,null,null,null,null,null,null,null,null,null,null,null,null,"",{"$f":"IF(S139=\"\",\"\",T138+'Monte uma carteira de FIIs'!#REF!*12)","v":""},""]
[null,null,null,null,null,null,null,null,null,null,null,null,null,null,null,null,null,null,"",{"$f":"IF(S140=\"\",\"\",T139+'Monte uma carteira de FIIs'!#REF!*12)","v":""},""]
[null,null,null,null,null,null,null,null,null,null,null,null,null,null,null,null,null,null,"",{"$f":"IF(S141=\"\",\"\",T140+'Monte uma carteira de FIIs'!#REF!*12)","v":""},""]
[null,null,null,null,null,null,null,null,null,null,null,null,null,null,null,null,null,null,"",{"$f":"IF(S142=\"\",\"\",T141+'Monte uma carteira de FIIs'!#REF!*12)","v":""},""]
[null,null,null,null,null,null,null,null,null,null,null,null,null,null,null,null,null,null,"",{"$f":"IF(S143=\"\",\"\",T142+'Monte uma carteira de FIIs'!#REF!*12)","v":""},""]
[null,null,null,null,null,null,null,null,null,null,null,null,null,null,null,null,null,null,"",{"$f":"IF(S144=\"\",\"\",T143+'Monte uma carteira de FIIs'!#REF!*12)","v":""},""]
[null,null,null,null,null,null,null,null,null,null,null,null,null,null,null,null,null,null,"",{"$f":"IF(S145=\"\",\"\",T144+'Monte uma carteira de FIIs'!#REF!*12)","v":""},""]
[null,null,null,null,null,null,null,null,null,null,null,null,null,null,null,null,null,null,"",{"$f":"IF(S146=\"\",\"\",T145+'Monte uma carteira de FIIs'!#REF!*12)","v":""},""]
[null,null,null,null,null,null,null,null,null,null,null,null,null,null,null,null,null,null,"",{"$f":"IF(S147=\"\",\"\",T146+'Monte uma carteira de FIIs'!#REF!*12)","v":""},""]
[null,null,null,null,null,null,null,null,null,null,null,null,null,null,null,null,null,null,"",{"$f":"IF(S148=\"\",\"\",T147+'Monte uma carteira de FIIs'!#REF!*12)","v":""},""]
[null,null,null,null,null,null,null,null,null,null,null,null,null,null,null,null,null,null,"",{"$f":"IF(S149=\"\",\"\",T148+'Monte uma carteira de FIIs'!#REF!*12)","v":""},""]
[null,null,null,null,null,null,null,null,null,null,null,null,null,null,null,null,null,null,"",{"$f":"IF(S150=\"\",\"\",T149+'Monte uma carteira de FIIs'!#REF!*12)","v":""},""]
[null,null,null,null,null,null,null,null,null,null,null,null,null,null,null,null,null,null,"",{"$f":"IF(S151=\"\",\"\",T150+'Monte uma carteira de FIIs'!#REF!*12)","v":""},""]
[null,null,null,null,null,null,null,null,null,null,null,null,null,null,null,null,null,null,"",{"$f":"IF(S152=\"\",\"\",T151+'Monte uma carteira de FIIs'!#REF!*12)","v":""},""]
[null,null,null,null,null,null,null,null,null,null,null,null,null,null,null,null,null,null,"",{"$f":"IF(S153=\"\",\"\",T152+'Monte uma carteira de FIIs'!#REF!*12)","v":""},""]
[null,null,null,null,null,null,null,null,null,null,null,null,null,null,null,null,null,null,"",{"$f":"IF(S154=\"\",\"\",T153+'Monte uma carteira de FIIs'!#REF!*12)","v":""},""]
[null,null,null,null,null,null,null,null,null,null,null,null,null,null,null,null,null,null,"",{"$f":"IF(S155=\"\",\"\",T154+'Monte uma carteira de FIIs'!#REF!*12)","v":""},""]
[null,null,null,null,null,null,null,null,null,null,null,null,null,null,null,null,null,null,"",{"$f":"IF(S156=\"\",\"\",T155+'Monte uma carteira de FIIs'!#REF!*12)","v":""},""]
[null,null,null,null,null,null,null,null,null,null,null,null,null,null,null,null,null,null,"",{"$f":"IF(S157=\"\",\"\",T156+'Monte uma carteira de FIIs'!#REF!*12)","v":""},""]
[null,null,null,null,null,null,null,null,null,null,null,null,null,null,null,null,null,null,"",{"$f":"IF(S158=\"\",\"\",T157+'Monte uma carteira de FIIs'!#REF!*12)","v":""},""]
[null,null,null,null,null,null,null,null,null,null,null,null,null,null,null,null,null,null,"",{"$f":"IF(S159=\"\",\"\",T158+'Monte uma carteira de FIIs'!#REF!*12)","v":""},""]
[null,null,null,null,null,null,null,null,null,null,null,null,null,null,null,null,null,null,"",{"$f":"IF(S160=\"\",\"\",T159+'Monte uma carteira de FIIs'!#REF!*12)","v":""},""]
[null,null,null,null,null,null,null,null,null,null,null,null,null,null,null,null,null,null,"",{"$f":"IF(S161=\"\",\"\",T160+'Monte uma carteira de FIIs'!#REF!*12)","v":""},""]
[null,null,null,null,null,null,null,null,null,null,null,null,null,null,null,null,null,null,"",{"$f":"IF(S162=\"\",\"\",T161+'Monte uma carteira de FIIs'!#REF!*12)","v":""},""]
[null,null,null,null,null,null,null,null,null,null,null,null,null,null,null,null,null,null,"",{"$f":"IF(S163=\"\",\"\",T162+'Monte uma carteira de FIIs'!#REF!*12)","v":""},""]
[null,null,null,null,null,null,null,null,null,null,null,null,null,null,null,null,null,null,"",{"$f":"IF(S164=\"\",\"\",T163+'Monte uma carteira de FIIs'!#REF!*12)","v":""},""]
[null,null,null,null,null,null,null,null,null,null,null,null,null,null,null,null,null,null,"",{"$f":"IF(S165=\"\",\"\",T164+'Monte uma carteira de FIIs'!#REF!*12)","v":""},""]
[null,null,null,null,null,null,null,null,null,null,null,null,null,null,null,null,null,null,"",{"$f":"IF(S166=\"\",\"\",T165+'Monte uma carteira de FIIs'!#REF!*12)","v":""},""]
[null,null,null,null,null,null,null,null,null,null,null,null,null,null,null,null,null,null,"",{"$f":"IF(S167=\"\",\"\",T166+'Monte uma carteira de FIIs'!#REF!*12)","v":""},""]
[null,null,null,null,null,null,null,null,null,null,null,null,null,null,null,null,null,null,"",{"$f":"IF(S168=\"\",\"\",T167+'Monte uma carteira de FIIs'!#REF!*12)","v":""},""]
[null,null,null,null,null,null,null,null,null,null,null,null,null,null,null,null,null,null,"",{"$f":"IF(S169=\"\",\"\",T168+'Monte uma carteira de FIIs'!#REF!*12)","v":""},""]
[null,null,null,null,null,null,null,null,null,null,null,null,null,null,null,null,null,null,"",{"$f":"IF(S170=\"\",\"\",T169+'Monte uma carteira de FIIs'!#REF!*12)","v":""},""]
[null,null,null,null,null,null,null,null,null,null,null,null,null,null,null,null,null,null,"",{"$f":"IF(S171=\"\",\"\",T170+'Monte uma carteira de FIIs'!#REF!*12)","v":""},""]
[null,null,null,null,null,null,null,null,null,null,null,null,null,null,null,null,null,null,"",{"$f":"IF(S172=\"\",\"\",T171+'Monte uma carteira de FIIs'!#REF!*12)","v":""},""]
[null,null,null,null,null,null,null,null,null,null,null,null,null,null,null,null,null,null,"",{"$f":"IF(S173=\"\",\"\",T172+'Monte uma carteira de FIIs'!#REF!*12)","v":""},""]
[null,null,null,null,null,null,null,null,null,null,null,null,null,null,null,null,null,null,"",{"$f":"IF(S174=\"\",\"\",T173+'Monte uma carteira de FIIs'!#REF!*12)","v":""},""]
[null,null,null,null,null,null,null,null,null,null,null,null,null,null,null,null,null,null,"",{"$f":"IF(S175=\"\",\"\",T174+'Monte uma carteira de FIIs'!#REF!*12)","v":""},""]
[null,null,null,null,null,null,null,null,null,null,null,null,null,null,null,null,null,null,"",{"$f":"IF(S176=\"\",\"\",T175+'Monte uma carteira de FIIs'!#REF!*12)","v":""},""]
[null,null,null,null,null,null,null,null,null,null,null,null,null,null,null,null,null,null,"",{"$f":"IF(S177=\"\",\"\",T176+'Monte uma carteira de FIIs'!#REF!*12)","v":""},""]
[null,null,null,null,null,null,null,null,null,null,null,null,null,null,null,null,null,null,{"$f":"IFERROR(IF(S177=$AB$6,\"\",S177+1),\"\")","v":""},{"$f":"IF(S178=\"\",\"\",T177+'Monte uma carteira de FIIs'!#REF!*12)","v":""},{"$f":"IFERROR(T178*$AB$3,\"\")","v":""}]
[null,null,null,null,null,null,null,null,null,null,null,null,null,null,null,null,null,null,"",{"$f":"IF(S179=\"\",\"\",T178+'Monte uma carteira de FIIs'!#REF!*12)","v":""},""]
[null,null,null,null,null,null,null,null,null,null,null,null,null,null,null,null,null,null,"",{"$f":"IF(S180=\"\",\"\",T179+'Monte uma carteira de FIIs'!#REF!*12)","v":""},""]
[null,null,null,null,null,null,null,null,null,null,null,null,null,null,null,null,null,null,"",{"$f":"IF(S181=\"\",\"\",T180+'Monte uma carteira de FIIs'!#REF!*12)","v":""},""]
[null,null,null,null,null,null,null,null,null,null,null,null,null,null,null,null,null,null,"",{"$f":"IF(S182=\"\",\"\",T181+'Monte uma carteira de FIIs'!#REF!*12)","v":""},""]
[null,null,null,null,null,null,null,null,null,null,null,null,null,null,null,null,null,null,"",{"$f":"IF(S183=\"\",\"\",T182+'Monte uma carteira de FIIs'!#REF!*12)","v":""},""]
[null,null,null,null,null,null,null,null,null,null,null,null,null,null,null,null,null,null,"",{"$f":"IF(S184=\"\",\"\",T183+'Monte uma carteira de FIIs'!#REF!*12)","v":""},""]
[null,null,null,null,null,null,null,null,null,null,null,null,null,null,null,null,null,null,"",{"$f":"IF(S185=\"\",\"\",T184+'Monte uma carteira de FIIs'!#REF!*12)","v":""},""]
[null,null,null,null,null,null,null,null,null,null,null,null,null,null,null,null,null,null,"",{"$f":"IF(S186=\"\",\"\",T185+'Monte uma carteira de FIIs'!#REF!*12)","v":""},""]
[null,null,null,null,null,null,null,null,null,null,null,null,null,null,null,null,null,null,"",{"$f":"IF(S187=\"\",\"\",T186+'Monte uma carteira de FIIs'!#REF!*12)","v":""},""]
[null,null,null,null,null,null,null,null,null,null,null,null,null,null,null,null,null,null,"",{"$f":"IF(S188=\"\",\"\",T187+'Monte uma carteira de FIIs'!#REF!*12)","v":""},""]
[null,null,null,null,null,null,null,null,null,null,null,null,null,null,null,null,null,null,"",{"$f":"IF(S189=\"\",\"\",T188+'Monte uma carteira de FIIs'!#REF!*12)","v":""},""]
[null,null,null,null,null,null,null,null,null,null,null,null,null,null,null,null,null,null,"",{"$f":"IF(S190=\"\",\"\",T189+'Monte uma carteira de FIIs'!#REF!*12)","v":""},""]
[null,null,null,null,null,null,null,null,null,null,null,null,null,null,null,null,null,null,"",{"$f":"IF(S191=\"\",\"\",T190+'Monte uma carteira de FIIs'!#REF!*12)","v":""},""]
[null,null,null,null,null,null,null,null,null,null,null,null,null,null,null,null,null,null,"",{"$f":"IF(S192=\"\",\"\",T191+'Monte uma carteira de FIIs'!#REF!*12)","v":""},""]
[null,null,null,null,null,null,null,null,null,null,null,null,null,null,null,null,null,null,"",{"$f":"IF(S193=\"\",\"\",T192+'Monte uma carteira de FIIs'!#REF!*12)","v":""},""]
[null,null,null,null,null,null,null,null,null,null,null,null,null,null,null,null,null,null,"",{"$f":"IF(S194=\"\",\"\",T193+'Monte uma carteira de FIIs'!#REF!*12)","v":""},""]
[null,null,null,null,null,null,null,null,null,null,null,null,null,null,null,null,null,null,"",{"$f":"IF(S195=\"\",\"\",T194+'Monte uma carteira de FIIs'!#REF!*12)","v":""},""]
[null,null,null,null,null,null,null,null,null,null,null,null,null,null,null,null,null,null,"",{"$f":"IF(S196=\"\",\"\",T195+'Monte uma carteira de FIIs'!#REF!*12)","v":""},""]
[null,null,null,null,null,null,null,null,null,null,null,null,null,null,null,null,null,null,"",{"$f":"IF(S197=\"\",\"\",T196+'Monte uma carteira de FIIs'!#REF!*12)","v":""},""]
[null,null,null,null,null,null,null,null,null,null,null,null,null,null,null,null,null,null,"",{"$f":"IF(S198=\"\",\"\",T197+'Monte uma carteira de FIIs'!#REF!*12)","v":""},""]
[null,null,null,null,null,null,null,null,null,null,null,null,null,null,null,null,null,null,"",{"$f":"IF(S199=\"\",\"\",T198+'Monte uma carteira de FIIs'!#REF!*12)","v":""},""]
[null,null,null,null,null,null,null,null,null,null,null,null,null,null,null,null,null,null,"",{"$f":"IF(S200=\"\",\"\",T199+'Monte uma carteira de FIIs'!#REF!*12)","v":""},""]
[null,null,null,null,null,null,null,null,null,null,null,null,null,null,null,null,null,null,"",{"$f":"IF(S201=\"\",\"\",T200+'Monte uma carteira de FIIs'!#REF!*12)","v":""},""]
[null,null,null,null,null,null,null,null,null,null,null,null,null,null,null,null,null,null,"",{"$f":"IF(S202=\"\",\"\",T201+'Monte uma carteira de FIIs'!#REF!*12)","v":""},""]
[null,null,null,null,null,null,null,null,null,null,null,null,null,null,null,null,null,null,"",{"$f":"IF(S203=\"\",\"\",T202+'Monte uma carteira de FIIs'!#REF!*12)","v":""},""]
[null,null,null,null,null,null,null,null,null,null,null,null,null,null,null,null,null,null,"",{"$f":"IF(S204=\"\",\"\",T203+'Monte uma carteira de FIIs'!#REF!*12)","v":""},""]
[null,null,null,null,null,null,null,null,null,null,null,null,null,null,null,null,null,null,"",{"$f":"IF(S205=\"\",\"\",T204+'Monte uma carteira de FIIs'!#REF!*12)","v":""},""]
[null,null,null,null,null,null,null,null,null,null,null,null,null,null,null,null,null,null,"",{"$f":"IF(S206=\"\",\"\",T205+'Monte uma carteira de FIIs'!#REF!*12)","v":""},""]
[null,null,null,null,null,null,null,null,null,null,null,null,null,null,null,null,null,null,"",{"$f":"IF(S207=\"\",\"\",T206+'Monte uma carteira de FIIs'!#REF!*12)","v":""},""]
[null,null,null,null,null,null,null,null,null,null,null,null,null,null,null,null,null,null,"",{"$f":"IF(S208=\"\",\"\",T207+'Monte uma carteira de FIIs'!#REF!*12)","v":""},""]
[null,null,null,null,null,null,null,null,null,null,null,null,null,null,null,null,null,null,"",{"$f":"IF(S209=\"\",\"\",T208+'Monte uma carteira de FIIs'!#REF!*12)","v":""},""]
[null,null,null,null,null,null,null,null,null,null,null,null,null,null,null,null,null,null,"",{"$f":"IF(S210=\"\",\"\",T209+'Monte uma carteira de FIIs'!#REF!*12)","v":""},""]
[null,null,null,null,null,null,null,null,null,null,null,null,null,null,null,null,null,null,"",{"$f":"IF(S211=\"\",\"\",T210+'Monte uma carteira de FIIs'!#REF!*12)","v":""},""]
[null,null,null,null,null,null,null,null,null,null,null,null,null,null,null,null,null,null,"",{"$f":"IF(S212=\"\",\"\",T211+'Monte uma carteira de FIIs'!#REF!*12)","v":""},""]
[null,null,null,null,null,null,null,null,null,null,null,null,null,null,null,null,null,null,"",{"$f":"IF(S213=\"\",\"\",T212+'Monte uma carteira de FIIs'!#REF!*12)","v":""},""]
[null,null,null,null,null,null,null,null,null,null,null,null,null,null,null,null,null,null,"",{"$f":"IF(S214=\"\",\"\",T213+'Monte uma carteira de FIIs'!#REF!*12)","v":""},""]
[null,null,null,null,null,null,null,null,null,null,null,null,null,null,null,null,null,null,"",{"$f":"IF(S215=\"\",\"\",T214+'Monte uma carteira de FIIs'!#REF!*12)","v":""},""]
[null,null,null,null,null,null,null,null,null,null,null,null,null,null,null,null,null,null,"",{"$f":"IF(S216=\"\",\"\",T215+'Monte uma carteira de FIIs'!#REF!*12)","v":""},""]
[null,null,null,null,null,null,null,null,null,null,null,null,null,null,null,null,null,null,"",{"$f":"IF(S217=\"\",\"\",T216+'Monte uma carteira de FIIs'!#REF!*12)","v":""},""]
[null,null,null,null,null,null,null,null,null,null,null,null,null,null,null,null,null,null,"",{"$f":"IF(S218=\"\",\"\",T217+'Monte uma carteira de FIIs'!#REF!*12)","v":""},""]
[null,null,null,null,null,null,null,null,null,null,null,null,null,null,null,null,null,null,"",{"$f":"IF(S219=\"\",\"\",T218+'Monte uma carteira de FIIs'!#REF!*12)","v":""},""]
[null,null,null,null,null,null,null,null,null,null,null,null,null,null,null,null,null,null,"",{"$f":"IF(S220=\"\",\"\",T219+'Monte uma carteira de FIIs'!#REF!*12)","v":""},""]
[null,null,null,null,null,null,null,null,null,null,null,null,null,null,null,null,null,null,"",{"$f":"IF(S221=\"\",\"\",T220+'Monte uma carteira de FIIs'!#REF!*12)","v":""},""]
[null,null,null,null,null,null,null,null,null,null,null,null,null,null,null,null,null,null,"",{"$f":"IF(S222=\"\",\"\",T221+'Monte uma carteira de FIIs'!#REF!*12)","v":""},""]
[null,null,null,null,null,null,null,null,null,null,null,null,null,null,null,null,null,null,"",{"$f":"IF(S223=\"\",\"\",T222+'Monte uma carteira de FIIs'!#REF!*12)","v":""},""]
[null,null,null,null,null,null,null,null,null,null,null,null,null,null,null,null,null,null,"",{"$f":"IF(S224=\"\",\"\",T223+'Monte uma carteira de FIIs'!#REF!*12)","v":""},""]
[null,null,null,null,null,null,null,null,null,null,null,null,null,null,null,null,null,null,"",{"$f":"IF(S225=\"\",\"\",T224+'Monte uma carteira de FIIs'!#REF!*12)","v":""},""]
[null,null,null,null,null,null,null,null,null,null,null,null,null,null,null,null,null,null,"",{"$f":"IF(S226=\"\",\"\",T225+'Monte uma carteira de FIIs'!#REF!*12)","v":""},""]
[null,null,null,null,null,null,null,null,null,null,null,null,null,null,null,null,null,null,"",{"$f":"IF(S227=\"\",\"\",T226+'Monte uma carteira de FIIs'!#REF!*12)","v":""},""]
[null,null,null,null,null,null,null,null,null,null,null,null,null,null,null,null,null,null,"",{"$f":"IF(S228=\"\",\"\",T227+'Monte uma carteira de FIIs'!#REF!*12)","v":""},""]
[null,null,null,null,null,null,null,null,null,null,null,null,null,null,null,null,null,null,"",{"$f":"IF(S229=\"\",\"\",T228+'Monte uma carteira de FIIs'!#REF!*12)","v":""},""]
[null,null,null,null,null,null,null,null,null,null,null,null,null,null,null,null,null,null,"",{"$f":"IF(S230=\"\",\"\",T229+'Monte uma carteira de FIIs'!#REF!*12)","v":""},""]
[null,null,null,null,null,null,null,null,null,null,null,null,null,null,null,null,null,null,"",{"$f":"IF(S231=\"\",\"\",T230+'Monte uma carteira de FIIs'!#REF!*12)","v":""},""]
[null,null,null,null,null,null,null,null,null,null,null,null,null,null,null,null,null,null,"",{"$f":"IF(S232=\"\",\"\",T231+'Monte uma carteira de FIIs'!#REF!*12)","v":""},""]
[null,null,null,null,null,null,null,null,null,null,null,null,null,null,null,null,null,null,"",{"$f":"IF(S233=\"\",\"\",T232+'Monte uma carteira de FIIs'!#REF!*12)","v":""},""]
[null,null,null,null,null,null,null,null,null,null,null,null,null,null,null,null,null,null,"",{"$f":"IF(S234=\"\",\"\",T233+'Monte uma carteira de FIIs'!#REF!*12)","v":""},""]
[null,null,null,null,null,null,null,null,null,null,null,null,null,null,null,null,null,null,"",{"$f":"IF(S235=\"\",\"\",T234+'Monte uma carteira de FIIs'!#REF!*12)","v":""},""]
[null,null,null,null,null,null,null,null,null,null,null,null,null,null,null,null,null,null,"",{"$f":"IF(S236=\"\",\"\",T235+'Monte uma carteira de FIIs'!#REF!*12)","v":""},""]
[null,null,null,null,null,null,null,null,null,null,null,null,null,null,null,null,null,null,"",{"$f":"IF(S237=\"\",\"\",T236+'Monte uma carteira de FIIs'!#REF!*12)","v":""},""]
[null,null,null,null,null,null,null,null,null,null,null,null,null,null,null,null,null,null,"",{"$f":"IF(S238=\"\",\"\",T237+'Monte uma carteira de FIIs'!#REF!*12)","v":""},""]
[null,null,null,null,null,null,null,null,null,null,null,null,null,null,null,null,null,null,"",{"$f":"IF(S239=\"\",\"\",T238+'Monte uma carteira de FIIs'!#REF!*12)","v":""},""]
[null,null,null,null,null,null,null,null,null,null,null,null,null,null,null,null,null,null,"",{"$f":"IF(S240=\"\",\"\",T239+'Monte uma carteira de FIIs'!#REF!*12)","v":""},""]
[null,null,null,null,null,null,null,null,null,null,null,null,null,null,null,null,null,null,"",{"$f":"IF(S241=\"\",\"\",T240+'Monte uma carteira de FIIs'!#REF!*12)","v":""},""]
[null,null,null,null,null,null,null,null,null,null,null,null,null,null,null,null,null,null,{"$f":"IFERROR(IF(S241=$AB$6,\"\",S241+1),\"\")","v":""},{"$f":"IF(S242=\"\",\"\",T241+'Monte uma carteira de FIIs'!#REF!*12)","v":""},{"$f":"IFERROR(T242*$AB$3,\"\")","v":""}]
[null,null,null,null,null,null,null,null,null,null,null,null,null,null,null,null,null,null,"",{"$f":"IF(S243=\"\",\"\",T242+'Monte uma carteira de FIIs'!#REF!*12)","v":""},""]
[null,null,null,null,null,null,null,null,null,null,null,null,null,null,null,null,null,null,"",{"$f":"IF(S244=\"\",\"\",T243+'Monte uma carteira de FIIs'!#REF!*12)","v":""},""]
[null,null,null,null,null,null,null,null,null,null,null,null,null,null,null,null,null,null,"",{"$f":"IF(S245=\"\",\"\",T244+'Monte uma carteira de FIIs'!#REF!*12)","v":""},""]
[null,null,null,null,null,null,null,null,null,null,null,null,null,null,null,null,null,null,"",{"$f":"IF(S246=\"\",\"\",T245+'Monte uma carteira de FIIs'!#REF!*12)","v":""},""]
[null,null,null,null,null,null,null,null,null,null,null,null,null,null,null,null,null,null,"",{"$f":"IF(S247=\"\",\"\",T246+'Monte uma carteira de FIIs'!#REF!*12)","v":""},""]
[null,null,null,null,null,null,null,null,null,null,null,null,null,null,null,null,null,null,"",{"$f":"IF(S248=\"\",\"\",T247+'Monte uma carteira de FIIs'!#REF!*12)","v":""},""]
[null,null,null,null,null,null,null,null,null,null,null,null,null,null,null,null,null,null,"",{"$f":"IF(S249=\"\",\"\",T248+'Monte uma carteira de FIIs'!#REF!*12)","v":""},""]
[null,null,null,null,null,null,null,null,null,null,null,null,null,null,null,null,null,null,"",{"$f":"IF(S250=\"\",\"\",T249+'Monte uma carteira de FIIs'!#REF!*12)","v":""},""]
[null,null,null,null,null,null,null,null,null,null,null,null,null,null,null,null,null,null,"",{"$f":"IF(S251=\"\",\"\",T250+'Monte uma carteira de FIIs'!#REF!*12)","v":""},""]
[null,null,null,null,null,null,null,null,null,null,null,null,null,null,null,null,null,null,"",{"$f":"IF(S252=\"\",\"\",T251+'Monte uma carteira de FIIs'!#REF!*12)","v":""},""]
[null,null,null,null,null,null,null,null,null,null,null,null,null,null,null,null,null,null,"",{"$f":"IF(S253=\"\",\"\",T252+'Monte uma carteira de FIIs'!#REF!*12)","v":""},""]
[null,null,null,null,null,null,null,null,null,null,null,null,null,null,null,null,null,null,"",{"$f":"IF(S254=\"\",\"\",T253+'Monte uma carteira de FIIs'!#REF!*12)","v":""},""]
[null,null,null,null,null,null,null,null,null,null,null,null,null,null,null,null,null,null,"",{"$f":"IF(S255=\"\",\"\",T254+'Monte uma carteira de FIIs'!#REF!*12)","v":""},""]
[null,null,null,null,null,null,null,null,null,null,null,null,null,null,null,null,null,null,"",{"$f":"IF(S256=\"\",\"\",T255+'Monte uma carteira de FIIs'!#REF!*12)","v":""},""]
[null,null,null,null,null,null,null,null,null,null,null,null,null,null,null,null,null,null,"",{"$f":"IF(S257=\"\",\"\",T256+'Monte uma carteira de FIIs'!#REF!*12)","v":""},""]
[null,null,null,null,null,null,null,null,null,null,null,null,null,null,null,null,null,null,"",{"$f":"IF(S258=\"\",\"\",T257+'Monte uma carteira de FIIs'!#REF!*12)","v":""},""]
[null,null,null,null,null,null,null,null,null,null,null,null,null,null,null,null,null,null,"",{"$f":"IF(S259=\"\",\"\",T258+'Monte uma carteira de FIIs'!#REF!*12)","v":""},""]
[null,null,null,null,null,null,null,null,null,null,null,null,null,null,null,null,null,null,"",{"$f":"IF(S260=\"\",\"\",T259+'Monte uma carteira de FIIs'!#REF!*12)","v":""},""]
[null,null,null,null,null,null,null,null,null,null,null,null,null,null,null,null,null,null,"",{"$f":"IF(S261=\"\",\"\",T260+'Monte uma carteira de FIIs'!#REF!*12)","v":""},""]
[null,null,null,null,null,null,null,null,null,null,null,null,null,null,null,null,null,null,"",{"$f":"IF(S262=\"\",\"\",T261+'Monte uma carteira de FIIs'!#REF!*12)","v":""},""]
[null,null,null,null,null,null,null,null,null,null,null,null,null,null,null,null,null,null,"",{"$f":"IF(S263=\"\",\"\",T262+'Monte uma carteira de FIIs'!#REF!*12)","v":""},""]
[null,null,null,null,null,null,null,null,null,null,null,null,null,null,null,null,null,null,"",{"$f":"IF(S264=\"\",\"\",T263+'Monte uma carteira de FIIs'!#REF!*12)","v":""},""]
[null,null,null,null,null,null,null,null,null,null,null,null,null,null,null,null,null,null,"",{"$f":"IF(S265=\"\",\"\",T264+'Monte uma carteira de FIIs'!#REF!*12)","v":""},""]
[null,null,null,null,null,null,null,null,null,null,null,null,null,null,null,null,null,null,"",{"$f":"IF(S266=\"\",\"\",T265+'Monte uma carteira de FIIs'!#REF!*12)","v":""},""]
[null,null,null,null,null,null,null,null,null,null,null,null,null,null,null,null,null,null,"",{"$f":"IF(S267=\"\",\"\",T266+'Monte uma carteira de FIIs'!#REF!*12)","v":""},""]
[null,null,null,null,null,null,null,null,null,null,null,null,null,null,null,null,null,null,"",{"$f":"IF(S268=\"\",\"\",T267+'Monte uma carteira de FIIs'!#REF!*12)","v":""},""]
[null,null,null,null,null,null,null,null,null,null,null,null,null,null,null,null,null,null,"",{"$f":"IF(S269=\"\",\"\",T268+'Monte uma carteira de FIIs'!#REF!*12)","v":""},""]
[null,null,null,null,null,null,null,null,null,null,null,null,null,null,null,null,null,null,"",{"$f":"IF(S270=\"\",\"\",T269+'Monte uma carteira de FIIs'!#REF!*12)","v":""},""]
[null,null,null,null,null,null,null,null,null,null,null,null,null,null,null,null,null,null,"",{"$f":"IF(S271=\"\",\"\",T270+'Monte uma carteira de FIIs'!#REF!*12)","v":""},""]
[null,null,null,null,null,null,null,null,null,null,null,null,null,null,null,null,null,null,"",{"$f":"IF(S272=\"\",\"\",T271+'Monte uma carteira de FIIs'!#REF!*12)","v":""},""]
[null,null,null,null,null,null,null,null,null,null,null,null,null,null,null,null,null,null,"",{"$f":"IF(S273=\"\",\"\",T272+'Monte uma carteira de FIIs'!#REF!*12)","v":""},""]
[null,null,null,null,null,null,null,null,null,null,null,null,null,null,null,null,null,null,"",{"$f":"IF(S274=\"\",\"\",T273+'Monte uma carteira de FIIs'!#REF!*12)","v":""},""]
[null,null,null,null,null,null,null,null,null,null,null,null,null,null,null,null,null,null,"",{"$f":"IF(S275=\"\",\"\",T274+'Monte uma carteira de FIIs'!#REF!*12)","v":""},""]
[null,null,null,null,null,null,null,null,null,null,null,null,null,null,null,null,null,null,"",{"$f":"IF(S276=\"\",\"\",T275+'Monte uma carteira de FIIs'!#REF!*12)","v":""},""]
[null,null,null,null,null,null,null,null,null,null,null,null,null,null,null,null,null,null,"",{"$f":"IF(S277=\"\",\"\",T276+'Monte uma carteira de FIIs'!#REF!*12)","v":""},""]
[null,null,null,null,null,null,null,null,null,null,null,null,null,null,null,null,null,null,"",{"$f":"IF(S278=\"\",\"\",T277+'Monte uma carteira de FIIs'!#REF!*12)","v":""},""]
[null,null,null,null,null,null,null,null,null,null,null,null,null,null,null,null,null,null,"",{"$f":"IF(S279=\"\",\"\",T278+'Monte uma carteira de FIIs'!#REF!*12)","v":""},""]
[null,null,null,null,null,null,null,null,null,null,null,null,null,null,null,null,null,null,"",{"$f":"IF(S280=\"\",\"\",T279+'Monte uma carteira de FIIs'!#REF!*12)","v":""},""]
[null,null,null,null,null,null,null,null,null,null,null,null,null,null,null,null,null,null,"",{"$f":"IF(S281=\"\",\"\",T280+'Monte uma carteira de FIIs'!#REF!*12)","v":""},""]
[null,null,null,null,null,null,null,null,null,null,null,null,null,null,null,null,null,null,"",{"$f":"IF(S282=\"\",\"\",T281+'Monte uma carteira de FIIs'!#REF!*12)","v":""},""]
[null,null,null,null,null,null,null,null,null,null,null,null,null,null,null,null,null,null,"",{"$f":"IF(S283=\"\",\"\",T282+'Monte uma carteira de FIIs'!#REF!*12)","v":""},""]
[null,null,null,null,null,null,null,null,null,null,null,null,null,null,null,null,null,null,"",{"$f":"IF(S284=\"\",\"\",T283+'Monte uma carteira de FIIs'!#REF!*12)","v":""},""]
[null,null,null,null,null,null,null,null,null,null,null,null,null,null,null,null,null,null,"",{"$f":"IF(S285=\"\",\"\",T284+'Monte uma carteira de FIIs'!#REF!*12)","v":""},""]
[null,null,null,null,null,null,null,null,null,null,null,null,null,null,null,null,null,null,"",{"$f":"IF(S286=\"\",\"\",T285+'Monte uma carteira de FIIs'!#REF!*12)","v":""},""]
[null,null,null,null,null,null,null,null,null,null,null,null,null,null,null,null,null,null,"",{"$f":"IF(S287=\"\",\"\",T286+'Monte uma carteira de FIIs'!#REF!*12)","v":""},""]
[null,null,null,null,null,null,null,null,null,null,null,null,null,null,null,null,null,null,"",{"$f":"IF(S288=\"\",\"\",T287+'Monte uma carteira de FIIs'!#REF!*12)","v":""},""]
[null,null,null,null,null,null,null,null,null,null,null,null,null,null,null,null,null,null,"",{"$f":"IF(S289=\"\",\"\",T288+'Monte uma carteira de FIIs'!#REF!*12)","v":""},""]
[null,null,null,null,null,null,null,null,null,null,null,null,null,null,null,null,null,null,"",{"$f":"IF(S290=\"\",\"\",T289+'Monte uma carteira de FIIs'!#REF!*12)","v":""},""]
[null,null,null,null,null,null,null,null,null,null,null,null,null,null,null,null,null,null,"",{"$f":"IF(S291=\"\",\"\",T290+'Monte uma carteira de FIIs'!#REF!*12)","v":""},""]
[null,null,null,null,null,null,null,null,null,null,null,null,null,null,null,null,null,null,"",{"$f":"IF(S292=\"\",\"\",T291+'Monte uma carteira de FIIs'!#REF!*12)","v":""},""]
[null,null,null,null,null,null,null,null,null,null,null,null,null,null,null,null,null,null,"",{"$f":"IF(S293=\"\",\"\",T292+'Monte uma carteira de FIIs'!#REF!*12)","v":""},""]
[null,null,null,null,null,null,null,null,null,null,null,null,null,null,null,null,null,null,"",{"$f":"IF(S294=\"\",\"\",T293+'Monte uma carteira de FIIs'!#REF!*12)","v":""},""]
[null,null,null,null,null,null,null,null,null,null,null,null,null,null,null,null,null,null,"",{"$f":"IF(S295=\"\",\"\",T294+'Monte uma carteira de FIIs'!#REF!*12)","v":""},""]
[null,null,null,null,null,null,null,null,null,null,null,null,null,null,null,null,null,null,"",{"$f":"IF(S296=\"\",\"\",T295+'Monte uma carteira de FIIs'!#REF!*12)","v":""},""]
[null,null,null,null,null,null,null,null,null,null,null,null,null,null,null,null,null,null,"",{"$f":"IF(S297=\"\",\"\",T296+'Monte uma carteira de FIIs'!#REF!*12)","v":""},""]
[null,null,null,null,null,null,null,null,null,null,null,null,null,null,null,null,null,null,"",{"$f":"IF(S298=\"\",\"\",T297+'Monte uma carteira de FIIs'!#REF!*12)","v":""},""]
[null,null,null,null,null,null,null,null,null,null,null,null,null,null,null,null,null,null,"",{"$f":"IF(S299=\"\",\"\",T298+'Monte uma carteira de FIIs'!#REF!*12)","v":""},""]
[null,null,null,null,null,null,null,null,null,null,null,null,null,null,null,null,null,null,"",{"$f":"IF(S300=\"\",\"\",T299+'Monte uma carteira de FIIs'!#REF!*12)","v":""},""]
[null,null,null,null,null,null,null,null,null,null,null,null,null,null,null,null,null,null,"",{"$f":"IF(S301=\"\",\"\",T300+'Monte uma carteira de FIIs'!#REF!*12)","v":""},""]
[null,null,null,null,null,null,null,null,null,null,null,null,null,null,null,null,null,null,"",{"$f":"IF(S302=\"\",\"\",T301+'Monte uma carteira de FIIs'!#REF!*12)","v":""},""]
[null,null,null,null,null,null,null,null,null,null,null,null,null,null,null,null,null,null,"",{"$f":"IF(S303=\"\",\"\",T302+'Monte uma carteira de FIIs'!#REF!*12)","v":""},""]
[null,null,null,null,null,null,null,null,null,null,null,null,null,null,null,null,null,null,"",{"$f":"IF(S304=\"\",\"\",T303+'Monte uma carteira de FIIs'!#REF!*12)","v":""},""]
[null,null,null,null,null,null,null,null,null,null,null,null,null,null,null,null,null,null,"",{"$f":"IF(S305=\"\",\"\",T304+'Monte uma carteira de FIIs'!#REF!*12)","v":""},""]
[null,null,null,null,null,null,null,null,null,null,null,null,null,null,null,null,null,null,{"$f":"IFERROR(IF(S305=$AB$6,\"\",S305+1),\"\")","v":""},{"$f":"IF(S306=\"\",\"\",T305+'Monte uma carteira de FIIs'!#REF!*12)","v":""},{"$f":"IFERROR(T306*$AB$3,\"\")","v":""}]
[null,null,null,null,null,null,null,null,null,null,null,null,null,null,null,null,null,null,"",{"$f":"IF(S307=\"\",\"\",T306+'Monte uma carteira de FIIs'!#REF!*12)","v":""},""]
[null,null,null,null,null,null,null,null,null,null,null,null,null,null,null,null,null,null,"",{"$f":"IF(S308=\"\",\"\",T307+'Monte uma carteira de FIIs'!#REF!*12)","v":""},""]
[null,null,null,null,null,null,null,null,null,null,null,null,null,null,null,null,null,null,"",{"$f":"IF(S309=\"\",\"\",T308+'Monte uma carteira de FIIs'!#REF!*12)","v":""},""]
[null,null,null,null,null,null,null,null,null,null,null,null,null,null,null,null,null,null,"",{"$f":"IF(S310=\"\",\"\",T309+'Monte uma carteira de FIIs'!#REF!*12)","v":""},""]
[null,null,null,null,null,null,null,null,null,null,null,null,null,null,null,null,null,null,"",{"$f":"IF(S311=\"\",\"\",T310+'Monte uma carteira de FIIs'!#REF!*12)","v":""},""]
[null,null,null,null,null,null,null,null,null,null,null,null,null,null,null,null,null,null,"",{"$f":"IF(S312=\"\",\"\",T311+'Monte uma carteira de FIIs'!#REF!*12)","v":""},""]
[null,null,null,null,null,null,null,null,null,null,null,null,null,null,null,null,null,null,"",{"$f":"IF(S313=\"\",\"\",T312+'Monte uma carteira de FIIs'!#REF!*12)","v":""},""]
[null,null,null,null,null,null,null,null,null,null,null,null,null,null,null,null,null,null,"",{"$f":"IF(S314=\"\",\"\",T313+'Monte uma carteira de FIIs'!#REF!*12)","v":""},""]
[null,null,null,null,null,null,null,null,null,null,null,null,null,null,null,null,null,null,"",{"$f":"IF(S315=\"\",\"\",T314+'Monte uma carteira de FIIs'!#REF!*12)","v":""},""]
[null,null,null,null,null,null,null,null,null,null,null,null,null,null,null,null,null,null,"",{"$f":"IF(S316=\"\",\"\",T315+'Monte uma carteira de FIIs'!#REF!*12)","v":""},""]
[null,null,null,null,null,null,null,null,null,null,null,null,null,null,null,null,null,null,"",{"$f":"IF(S317=\"\",\"\",T316+'Monte uma carteira de FIIs'!#REF!*12)","v":""},""]
[null,null,null,null,null,null,null,null,null,null,null,null,null,null,null,null,null,null,"",{"$f":"IF(S318=\"\",\"\",T317+'Monte uma carteira de FIIs'!#REF!*12)","v":""},""]
[null,null,null,null,null,null,null,null,null,null,null,null,null,null,null,null,null,null,"",{"$f":"IF(S319=\"\",\"\",T318+'Monte uma carteira de FIIs'!#REF!*12)","v":""},""]
[null,null,null,null,null,null,null,null,null,null,null,null,null,null,null,null,null,null,"",{"$f":"IF(S320=\"\",\"\",T319+'Monte uma carteira de FIIs'!#REF!*12)","v":""},""]
[null,null,null,null,null,null,null,null,null,null,null,null,null,null,null,null,null,null,"",{"$f":"IF(S321=\"\",\"\",T320+'Monte uma carteira de FIIs'!#REF!*12)","v":""},""]
[null,null,null,null,null,null,null,null,null,null,null,null,null,null,null,null,null,null,"",{"$f":"IF(S322=\"\",\"\",T321+'Monte uma carteira de FIIs'!#REF!*12)","v":""},""]
[null,null,null,null,null,null,null,null,null,null,null,null,null,null,null,null,null,null,"",{"$f":"IF(S323=\"\",\"\",T322+'Monte uma carteira de FIIs'!#REF!*12)","v":""},""]
[null,null,null,null,null,null,null,null,null,null,null,null,null,null,null,null,null,null,"",{"$f":"IF(S324=\"\",\"\",T323+'Monte uma carteira de FIIs'!#REF!*12)","v":""},""]
[null,null,null,null,null,null,null,null,null,null,null,null,null,null,null,null,null,null,"",{"$f":"IF(S325=\"\",\"\",T324+'Monte uma carteira de FIIs'!#REF!*12)","v":""},""]
[null,null,null,null,null,null,null,null,null,null,null,null,null,null,null,null,null,null,"",{"$f":"IF(S326=\"\",\"\",T325+'Monte uma carteira de FIIs'!#REF!*12)","v":""},""]
[null,null,null,null,null,null,null,null,null,null,null,null,null,null,null,null,null,null,"",{"$f":"IF(S327=\"\",\"\",T326+'Monte uma carteira de FIIs'!#REF!*12)","v":""},""]
[null,null,null,null,null,null,null,null,null,null,null,null,null,null,null,null,null,null,"",{"$f":"IF(S328=\"\",\"\",T327+'Monte uma carteira de FIIs'!#REF!*12)","v":""},""]
[null,null,null,null,null,null,null,null,null,null,null,null,null,null,null,null,null,null,"",{"$f":"IF(S329=\"\",\"\",T328+'Monte uma carteira de FIIs'!#REF!*12)","v":""},""]
[null,null,null,null,null,null,null,null,null,null,null,null,null,null,null,null,null,null,"",{"$f":"IF(S330=\"\",\"\",T329+'Monte uma carteira de FIIs'!#REF!*12)","v":""},""]
[null,null,null,null,null,null,null,null,null,null,null,null,null,null,null,null,null,null,"",{"$f":"IF(S331=\"\",\"\",T330+'Monte uma carteira de FIIs'!#REF!*12)","v":""},""]
[null,null,null,null,null,null,null,null,null,null,null,null,null,null,null,null,null,null,"",{"$f":"IF(S332=\"\",\"\",T331+'Monte uma carteira de FIIs'!#REF!*12)","v":""},""]
[null,null,null,null,null,null,null,null,null,null,null,null,null,null,null,null,null,null,"",{"$f":"IF(S333=\"\",\"\",T332+'Monte uma carteira de FIIs'!#REF!*12)","v":""},""]
[null,null,null,null,null,null,null,null,null,null,null,null,null,null,null,null,null,null,"",{"$f":"IF(S334=\"\",\"\",T333+'Monte uma carteira de FIIs'!#REF!*12)","v":""},""]
[null,null,null,null,null,null,null,null,null,null,null,null,null,null,null,null,null,null,"",{"$f":"IF(S335=\"\",\"\",T334+'Monte uma carteira de FIIs'!#REF!*12)","v":""},""]
[null,null,null,null,null,null,null,null,null,null,null,null,null,null,null,null,null,null,"",{"$f":"IF(S336=\"\",\"\",T335+'Monte uma carteira de FIIs'!#REF!*12)","v":""},""]
[null,null,null,null,null,null,null,null,null,null,null,null,null,null,null,null,null,null,"",{"$f":"IF(S337=\"\",\"\",T336+'Monte uma carteira de FIIs'!#REF!*12)","v":""},""]
[null,null,null,null,null,null,null,null,null,null,null,null,null,null,null,null,null,null,"",{"$f":"IF(S338=\"\",\"\",T337+'Monte uma carteira de FIIs'!#REF!*12)","v":""},""]
[null,null,null,null,null,null,null,null,null,null,null,null,null,null,null,null,null,null,"",{"$f":"IF(S339=\"\",\"\",T338+'Monte uma carteira de FIIs'!#REF!*12)","v":""},""]
[null,null,null,null,null,null,null,null,null,null,null,null,null,null,null,null,null,null,"",{"$f":"IF(S340=\"\",\"\",T339+'Monte uma carteira de FIIs'!#REF!*12)","v":""},""]
[null,null,null,null,null,null,null,null,null,null,null,null,null,null,null,null,null,null,"",{"$f":"IF(S341=\"\",\"\",T340+'Monte uma carteira de FIIs'!#REF!*12)","v":""},""]
[null,null,null,null,null,null,null,null,null,null,null,null,null,null,null,null,null,null,"",{"$f":"IF(S342=\"\",\"\",T341+'Monte uma carteira de FIIs'!#REF!*12)","v":""},""]
[null,null,null,null,null,null,null,null,null,null,null,null,null,null,null,null,null,null,"",{"$f":"IF(S343=\"\",\"\",T342+'Monte uma carteira de FIIs'!#REF!*12)","v":""},""]
[null,null,null,null,null,null,null,null,null,null,null,null,null,null,null,null,null,null,"",{"$f":"IF(S344=\"\",\"\",T343+'Monte uma carteira de FIIs'!#REF!*12)","v":""},""]
[null,null,null,null,null,null,null,null,null,null,null,null,null,null,null,null,null,null,"",{"$f":"IF(S345=\"\",\"\",T344+'Monte uma carteira de FIIs'!#REF!*12)","v":""},""]
[null,null,null,null,null,null,null,null,null,null,null,null,null,null,null,null,null,null,"",{"$f":"IF(S346=\"\",\"\",T345+'Monte uma carteira de FIIs'!#REF!*12)","v":""},""]
[null,null,null,null,null,null,null,null,null,null,null,null,null,null,null,null,null,null,"",{"$f":"IF(S347=\"\",\"\",T346+'Monte uma carteira de FIIs'!#REF!*12)","v":""},""]
[null,null,null,null,null,null,null,null,null,null,null,null,null,null,null,null,null,null,"",{"$f":"IF(S348=\"\",\"\",T347+'Monte uma carteira de FIIs'!#REF!*12)","v":""},""]
[null,null,null,null,null,null,null,null,null,null,null,null,null,null,null,null,null,null,"",{"$f":"IF(S349=\"\",\"\",T348+'Monte uma carteira de FIIs'!#REF!*12)","v":""},""]
[null,null,null,null,null,null,null,null,null,null,null,null,null,null,null,null,null,null,"",{"$f":"IF(S350=\"\",\"\",T349+'Monte uma carteira de FIIs'!#REF!*12)","v":""},""]
[null,null,null,null,null,null,null,null,null,null,null,null,null,null,null,null,null,null,"",{"$f":"IF(S351=\"\",\"\",T350+'Monte uma carteira de FIIs'!#REF!*12)","v":""},""]
[null,null,null,null,null,null,null,null,null,null,null,null,null,null,null,null,null,null,"",{"$f":"IF(S352=\"\",\"\",T351+'Monte uma carteira de FIIs'!#REF!*12)","v":""},""]
[null,null,null,null,null,null,null,null,null,null,null,null,null,null,null,null,null,null,"",{"$f":"IF(S353=\"\",\"\",T352+'Monte uma carteira de FIIs'!#REF!*12)","v":""},""]
[null,null,null,null,null,null,null,null,null,null,null,null,null,null,null,null,null,null,"",{"$f":"IF(S354=\"\",\"\",T353+'Monte uma carteira de FIIs'!#REF!*12)","v":""},""]
[null,null,null,null,null,null,null,null,null,null,null,null,null,null,null,null,null,null,"",{"$f":"IF(S355=\"\",\"\",T354+'Monte uma carteira de FIIs'!#REF!*12)","v":""},""]
[null,null,null,null,null,null,null,null,null,null,null,null,null,null,null,null,null,null,"",{"$f":"IF(S356=\"\",\"\",T355+'Monte uma carteira de FIIs'!#REF!*12)","v":""},""]
[null,null,null,null,null,null,null,null,null,null,null,null,null,null,null,null,null,null,"",{"$f":"IF(S357=\"\",\"\",T356+'Monte uma carteira de FIIs'!#REF!*12)","v":""},""]
[null,null,null,null,null,null,null,null,null,null,null,null,null,null,null,null,null,null,"",{"$f":"IF(S358=\"\",\"\",T357+'Monte uma carteira de FIIs'!#REF!*12)","v":""},""]
[null,null,null,null,null,null,null,null,null,null,null,null,null,null,null,null,null,null,"",{"$f":"IF(S359=\"\",\"\",T358+'Monte uma carteira de FIIs'!#REF!*12)","v":""},""]
[null,null,null,null,null,null,null,null,null,null,null,null,null,null,null,null,null,null,"",{"$f":"IF(S360=\"\",\"\",T359+'Monte uma carteira de FIIs'!#REF!*12)","v":""},""]
[null,null,null,null,null,null,null,null,null,null,null,null,null,null,null,null,null,null,"",{"$f":"IF(S361=\"\",\"\",T360+'Monte uma carteira de FIIs'!#REF!*12)","v":""},""]
[null,null,null,null,null,null,null,null,null,null,null,null,null,null,null,null,null,null,"",{"$f":"IF(S362=\"\",\"\",T361+'Monte uma carteira de FIIs'!#REF!*12)","v":""},""]
[null,null,null,null,null,null,null,null,null,null,null,null,null,null,null,null,null,null,"",{"$f":"IF(S363=\"\",\"\",T362+'Monte uma carteira de FIIs'!#REF!*12)","v":""},""]
[null,null,null,null,null,null,null,null,null,null,null,null,null,null,null,null,null,null,"",{"$f":"IF(S364=\"\",\"\",T363+'Monte uma carteira de FIIs'!#REF!*12)","v":""},""]
[null,null,null,null,null,null,null,null,null,null,null,null,null,null,null,null,null,null,"",{"$f":"IF(S365=\"\",\"\",T364+'Monte uma carteira de FIIs'!#REF!*12)","v":""},""]
[null,null,null,null,null,null,null,null,null,null,null,null,null,null,null,null,null,null,"",{"$f":"IF(S366=\"\",\"\",T365+'Monte uma carteira de FIIs'!#REF!*12)","v":""},""]
[null,null,null,null,null,null,null,null,null,null,null,null,null,null,null,null,null,null,"",{"$f":"IF(S367=\"\",\"\",T366+'Monte uma carteira de FIIs'!#REF!*12)","v":""},""]
[null,null,null,null,null,null,null,null,null,null,null,null,null,null,null,null,null,null,"",{"$f":"IF(S368=\"\",\"\",T367+'Monte uma carteira de FIIs'!#REF!*12)","v":""},""]
[null,null,null,null,null,null,null,null,null,null,null,null,null,null,null,null,null,null,"",{"$f":"IF(S369=\"\",\"\",T368+'Monte uma carteira de FIIs'!#REF!*12)","v":""},""]
[null,null,null,null,null,null,null,null,null,null,null,null,null,null,null,null,null,null,{"$f":"IFERROR(IF(S369=$AB$6,\"\",S369+1),\"\")","v":""},{"$f":"IF(S370=\"\",\"\",T369+'Monte uma carteira de FIIs'!#REF!*12)","v":""},{"$f":"IFERROR(T370*$AB$3,\"\")","v":""}]
[null,null,null,null,null,null,null,null,null,null,null,null,null,null,null,null,null,null,"",{"$f":"IF(S371=\"\",\"\",T370+'Monte uma carteira de FIIs'!#REF!*12)","v":""},""]
[null,null,null,null,null,null,null,null,null,null,null,null,null,null,null,null,null,null,"",{"$f":"IF(S372=\"\",\"\",T371+'Monte uma carteira de FIIs'!#REF!*12)","v":""},""]
[null,null,null,null,null,null,null,null,null,null,null,null,null,null,null,null,null,null,"",{"$f":"IF(S373=\"\",\"\",T372+'Monte uma carteira de FIIs'!#REF!*12)","v":""},""]
[null,null,null,null,null,null,null,null,null,null,null,null,null,null,null,null,null,null,"",{"$f":"IF(S374=\"\",\"\",T373+'Monte uma carteira de FIIs'!#REF!*12)","v":""},""]
[null,null,null,null,null,null,null,null,null,null,null,null,null,null,null,null,null,null,"",{"$f":"IF(S375=\"\",\"\",T374+'Monte uma carteira de FIIs'!#REF!*12)","v":""},""]
[null,null,null,null,null,null,null,null,null,null,null,null,null,null,null,null,null,null,"",{"$f":"IF(S376=\"\",\"\",T375+'Monte uma carteira de FIIs'!#REF!*12)","v":""},""]
[null,null,null,null,null,null,null,null,null,null,null,null,null,null,null,null,null,null,"",{"$f":"IF(S377=\"\",\"\",T376+'Monte uma carteira de FIIs'!#REF!*12)","v":""},""]
[null,null,null,null,null,null,null,null,null,null,null,null,null,null,null,null,null,null,"",{"$f":"IF(S378=\"\",\"\",T377+'Monte uma carteira de FIIs'!#REF!*12)","v":""},""]
[null,null,null,null,null,null,null,null,null,null,null,null,null,null,null,null,null,null,"",{"$f":"IF(S379=\"\",\"\",T378+'Monte uma carteira de FIIs'!#REF!*12)","v":""},""]
[null,null,null,null,null,null,null,null,null,null,null,null,null,null,null,null,null,null,"",{"$f":"IF(S380=\"\",\"\",T379+'Monte uma carteira de FIIs'!#REF!*12)","v":""},""]
[null,null,null,null,null,null,null,null,null,null,null,null,null,null,null,null,null,null,"",{"$f":"IF(S381=\"\",\"\",T380+'Monte uma carteira de FIIs'!#REF!*12)","v":""},""]
[null,null,null,null,null,null,null,null,null,null,null,null,null,null,null,null,null,null,"",{"$f":"IF(S382=\"\",\"\",T381+'Monte uma carteira de FIIs'!#REF!*12)","v":""},""]
[null,null,null,null,null,null,null,null,null,null,null,null,null,null,null,null,null,null,"",{"$f":"IF(S383=\"\",\"\",T382+'Monte uma carteira de FIIs'!#REF!*12)","v":""},""]
[null,null,null,null,null,null,null,null,null,null,null,null,null,null,null,null,null,null,"",{"$f":"IF(S384=\"\",\"\",T383+'Monte uma carteira de FIIs'!#REF!*12)","v":""},""]
[null,null,null,null,null,null,null,null,null,null,null,null,null,null,null,null,null,null,"",{"$f":"IF(S385=\"\",\"\",T384+'Monte uma carteira de FIIs'!#REF!*12)","v":""},""]
[null,null,null,null,null,null,null,null,null,null,null,null,null,null,null,null,null,null,"",{"$f":"IF(S386=\"\",\"\",T385+'Monte uma carteira de FIIs'!#REF!*12)","v":""},""]
[null,null,null,null,null,null,null,null,null,null,null,null,null,null,null,null,null,null,"",{"$f":"IF(S387=\"\",\"\",T386+'Monte uma carteira de FIIs'!#REF!*12)","v":""},""]
[null,null,null,null,null,null,null,null,null,null,null,null,null,null,null,null,null,null,"",{"$f":"IF(S388=\"\",\"\",T387+'Monte uma carteira de FIIs'!#REF!*12)","v":""},""]
[null,null,null,null,null,null,null,null,null,null,null,null,null,null,null,null,null,null,"",{"$f":"IF(S389=\"\",\"\",T388+'Monte uma carteira de FIIs'!#REF!*12)","v":""},""]
[null,null,null,null,null,null,null,null,null,null,null,null,null,null,null,null,null,null,"",{"$f":"IF(S390=\"\",\"\",T389+'Monte uma carteira de FIIs'!#REF!*12)","v":""},""]
[null,null,null,null,null,null,null,null,null,null,null,null,null,null,null,null,null,null,"",{"$f":"IF(S391=\"\",\"\",T390+'Monte uma carteira de FIIs'!#REF!*12)","v":""},""]
[null,null,null,null,null,null,null,null,null,null,null,null,null,null,null,null,null,null,"",{"$f":"IF(S392=\"\",\"\",T391+'Monte uma carteira de FIIs'!#REF!*12)","v":""},""]
[null,null,null,null,null,null,null,null,null,null,null,null,null,null,null,null,null,null,"",{"$f":"IF(S393=\"\",\"\",T392+'Monte uma carteira de FIIs'!#REF!*12)","v":""},""]
[null,null,null,null,null,null,null,null,null,null,null,null,null,null,null,null,null,null,"",{"$f":"IF(S394=\"\",\"\",T393+'Monte uma carteira de FIIs'!#REF!*12)","v":""},""]
[null,null,null,null,null,null,null,null,null,null,null,null,null,null,null,null,null,null,"",{"$f":"IF(S395=\"\",\"\",T394+'Monte uma carteira de FIIs'!#REF!*12)","v":""},""]
[null,null,null,null,null,null,null,null,null,null,null,null,null,null,null,null,null,null,"",{"$f":"IF(S396=\"\",\"\",T395+'Monte uma carteira de FIIs'!#REF!*12)","v":""},""]
[null,null,null,null,null,null,null,null,null,null,null,null,null,null,null,null,null,null,"",{"$f":"IF(S397=\"\",\"\",T396+'Monte uma carteira de FIIs'!#REF!*12)","v":""},""]
[null,null,null,null,null,null,null,null,null,null,null,null,null,null,null,null,null,null,"",{"$f":"IF(S398=\"\",\"\",T397+'Monte uma carteira de FIIs'!#REF!*12)","v":""},""]
[null,null,null,null,null,null,null,null,null,null,null,null,null,null,null,null,null,null,"",{"$f":"IF(S399=\"\",\"\",T398+'Monte uma carteira de FIIs'!#REF!*12)","v":""},""]
[null,null,null,null,null,null,null,null,null,null,null,null,null,null,null,null,null,null,"",{"$f":"IF(S400=\"\",\"\",T399+'Monte uma carteira de FIIs'!#REF!*12)","v":""},""]
[null,null,null,null,null,null,null,null,null,null,null,null,null,null,null,null,null,null,"",{"$f":"IF(S401=\"\",\"\",T400+'Monte uma carteira de FIIs'!#REF!*12)","v":""},""]
[null,null,null,null,null,null,null,null,null,null,null,null,null,null,null,null,null,null,"",{"$f":"IF(S402=\"\",\"\",T401+'Monte uma carteira de FIIs'!#REF!*12)","v":""},""]
[null,null,null,null,null,null,null,null,null,null,null,null,null,null,null,null,null,null,"",{"$f":"IF(S403=\"\",\"\",T402+'Monte uma carteira de FIIs'!#REF!*12)","v":""},""]
[null,null,null,null,null,null,null,null,null,null,null,null,null,null,null,null,null,null,"",{"$f":"IF(S404=\"\",\"\",T403+'Monte uma carteira de FIIs'!#REF!*12)","v":""},""]
[null,null,null,null,null,null,null,null,null,null,null,null,null,null,null,null,null,null,"",{"$f":"IF(S405=\"\",\"\",T404+'Monte uma carteira de FIIs'!#REF!*12)","v":""},""]
[null,null,null,null,null,null,null,null,null,null,null,null,null,null,null,null,null,null,"",{"$f":"IF(S406=\"\",\"\",T405+'Monte uma carteira de FIIs'!#REF!*12)","v":""},""]
[null,null,null,null,null,null,null,null,null,null,null,null,null,null,null,null,null,null,"",{"$f":"IF(S407=\"\",\"\",T406+'Monte uma carteira de FIIs'!#REF!*12)","v":""},""]
[null,null,null,null,null,null,null,null,null,null,null,null,null,null,null,null,null,null,"",{"$f":"IF(S408=\"\",\"\",T407+'Monte uma carteira de FIIs'!#REF!*12)","v":""},""]
[null,null,null,null,null,null,null,null,null,null,null,null,null,null,null,null,null,null,"",{"$f":"IF(S409=\"\",\"\",T408+'Monte uma carteira de FIIs'!#REF!*12)","v":""},""]
[null,null,null,null,null,null,null,null,null,null,null,null,null,null,null,null,null,null,"",{"$f":"IF(S410=\"\",\"\",T409+'Monte uma carteira de FIIs'!#REF!*12)","v":""},""]
[null,null,null,null,null,null,null,null,null,null,null,null,null,null,null,null,null,null,"",{"$f":"IF(S411=\"\",\"\",T410+'Monte uma carteira de FIIs'!#REF!*12)","v":""},""]
[null,null,null,null,null,null,null,null,null,null,null,null,null,null,null,null,null,null,"",{"$f":"IF(S412=\"\",\"\",T411+'Monte uma carteira de FIIs'!#REF!*12)","v":""},""]
[null,null,null,null,null,null,null,null,null,null,null,null,null,null,null,null,null,null,"",{"$f":"IF(S413=\"\",\"\",T412+'Monte uma carteira de FIIs'!#REF!*12)","v":""},""]
[null,null,null,null,null,null,null,null,null,null,null,null,null,null,null,null,null,null,"",{"$f":"IF(S414=\"\",\"\",T413+'Monte uma carteira de FIIs'!#REF!*12)","v":""},""]
[null,null,null,null,null,null,null,null,null,null,null,null,null,null,null,null,null,null,"",{"$f":"IF(S415=\"\",\"\",T414+'Monte uma carteira de FIIs'!#REF!*12)","v":""},""]
[null,null,null,null,null,null,null,null,null,null,null,null,null,null,null,null,null,null,"",{"$f":"IF(S416=\"\",\"\",T415+'Monte uma carteira de FIIs'!#REF!*12)","v":""},""]
[null,null,null,null,null,null,null,null,null,null,null,null,null,null,null,null,null,null,"",{"$f":"IF(S417=\"\",\"\",T416+'Monte uma carteira de FIIs'!#REF!*12)","v":""},""]
[null,null,null,null,null,null,null,null,null,null,null,null,null,null,null,null,null,null,"",{"$f":"IF(S418=\"\",\"\",T417+'Monte uma carteira de FIIs'!#REF!*12)","v":""},""]
[null,null,null,null,null,null,null,null,null,null,null,null,null,null,null,null,null,null,"",{"$f":"IF(S419=\"\",\"\",T418+'Monte uma carteira de FIIs'!#REF!*12)","v":""},""]
[null,null,null,null,null,null,null,null,null,null,null,null,null,null,null,null,null,null,"",{"$f":"IF(S420=\"\",\"\",T419+'Monte uma carteira de FIIs'!#REF!*12)","v":""},""]
[null,null,null,null,null,null,null,null,null,null,null,null,null,null,null,null,null,null,"",{"$f":"IF(S421=\"\",\"\",T420+'Monte uma carteira de FIIs'!#REF!*12)","v":""},""]
[null,null,null,null,null,null,null,null,null,null,null,null,null,null,null,null,null,null,"",{"$f":"IF(S422=\"\",\"\",T421+'Monte uma carteira de FIIs'!#REF!*12)","v":""},""]
[null,null,null,null,null,null,null,null,null,null,null,null,null,null,null,null,null,null,"",{"$f":"IF(S423=\"\",\"\",T422+'Monte uma carteira de FIIs'!#REF!*12)","v":""},""]
[null,null,null,null,null,null,null,null,null,null,null,null,null,null,null,null,null,null,"",{"$f":"IF(S424=\"\",\"\",T423+'Monte uma carteira de FIIs'!#REF!*12)","v":""},""]
[null,null,null,null,null,null,null,null,null,null,null,null,null,null,null,null,null,null,"",{"$f":"IF(S425=\"\",\"\",T424+'Monte uma carteira de FIIs'!#REF!*12)","v":""},""]
[null,null,null,null,null,null,null,null,null,null,null,null,null,null,null,null,null,null,"",{"$f":"IF(S426=\"\",\"\",T425+'Monte uma carteira de FIIs'!#REF!*12)","v":""},""]
[null,null,null,null,null,null,null,null,null,null,null,null,null,null,null,null,null,null,"",{"$f":"IF(S427=\"\",\"\",T426+'Monte uma carteira de FIIs'!#REF!*12)","v":""},""]
[null,null,null,null,null,null,null,null,null,null,null,null,null,null,null,null,null,null,"",{"$f":"IF(S428=\"\",\"\",T427+'Monte uma carteira de FIIs'!#REF!*12)","v":""},""]
[null,null,null,null,null,null,null,null,null,null,null,null,null,null,null,null,null,null,"",{"$f":"IF(S429=\"\",\"\",T428+'Monte uma carteira de FIIs'!#REF!*12)","v":""},""]
[null,null,null,null,null,null,null,null,null,null,null,null,null,null,null,null,null,null,"",{"$f":"IF(S430=\"\",\"\",T429+'Monte uma carteira de FIIs'!#REF!*12)","v":""},""]
[null,null,null,null,null,null,null,null,null,null,null,null,null,null,null,null,null,null,"",{"$f":"IF(S431=\"\",\"\",T430+'Monte uma carteira de FIIs'!#REF!*12)","v":""},""]
[null,null,null,null,null,null,null,null,null,null,null,null,null,null,null,null,null,null,"",{"$f":"IF(S432=\"\",\"\",T431+'Monte uma carteira de FIIs'!#REF!*12)","v":""},""]
[null,null,null,null,null,null,null,null,null,null,null,null,null,null,null,null,null,null,"",{"$f":"IF(S433=\"\",\"\",T432+'Monte uma carteira de FIIs'!#REF!*12)","v":""},""]
[null,null,null,null,null,null,null,null,null,null,null,null,null,null,null,null,null,null,{"$f":"IFERROR(IF(S433=$AB$6,\"\",S433+1),\"\")","v":""},{"$f":"IF(S434=\"\",\"\",T433+'Monte uma carteira de FIIs'!#REF!*12)","v":""},{"$f":"IFERROR(T434*$AB$3,\"\")","v":""}]
[null,null,null,null,null,null,null,null,null,null,null,null,null,null,null,null,null,null,"",{"$f":"IF(S435=\"\",\"\",T434+'Monte uma carteira de FIIs'!#REF!*12)","v":""},""]
[null,null,null,null,null,null,null,null,null,null,null,null,null,null,null,null,null,null,"",{"$f":"IF(S436=\"\",\"\",T435+'Monte uma carteira de FIIs'!#REF!*12)","v":""},""]
[null,null,null,null,null,null,null,null,null,null,null,null,null,null,null,null,null,null,"",{"$f":"IF(S437=\"\",\"\",T436+'Monte uma carteira de FIIs'!#REF!*12)","v":""},""]
[null,null,null,null,null,null,null,null,null,null,null,null,null,null,null,null,null,null,"",{"$f":"IF(S438=\"\",\"\",T437+'Monte uma carteira de FIIs'!#REF!*12)","v":""},""]
[null,null,null,null,null,null,null,null,null,null,null,null,null,null,null,null,null,null,"",{"$f":"IF(S439=\"\",\"\",T438+'Monte uma carteira de FIIs'!#REF!*12)","v":""},""]
[null,null,null,null,null,null,null,null,null,null,null,null,null,null,null,null,null,null,"",{"$f":"IF(S440=\"\",\"\",T439+'Monte uma carteira de FIIs'!#REF!*12)","v":""},""]
[null,null,null,null,null,null,null,null,null,null,null,null,null,null,null,null,null,null,"",{"$f":"IF(S441=\"\",\"\",T440+'Monte uma carteira de FIIs'!#REF!*12)","v":""},""]
[null,null,null,null,null,null,null,null,null,null,null,null,null,null,null,null,null,null,"",{"$f":"IF(S442=\"\",\"\",T441+'Monte uma carteira de FIIs'!#REF!*12)","v":""},""]
[null,null,null,null,null,null,null,null,null,null,null,null,null,null,null,null,null,null,"",{"$f":"IF(S443=\"\",\"\",T442+'Monte uma carteira de FIIs'!#REF!*12)","v":""},""]
[null,null,null,null,null,null,null,null,null,null,null,null,null,null,null,null,null,null,"",{"$f":"IF(S444=\"\",\"\",T443+'Monte uma carteira de FIIs'!#REF!*12)","v":""},""]
[null,null,null,null,null,null,null,null,null,null,null,null,null,null,null,null,null,null,"",{"$f":"IF(S445=\"\",\"\",T444+'Monte uma carteira de FIIs'!#REF!*12)","v":""},""]
[null,null,null,null,null,null,null,null,null,null,null,null,null,null,null,null,null,null,"",{"$f":"IF(S446=\"\",\"\",T445+'Monte uma carteira de FIIs'!#REF!*12)","v":""},""]
[null,null,null,null,null,null,null,null,null,null,null,null,null,null,null,null,null,null,"",{"$f":"IF(S447=\"\",\"\",T446+'Monte uma carteira de FIIs'!#REF!*12)","v":""},""]
[null,null,null,null,null,null,null,null,null,null,null,null,null,null,null,null,null,null,"",{"$f":"IF(S448=\"\",\"\",T447+'Monte uma carteira de FIIs'!#REF!*12)","v":""},""]
[null,null,null,null,null,null,null,null,null,null,null,null,null,null,null,null,null,null,"",{"$f":"IF(S449=\"\",\"\",T448+'Monte uma carteira de FIIs'!#REF!*12)","v":""},""]
[null,null,null,null,null,null,null,null,null,null,null,null,null,null,null,null,null,null,"",{"$f":"IF(S450=\"\",\"\",T449+'Monte uma carteira de FIIs'!#REF!*12)","v":""},""]
[null,null,null,null,null,null,null,null,null,null,null,null,null,null,null,null,null,null,"",{"$f":"IF(S451=\"\",\"\",T450+'Monte uma carteira de FIIs'!#REF!*12)","v":""},""]
[null,null,null,null,null,null,null,null,null,null,null,null,null,null,null,null,null,null,"",{"$f":"IF(S452=\"\",\"\",T451+'Monte uma carteira de FIIs'!#REF!*12)","v":""},""]
[null,null,null,null,null,null,null,null,null,null,null,null,null,null,null,null,null,null,"",{"$f":"IF(S453=\"\",\"\",T452+'Monte uma carteira de FIIs'!#REF!*12)","v":""},""]
[null,null,null,null,null,null,null,null,null,null,null,null,null,null,null,null,null,null,"",{"$f":"IF(S454=\"\",\"\",T453+'Monte uma carteira de FIIs'!#REF!*12)","v":""},""]
[null,null,null,null,null,null,null,null,null,null,null,null,null,null,null,null,null,null,"",{"$f":"IF(S455=\"\",\"\",T454+'Monte uma carteira de FIIs'!#REF!*12)","v":""},""]
[null,null,null,null,null,null,null,null,null,null,null,null,null,null,null,null,null,null,"",{"$f":"IF(S456=\"\",\"\",T455+'Monte uma carteira de FIIs'!#REF!*12)","v":""},""]
[null,null,null,null,null,null,null,null,null,null,null,null,null,null,null,null,null,null,"",{"$f":"IF(S457=\"\",\"\",T456+'Monte uma carteira de FIIs'!#REF!*12)","v":""},""]
[null,null,null,null,null,null,null,null,null,null,null,null,null,null,null,null,null,null,"",{"$f":"IF(S458=\"\",\"\",T457+'Monte uma carteira de FIIs'!#REF!*12)","v":""},""]
[null,null,null,null,null,null,null,null,null,null,null,null,null,null,null,null,null,null,"",{"$f":"IF(S459=\"\",\"\",T458+'Monte uma carteira de FIIs'!#REF!*12)","v":""},""]
[null,null,null,null,null,null,null,null,null,null,null,null,null,null,null,null,null,null,"",{"$f":"IF(S460=\"\",\"\",T459+'Monte uma carteira de FIIs'!#REF!*12)","v":""},""]
[null,null,null,null,null,null,null,null,null,null,null,null,null,null,null,null,null,null,"",{"$f":"IF(S461=\"\",\"\",T460+'Monte uma carteira de FIIs'!#REF!*12)","v":""},""]
[null,null,null,null,null,null,null,null,null,null,null,null,null,null,null,null,null,null,"",{"$f":"IF(S462=\"\",\"\",T461+'Monte uma carteira de FIIs'!#REF!*12)","v":""},""]
[null,null,null,null,null,null,null,null,null,null,null,null,null,null,null,null,null,null,"",{"$f":"IF(S463=\"\",\"\",T462+'Monte uma carteira de FIIs'!#REF!*12)","v":""},""]
[null,null,null,null,null,null,null,null,null,null,null,null,null,null,null,null,null,null,"",{"$f":"IF(S464=\"\",\"\",T463+'Monte uma carteira de FIIs'!#REF!*12)","v":""},""]
[null,null,null,null,null,null,null,null,null,null,null,null,null,null,null,null,null,null,"",{"$f":"IF(S465=\"\",\"\",T464+'Monte uma carteira de FIIs'!#REF!*12)","v":""},""]
[null,null,null,null,null,null,null,null,null,null,null,null,null,null,null,null,null,null,"",{"$f":"IF(S466=\"\",\"\",T465+'Monte uma carteira de FIIs'!#REF!*12)","v":""},""]
[null,null,null,null,null,null,null,null,null,null,null,null,null,null,null,null,null,null,"",{"$f":"IF(S467=\"\",\"\",T466+'Monte uma carteira de FIIs'!#REF!*12)","v":""},""]
[null,null,null,null,null,null,null,null,null,null,null,null,null,null,null,null,null,null,"",{"$f":"IF(S468=\"\",\"\",T467+'Monte uma carteira de FIIs'!#REF!*12)","v":""},""]
[null,null,null,null,null,null,null,null,null,null,null,null,null,null,null,null,null,null,"",{"$f":"IF(S469=\"\",\"\",T468+'Monte uma carteira de FIIs'!#REF!*12)","v":""},""]
[null,null,null,null,null,null,null,null,null,null,null,null,null,null,null,null,null,null,"",{"$f":"IF(S470=\"\",\"\",T469+'Monte uma carteira de FIIs'!#REF!*12)","v":""},""]
[null,null,null,null,null,null,null,null,null,null,null,null,null,null,null,null,null,null,"",{"$f":"IF(S471=\"\",\"\",T470+'Monte uma carteira de FIIs'!#REF!*12)","v":""},""]
[null,null,null,null,null,null,null,null,null,null,null,null,null,null,null,null,null,null,"",{"$f":"IF(S472=\"\",\"\",T471+'Monte uma carteira de FIIs'!#REF!*12)","v":""},""]
[null,null,null,null,null,null,null,null,null,null,null,null,null,null,null,null,null,null,"",{"$f":"IF(S473=\"\",\"\",T472+'Monte uma carteira de FIIs'!#REF!*12)","v":""},""]
[null,null,null,null,null,null,null,null,null,null,null,null,null,null,null,null,null,null,"",{"$f":"IF(S474=\"\",\"\",T473+'Monte uma carteira de FIIs'!#REF!*12)","v":""},""]
[null,null,null,null,null,null,null,null,null,null,null,null,null,null,null,null,null,null,"",{"$f":"IF(S475=\"\",\"\",T474+'Monte uma carteira de FIIs'!#REF!*12)","v":""},""]
[null,null,null,null,null,null,null,null,null,null,null,null,null,null,null,null,null,null,"",{"$f":"IF(S476=\"\",\"\",T475+'Monte uma carteira de FIIs'!#REF!*12)","v":""},""]
[null,null,null,null,null,null,null,null,null,null,null,null,null,null,null,null,null,null,"",{"$f":"IF(S477=\"\",\"\",T476+'Monte uma carteira de FIIs'!#REF!*12)","v":""},""]
[null,null,null,null,null,null,null,null,null,null,null,null,null,null,null,null,null,null,"",{"$f":"IF(S478=\"\",\"\",T477+'Monte uma carteira de FIIs'!#REF!*12)","v":""},""]
[null,null,null,null,null,null,null,null,null,null,null,null,null,null,null,null,null,null,"",{"$f":"IF(S479=\"\",\"\",T478+'Monte uma carteira de FIIs'!#REF!*12)","v":""},""]
[null,null,null,null,null,null,null,null,null,null,null,null,null,null,null,null,null,null,"",{"$f":"IF(S480=\"\",\"\",T479+'Monte uma carteira de FIIs'!#REF!*12)","v":""},""]
[null,null,null,null,null,null,null,null,null,null,null,null,null,null,null,null,null,null,"",{"$f":"IF(S481=\"\",\"\",T480+'Monte uma carteira de FIIs'!#REF!*12)","v":""},""]
[null,null,null,null,null,null,null,null,null,null,null,null,null,null,null,null,null,null,{"$f":"IFERROR(IF(#REF!=$AB$6,\"\",#REF!+1),\"\")","v":""}]

{"sheet":"Sheet1","index":6,"n_rows":99,"n_cols":7,"rows_kept":99,"cut":false,"hidden":true,"merged":[[0,2,0,6],[1,2,1,6]]}
["Nome","Ticker","Dividend Yield (Cotação Final)"]
["","","diária"]
["","","30/06/2016 até 30/06/2017","30/06/2017 até 30/06/2018","30/06/2018 até 30/06/2019","30/06/2019 até 30/06/2020","30/06/2020 até 30/06/2021"]
["ALIANZA TRUST RENDA IMOBILIÁRIA FII - ALZR11","ALZR11","","",7.5101816949999997E-2,4.7416945180000003E-2,5.3170138409999998E-2]
["BANESTES RECEBÍVEIS IMOBILIÁRIOS FII - BCRI11","BCRI11",0.1100588086,7.889432767E-2,8.3416887450000005E-2,8.4095322589999993E-2,0.10977539629999999]
["BARIGUI RENDIMENTOS IMOBILIÁRIOS I FII - BARI11","BARI11","","","","",0.1357894737]
["BB PROGRESSIVO FII - BBFI11B","BBFI11B",0.1015258123,0.13324499710000001,9.9584406530000003E-2,0.11382720759999999,0.1197869924]
["BB PROGRESSIVO II FII - BBPO11","BBPO11",8.5845440689999997E-2,9.5922262580000001E-2,8.3633841099999995E-2,7.7004052439999998E-2,0.1124062566]
["BRADESCO CARTEIRA IMOBILIÁRIA ATIVA FII - BCIA11","BCIA11",9.4003737680000005E-2,7.7767441859999994E-2,7.2699207340000002E-2,7.9078292750000001E-2,8.3371514709999997E-2]
["BRASIL PLURAL ABSOLUTO FUNDO DE FUNDOS FII - BPFF11","BPFF11",8.8529886909999994E-2,9.0593505039999994E-2,7.9376776499999996E-2,9.2505506409999994E-2,8.4699095320000001E-2]
["BRAZIL REALTY FII - BZLI11","BZLI11","","",0,0,0]
["BRESCO LOGÍSTICA FII - BRCO11","BRCO11","","","","",6.5342302389999996E-2]
["BTG PACTUAL CORPORATE OFFICE FUND FII - BRCR11","BRCR11",9.1415985620000001E-2,5.2367902860000003E-2,0.1634588136,6.2969032189999996E-2,6.9408448979999995E-2]
["BTG PACTUAL CRÉDITO IMOBILIÁRIO FII - BTCR11","BTCR11","","","",7.2415212650000005E-2,6.7266646420000006E-2]
["BTG PACTUAL FUNDO DE FUNDOS FII - BCFF11","BCFF11",9.2976246360000001E-2,7.7937553490000006E-2,7.0925159409999994E-2,6.5281958400000006E-2,7.6492340680000007E-2]
["BTG PACTUAL LOGÍSTICA FII - BTLG11","BTLG11",8.2497809970000002E-2,5.8858877490000003E-2,4.1394588920000003E-2,5.3198255620000003E-2,6.4880085470000001E-2]
["CAPITÂNIA REIT FOF FII - CPFF11","CPFF11","","","","",8.6277831560000004E-2]
["CAPITÂNIA SECURITIES II FII - CPTS11","CPTS11",0.1293393783,9.1137207669999998E-2,8.8886776309999999E-2,7.5921868919999996E-2,0.1077050088]
["CONTINENTAL SQUARE FARIA LIMA FII - FLMA11","FLMA11",6.8447488579999993E-2,6.0652173910000003E-2,4.5467032970000001E-2,4.6846846849999998E-2,3.5760916869999999E-2]
["CSHG IMOBILIÁRIO FOF FII - HGFF11","HGFF11","","","","",8.4867812619999997E-2]
["CSHG LOGÍSTICA FII - HGLG11","HGLG11",8.3855421690000001E-2,8.2169616469999998E-2,5.8435390179999998E-2,4.8804885749999999E-2,6.6432263899999996E-2]
["CSHG PRIME OFFICES FII - HGPO11","HGPO11",6.8603773579999999E-2,0.06,4.9210526320000003E-2,5.0825242719999997E-2,5.3821435030000003E-2]
["CSHG REAL ESTATE FII - HGRE11","HGRE11",8.2547169810000001E-2,8.7582781459999995E-2,5.570093458E-2,5.7993143259999998E-2,6.1359045680000002E-2]
["CSHG RECEBÍVEIS IMOBILIÁRIOS FII - HGCR11","HGCR11",0.10707648190000001,8.3413052969999998E-2,7.6621349859999993E-2,7.1085328880000007E-2,6.8575965399999994E-2]
["CSHG RENDA URBANA FII - HGRU11","HGRU11","","","",6.2347695080000001E-2,6.9907720209999996E-2]
["DEVANT RECEBÍVEIS IMOBILIÁRIOS FII - DEVA11","DEVA11","","","","",1]
["FATOR VERITA FII - VRTA11","VRTA11",0.12494894970000001,8.2958801499999998E-2,8.0113100849999994E-2,8.0164066630000003E-2,8.8412408760000005E-2]
["GENERAL SHOPPING ATIVO E RENDA FII - FIGS11","FIGS11",0.12903225809999999,0.14492753620000001,0.13305738719999999,5.4476635660000002E-2,3.292247811E-2]
["GGR COVEPI RENDA FII - GGRC11","GGRC11","",7.3765870119999993E-2,6.9175368220000005E-2,6.3713547430000003E-2,7.1902762199999998E-2]
["GRAND PLAZA SHOPPING FII - ABCP11","ABCP11",5.6060606059999997E-2,6.9236111109999998E-2,5.0233966419999998E-2,5.3013962990000003E-2,4.7046902139999999E-2]
["GREEN TOWERS FII - GTWR11","GTWR11","","","",6.7937931610000002E-2,8.1164761899999993E-2]
["HABITAT RECEBÍVEIS PULVERIZADOS FII - HABT11","HABT11","","","","",0.12640449440000001]
["HECTARE CE FII - HCTR11","HCTR11","","","","",0.16138536279999999]
["HEDGE BRASIL SHOPPING FII - HGBS11","HGBS11",7.4653098979999999E-2,6.9178082190000004E-2,6.0287028649999998E-2,6.8839499989999997E-2,2.7619094930000001E-2]
["HEDGE TOP FOFII 3 FII - HFOF11","HFOF11","","",8.550605251E-2,8.3367677210000005E-2,7.6613415399999996E-2]
["HOTEL MAXINVEST FII - HTMX11","HTMX11",5.4271705650000002E-2,6.1339619839999998E-2,5.5681057970000003E-2,4.9512338509999997E-2,0]
["HSI LOGÍSTICA FII - HSLG11","HSLG11","","","","",""]
["HSI MALLS FII - HSML11","HSML11","","","","",4.5525727070000001E-2]
["INDUSTRIAL DO BRASIL FII - FIIB11","FIIB11",8.3331788209999993E-2,7.3711208E-2,6.8207343409999996E-2,6.1422764230000003E-2,6.6080209129999998E-2]
["IRIDIUM RECEBÍVEIS FII - IRDM11","IRDM11","","",8.1966834299999999E-2,8.0764493739999998E-2,0.1053493747]
["JS REAL ESTATE MULTIGESTÃO FII - JSRE11","JSRE11",0.1033386328,7.4476414170000005E-2,5.9915687510000003E-2,5.9600912989999998E-2,7.0167597770000006E-2]
["KINEA FUNDO DE FUNDOS IMOBILIÁRIOS FII - KFOF11","KFOF11","","","",5.7078651690000003E-2,7.4947710900000006E-2]
["KINEA HIGH YIELD CRI FII - KNHY11","KNHY11","","","",7.1272727270000003E-2,0.10107526880000001]
["KINEA ÍNDICES DE PREÇOS FII - KNIP11","KNIP11","",7.3779689549999999E-2,7.2427983540000004E-2,7.200361827E-2,0.1067852129]
["KINEA RENDA IMOBILIÁRIA FII - KNRI11","KNRI11",7.394507703E-2,7.3829742439999999E-2,6.0818258450000003E-2,5.0964839589999998E-2,5.7715893509999998E-2]
["KINEA RENDIMENTOS IMOBILIÁRIOS FII - KNCR11","KNCR11",0.11834264429999999,7.2056074770000006E-2,6.7332382309999994E-2,6.2337662340000002E-2,4.011111111E-2]
["KINEA SECURITIES FII - KNSC11","KNSC11","","","","",""]
["MALLS BRASIL PLURAL FII - MALL11","MALL11","","",7.3080660840000006E-2,6.2097864859999997E-2,5.387840671E-2]
["MAUÁ CAPITAL RECEBÍVEIS IMOBILIÁRIOS FII - MCCI11","MCCI11","","","","",7.7247832239999994E-2]
["MAXI RENDA FII - MXRF11","MXRF11",0.1058116232,7.8350515460000006E-2,7.237988024E-2,8.8090194580000003E-2,8.4061344639999994E-2]
["MÉRITO DESENVOLVIMENTO IMOBILIÁRIO I FII - MFII11","MFII11",0.1169249537,0.1202251203,8.2706543150000006E-2,9.9760383389999999E-2,0.1073400275]
["MOGNO FOF FII - MGFF11","MGFF11","","",7.4304068289999997E-2,8.1381722399999995E-2,8.6783845179999999E-2]
["OURINVEST JPP FII - OUJP11","OUJP11","",9.5500928989999997E-2,8.8948330719999996E-2,7.1922517150000004E-2,7.8948596339999996E-2]
["OURINVEST LOGÍSTICA FII - OULG11","OULG11","","","",8.5396317530000002E-2,9.9879210809999994E-2]
["PÁTRIA EDIFÍCIOS CORPORATIVOS FII - PATC11","PATC11","","","",4.1284788400000001E-2,4.4039530569999999E-2]
["PÁTRIA LOGÍSTICA FII - PATL11","PATL11","","","","",""]
["PLURAL RECEBÍVEIS IMOBILIÁRIOS FII - PLCR11","PLCR11","","","","",8.1518824409999996E-2]
["POLO RECEBÍVEIS IMOBILIÁRIOS II FII - PORD11","PORD11",0.14054054050000001,8.9731003340000004E-2,0.10808210679999999,0.11658370699999999,9.9063841860000001E-2]
["QUASAR AGRO FII - QAGR11","QAGR11","","","","",5.1057403750000001E-2]
["RB CAPITAL I FUNDO DE FUNDOS FII - RFOF11","RFOF11","","","","",7.9844679040000005E-2]
["RB CAPITAL RENDA II FII - RBRD11","RBRD11",9.9562650599999997E-2,0.1044557117,8.8924144770000005E-2,9.3378552330000003E-2,0.31620495869999998]
["RBR ALPHA MULTIESTRATÉGIA REAL ESTATE FII - RBRF11","RBRF11","","",8.7246341869999994E-2,8.115856833E-2,9.3652413549999994E-2]
["RBR PROPERTIES FII - RBRP11","RBRP11","","","",5.2947049320000002E-2,7.3580111209999993E-2]
["RBR RENDIMENTO HIGH GRADE FII - RBRR11","RBRR11","","",7.0367070039999993E-2,6.859505279E-2,7.1992871269999995E-2]
["REC RECEBÍVEIS IMOBILIÁRIOS FII - RECR11","RECR11","","",0.11434015390000001,9.0004702739999998E-2,0.1266364374]
["REC RENDA IMOBILIÁRIA FII - RECT11","RECT11","","","",9.6143156830000007E-2,0.1089382216]
["RIO BRAVO FUNDO DE FUNDOS FII - RBFF11","RBFF11",8.8973219780000001E-2,8.2760345040000002E-2,7.1376811590000006E-2,0.107869044,9.326969047E-2]
["RIO BRAVO RENDA CORPORATIVA FII - RCRB11","RCRB11",8.4475138120000001E-2,7.6716764770000001E-2,4.0526315790000003E-2,5.1920739039999997E-2,7.0863309350000001E-2]
["RIO BRAVO RENDA EDUCACIONAL FII - RBED11","RBED11",9.4674151149999997E-2,9.4098984770000005E-2,8.0437158470000006E-2,6.613054954E-2,8.5878771539999996E-2]
["RIO BRAVO RENDA VAREJO FII - RBVA11","RBVA11",7.7602078690000006E-2,8.7075471700000004E-2,6.8526402269999995E-2,7.7589059299999999E-2,9.2954979559999998E-2]
["RIO NEGRO FII - RNGO11","RNGO11",8.4740078260000004E-2,8.0520130029999998E-2,7.2808876699999997E-2,7.2033362820000002E-2,8.2821093499999998E-2]
["RIZA TERRAX FII - RZTR11","RZTR11","","","","",""]
["SANTANDER PAPÉIS IMOBILIÁRIOS CDI FII - SADI11","SADI11","","","","",2.8635294120000002E-2]
["SANTANDER RENDA DE ALUGUÉIS FII - SARE11","SARE11","","","","",4.8808473909999997E-2]
["SDI RIO BRAVO RENDA LOGÍSTICA FII - SDIL11","SDIL11",7.5977653630000003E-2,8.7469879520000002E-2,6.5307648230000001E-2,6.0498103599999999E-2,7.420752169E-2]
["SP DOWNTOWN FII - SPTW11","SPTW11",0.10574074059999999,8.954293629E-2,7.9745541289999999E-2,0.1063012295,0.19626301530000001]
["TELLUS PROPERTIES FII - TEPP11","TEPP11","","","","",7.4107142860000003E-2]
["TG ATIVO REAL FII - TGAR11","TGAR11","","",7.5880472579999997E-2,8.2417264779999999E-2,0.105432163]
["TORDESILHAS EI FII - TORD11","TORD11","","","","",0.1213774509]
["TRX REAL ESTATE FII - TRXF11","TRXF11","","","","",7.4681590519999994E-2]
["URCA PRIME RENDA FII - URPR11","URPR11","","","","",""]
["VALORA CRI ÍNDICE DE PREÇO FII - VGIP11","VGIP11","","","","",0.11481052310000001]
["VALORA RE III FII - VGIR11","VGIR11","","","",8.6174625690000006E-2,6.1338061370000002E-2]
["VBI CRI FII - CVBI11","CVBI11","","","","",0.1208712315]
["VBI LOGISTICO FII - LVBI11","LVBI11","","","",5.8956415349999999E-2,6.0638245889999998E-2]
["VBI PRIME PROPERTIES FII - PVBI11","PVBI11","","","","",""]
["VBI REITS FOF FII - RVBI11","RVBI11","","","","",8.8059701490000003E-2]
["VECTIS JUROS REAL FII - VCJR11","VCJR11","","","","",9.2388451440000005E-2]
["VINCI LOGÍSTICA FII - VILG11","VILG11","","","",5.9227800470000001E-2,6.015114806E-2]
["VINCI OFFICES FII - VINO11","VINO11","","","","",8.1428811429999998E-2]
["VINCI SHOPPING CENTERS FII - VISC11","VISC11","","",6.6582515189999997E-2,6.8075052799999994E-2,3.7616822430000002E-2]
["VOTORANTIM LOGÍSTICA FII - VTLT11","VTLT11","","",8.1482072269999997E-2,8.089469027E-2,7.8460718779999994E-2]
["XP CORPORATE MACAÉ FII - XPCM11","XPCM11",0.10575620769999999,0.10236822,9.6195121950000004E-2,0.1581858407,0.21336515510000001]
["XP CRÉDITO IMOBILIÁRIO FII - XPCI11","XPCI11","","","","",8.7064676620000003E-2]
["XP INDUSTRIAL FII - XPIN11","XPIN11","","","",5.947849509E-2,7.4049548019999994E-2]
["XP LOG FII - XPLG11","XPLG11","","",6.6920557259999999E-2,5.4590877240000002E-2,6.6211304169999999E-2]
["XP MALLS FII - XPML11","XPML11","","",5.9272658479999997E-2,4.5842425380000003E-2,3.7629426620000003E-2]
["XP PROPERTIES FII - XPPR11","XPPR11","","","","",0.1110455503]
["XP SELECTION FUNDO DE FUNDOS FII - XPSF11","XPSF11","","","","",9.5484993200000007E-2]

{"sheet":"Lista","index":7,"n_rows":97,"n_cols":7,"rows_kept":97,"cut":false,"hidden":true,"merged":[]}
[]
[null,null,null,null,"ABCP11",null,"Sim"]
[null,null,null,null,"ALZR11",null,"Não"]
[null,null,null,null,"BARI11"]
[null,null,null,null,"BBFI11B"]
[null,null,null,null,"BBPO11"]
[null,null,null,null,"BCFF11"]
[null,null,null,null,"BCIA11"]
[null,null,null,null,"BCRI11"]
[null,null,null,null,"BPFF11"]
[null,null,null,null,"BRCO11"]
[null,null,null,null,"BRCR11"]
[null,null,null,null,"BTCR11"]
[null,null,null,null,"BTLG11"]
[null,null,null,null,"BZLI11"]
[null,null,null,null,"CPFF11"]
[null,null,null,null,"CPTS11"]
[null,null,null,null,"CVBI11"]
[null,null,null,null,"DEVA11"]
[null,null,null,null,"FIGS11"]
[null,null,null,null,"FIIB11"]
[null,null,null,null,"FLMA11"]
[null,null,null,null,"GGRC11"]
[null,null,null,null,"GTWR11"]
[null,null,null,null,"HABT11"]
[null,null,null,null,"HCTR11"]
[null,null,null,null,"HFOF11"]
[null,null,null,null,"HGBS11"]
[null,null,null,null,"HGCR11"]
[null,null,null,null,"HGFF11"]
[null,null,null,null,"HGLG11"]
[null,null,null,null,"HGPO11"]
[null,null,null,null,"HGRE11"]
[null,null,null,null,"HGRU11"]
[null,null,null,null,"HSLG11"]
[null,null,null,null,"HSML11"]
[null,null,null,null,"HTMX11"]
[null,null,null,null,"IRDM11"]
[null,null,null,null,"JSRE11"]
[null,null,null,null,"KFOF11"]
[null,null,null,null,"KNCR11"]
[null,null,null,null,"KNHY11"]
[null,null,null,null,"KNIP11"]
[null,null,null,null,"KNRI11"]
[null,null,null,null,"KNSC11"]
[null,null,null,null,"LVBI11"]
[null,null,null,null,"MALL11"]
[null,null,null,null,"MCCI11"]
[null,null,null,null,"MFII11"]
[null,null,null,null,"MGFF11"]
[null,null,null,null,"MXRF11"]
[null,null,null,null,"OUJP11"]
[null,null,null,null,"OULG11"]
[null,null,null,null,"PATC11"]
[null,null,null,null,"PATL11"]
[null,null,null,null,"PLCR11"]
[null,null,null,null,"PORD11"]
[null,null,null,null,"PVBI11"]
[null,null,null,null,"QAGR11"]
[null,null,null,null,"RBED11"]
[null,null,null,null,"RBFF11"]
[null,null,null,null,"RBRD11"]
[null,null,null,null,"RBRF11"]
[null,null,null,null,"RBRP11"]
[null,null,null,null,"RBRR11"]
[null,null,null,null,"RBVA11"]
[null,null,null,null,"RCRB11"]
[null,null,null,null,"RECR11"]
[null,null,null,null,"RECT11"]
[null,null,null,null,"RFOF11"]
[null,null,null,null,"RNGO11"]
[null,null,null,null,"RVBI11"]
[null,null,null,null,"RZTR11"]
[null,null,null,null,"SADI11"]
[null,null,null,null,"SARE11"]
[null,null,null,null,"SDIL11"]
[null,null,null,null,"SPTW11"]
[null,null,null,null,"TEPP11"]
[null,null,null,null,"TGAR11"]
[null,null,null,null,"TORD11"]
[null,null,null,null,"TRXF11"]
[null,null,null,null,"URPR11"]
[null,null,null,null,"VCJR11"]
[null,null,null,null,"VGIP11"]
[null,null,null,null,"VGIR11"]
[null,null,null,null,"VILG11"]
[null,null,null,null,"VINO11"]
[null,null,null,null,"VISC11"]
[null,null,null,null,"VRTA11"]
[null,null,null,null,"VTLT11"]
[null,null,null,null,"XPCI11"]
[null,null,null,null,"XPCM11"]
[null,null,null,null,"XPIN11"]
[null,null,null,null,"XPLG11"]
[null,null,null,null,"XPML11"]
[null,null,null,null,"XPPR11"]
[null,null,null,null,"XPSF11"]